HTML-FormFu-Model-DBIC v2.03 Perl 5 v5.38.0 x86_64-linux

Status
Pass
From
Slaven Rezić
Dist
HTML-FormFu-Model-DBIC v2.03
Platform
Perl 5 v5.38.0 x86_64-linux
Date
2023-12-31 16:18:44
ID
44f76f64-a7f8-11ee-af8a-682a6e8775ea
This distribution has been tested as part of the CPAN Testers
project, supporting the Perl programming language.  See
http://wiki.cpantesters.org/ for more information or email
questions to cpan-testers-discuss@perl.org


--
Dear Carl Franks,

This is a computer-generated report for HTML-FormFu-Model-DBIC-2.03
on perl 5.38.0, created by CPAN-Reporter-1.2019.

Thank you for uploading your work to CPAN.  Congratulations!
All tests were successful.

Sections of this report:

    * Tester comments
    * Program output
    * Prerequisites
    * Environment and other context

------------------------------
TESTER COMMENTS
------------------------------

Additional comments from tester:

none provided

------------------------------
PROGRAM OUTPUT
------------------------------

Output from '/usr/bin/make test':

PERL_DL_NONLAZY=1 "/opt/perl-5.38.0/bin/perl" "-MExtUtils::Command::MM" "-MTest::Harness" "-e" "undef *Test::Harness::Switches; test_harness(0, 'blib/lib', 'blib/arch')" t/*.t t/constraints/*.t t/create/*.t t/default_values/*.t t/options_from_model/*.t t/update/*.t t/x_roundtrip/*.t
# 
# Versions for all modules listed in MYMETA.json (including optional ones):
# 
# === Configure Requires ===
# 
#     Module              Want Have
#     ------------------- ---- ----
#     ExtUtils::MakeMaker  any 7.70
# 
# === Build Requires ===
# 
#     Module              Want Have
#     ------------------- ---- ----
#     ExtUtils::MakeMaker  any 7.70
# 
# === Test Requires ===
# 
#     Module                      Want     Have
#     ------------------------ ------- --------
#     DateTime::Format::SQLite     any     0.11
#     ExtUtils::MakeMaker          any     7.70
#     File::Spec                   any     3.88
#     Locale::Maketext             any     1.33
#     SQL::Translator          0.11016     1.64
#     Test::More                  0.99 1.302198
# 
# === Test Recommends ===
# 
#     Module         Want     Have
#     ---------- -------- --------
#     CPAN::Meta 2.120900 2.150010
# 
# === Runtime Requires ===
# 
#     Module                        Want     Have
#     -------------------------- ------- --------
#     DBD::SQLite                    any     1.74
#     DBIx::Class                0.08108 0.082843
#     HTML::FormFu                  2.00     2.07
#     List::MoreUtils                any    0.430
#     MooseX::Attribute::Chained  v1.0.2    1.0.3
#     Storable                       any     3.32
#     Task::Weaken                   any     1.06
# 
t/00-report-prereqs.t ......................................... ok
DBIx::Class::Storage::DBI::insert(): Missing value for primary key column 'id' on User - perhaps you forgot to set its 'is_auto_increment' attribute during add_columns()? Treating 'id' implicitly as an autoinc, and attempting value retrieval at t/constraints/dbic_unique.t line 21
t/constraints/dbic_unique.t ................................... ok
t/constraints/dbic_unique_repeatable_id_field.t ............... ok
t/create/basic.t .............................................. ok
DBIx::Class::Storage::DBI::insert(): Missing value for primary key column 'id' on Master - perhaps you forgot to set its 'is_auto_increment' attribute during add_columns()? Treating 'id' implicitly as an autoinc, and attempting value retrieval at t/default_values/basic.t line 20
DBIx::Class::Storage::DBI::insert(): Missing value for primary key column 'id' on Master - perhaps you forgot to set its 'is_auto_increment' attribute during add_columns()? Treating 'id' implicitly as an autoinc, and attempting value retrieval at t/default_values/basic.t line 24
t/default_values/basic.t ...................................... ok
DBIx::Class::Storage::DBI::insert(): Missing value for primary key column 'id' on Master - perhaps you forgot to set its 'is_auto_increment' attribute during add_columns()? Treating 'id' implicitly as an autoinc, and attempting value retrieval at t/default_values/basic_nested.t line 20
DBIx::Class::Storage::DBI::insert(): Missing value for primary key column 'id' on Master - perhaps you forgot to set its 'is_auto_increment' attribute during add_columns()? Treating 'id' implicitly as an autoinc, and attempting value retrieval at t/default_values/basic_nested.t line 24
t/default_values/basic_nested.t ............................... ok
DBIx::Class::Storage::DBI::insert(): Missing value for primary key column 'id' on Master - perhaps you forgot to set its 'is_auto_increment' attribute during add_columns()? Treating 'id' implicitly as an autoinc, and attempting value retrieval at t/default_values/belongs_to_lookup_table.t line 20
DBIx::Class::Storage::DBI::insert(): Missing value for primary key column 'id' on Master - perhaps you forgot to set its 'is_auto_increment' attribute during add_columns()? Treating 'id' implicitly as an autoinc, and attempting value retrieval at t/default_values/belongs_to_lookup_table.t line 24
t/default_values/belongs_to_lookup_table.t .................... ok
DBIx::Class::Storage::DBI::insert(): Missing value for primary key column 'id' on Type - perhaps you forgot to set its 'is_auto_increment' attribute during add_columns()? Treating 'id' implicitly as an autoinc, and attempting value retrieval at t/default_values/belongs_to_lookup_table_combobox.t line 25
DBIx::Class::Storage::DBI::insert(): Missing value for primary key column 'id' on Type - perhaps you forgot to set its 'is_auto_increment' attribute during add_columns()? Treating 'id' implicitly as an autoinc, and attempting value retrieval at t/default_values/belongs_to_lookup_table_combobox.t line 26
DBIx::Class::Storage::DBI::insert(): Missing value for primary key column 'id' on Type - perhaps you forgot to set its 'is_auto_increment' attribute during add_columns()? Treating 'id' implicitly as an autoinc, and attempting value retrieval at t/default_values/belongs_to_lookup_table_combobox.t line 27
DBIx::Class::Storage::DBI::insert(): Missing value for primary key column 'id' on Master - perhaps you forgot to set its 'is_auto_increment' attribute during add_columns()? Treating 'id' implicitly as an autoinc, and attempting value retrieval at t/default_values/belongs_to_lookup_table_combobox.t line 32
DBIx::Class::Storage::DBI::insert(): Missing value for primary key column 'id' on Master - perhaps you forgot to set its 'is_auto_increment' attribute during add_columns()? Treating 'id' implicitly as an autoinc, and attempting value retrieval at t/default_values/belongs_to_lookup_table_combobox.t line 36
t/default_values/belongs_to_lookup_table_combobox.t ........... ok
DBIx::Class::Storage::DBI::insert(): Missing value for primary key column 'id' on User - perhaps you forgot to set its 'is_auto_increment' attribute during add_columns()? Treating 'id' implicitly as an autoinc, and attempting value retrieval at t/default_values/empty_rows_zero.t line 20
DBIx::Class::Storage::DBI::insert(): Missing value for primary key column 'id' on Address - perhaps you forgot to set its 'is_auto_increment' attribute during add_columns()? Treating 'id' implicitly as an autoinc, and attempting value retrieval at t/default_values/empty_rows_zero.t line 20
DBIx::Class::Storage::DBI::insert(): Missing value for primary key column 'id' on User - perhaps you forgot to set its 'is_auto_increment' attribute during add_columns()? Treating 'id' implicitly as an autoinc, and attempting value retrieval at t/default_values/empty_rows_zero.t line 24
DBIx::Class::Storage::DBI::insert(): Missing value for primary key column 'id' on User - perhaps you forgot to set its 'is_auto_increment' attribute during add_columns()? Treating 'id' implicitly as an autoinc, and attempting value retrieval at t/default_values/empty_rows_zero.t line 25
DBIx::Class::Storage::DBI::insert(): Missing value for primary key column 'id' on User - perhaps you forgot to set its 'is_auto_increment' attribute during add_columns()? Treating 'id' implicitly as an autoinc, and attempting value retrieval at t/default_values/empty_rows_zero.t line 29
t/default_values/empty_rows_zero.t ............................ ok
DBIx::Class::Storage::DBI::insert(): Missing value for primary key column 'id' on User - perhaps you forgot to set its 'is_auto_increment' attribute during add_columns()? Treating 'id' implicitly as an autoinc, and attempting value retrieval at t/default_values/has_many_combobox.t line 22
DBIx::Class::Storage::DBI::insert(): Missing value for primary key column 'id' on Address - perhaps you forgot to set its 'is_auto_increment' attribute during add_columns()? Treating 'id' implicitly as an autoinc, and attempting value retrieval at t/default_values/has_many_combobox.t line 25
DBIx::Class::Storage::DBI::insert(): Missing value for primary key column 'id' on User - perhaps you forgot to set its 'is_auto_increment' attribute during add_columns()? Treating 'id' implicitly as an autoinc, and attempting value retrieval at t/default_values/has_many_combobox.t line 28
DBIx::Class::Storage::DBI::insert(): Missing value for primary key column 'id' on Address - perhaps you forgot to set its 'is_auto_increment' attribute during add_columns()? Treating 'id' implicitly as an autoinc, and attempting value retrieval at t/default_values/has_many_combobox.t line 31
DBIx::Class::Storage::DBI::insert(): Missing value for primary key column 'id' on Address - perhaps you forgot to set its 'is_auto_increment' attribute during add_columns()? Treating 'id' implicitly as an autoinc, and attempting value retrieval at t/default_values/has_many_combobox.t line 34
t/default_values/has_many_combobox.t .......................... ok
DBIx::Class::Storage::DBI::insert(): Missing value for primary key column 'id' on User - perhaps you forgot to set its 'is_auto_increment' attribute during add_columns()? Treating 'id' implicitly as an autoinc, and attempting value retrieval at t/default_values/has_many_repeatable.t line 20
DBIx::Class::Storage::DBI::insert(): Missing value for primary key column 'id' on Address - perhaps you forgot to set its 'is_auto_increment' attribute during add_columns()? Treating 'id' implicitly as an autoinc, and attempting value retrieval at t/default_values/has_many_repeatable.t line 20
DBIx::Class::Storage::DBI::insert(): Missing value for primary key column 'id' on User - perhaps you forgot to set its 'is_auto_increment' attribute during add_columns()? Treating 'id' implicitly as an autoinc, and attempting value retrieval at t/default_values/has_many_repeatable.t line 24
DBIx::Class::Storage::DBI::insert(): Missing value for primary key column 'id' on User - perhaps you forgot to set its 'is_auto_increment' attribute during add_columns()? Treating 'id' implicitly as an autoinc, and attempting value retrieval at t/default_values/has_many_repeatable.t line 26
DBIx::Class::Storage::DBI::insert(): Missing value for primary key column 'id' on User - perhaps you forgot to set its 'is_auto_increment' attribute during add_columns()? Treating 'id' implicitly as an autoinc, and attempting value retrieval at t/default_values/has_many_repeatable.t line 30
DBIx::Class::Storage::DBI::insert(): Missing value for primary key column 'id' on Address - perhaps you forgot to set its 'is_auto_increment' attribute during add_columns()? Treating 'id' implicitly as an autoinc, and attempting value retrieval at t/default_values/has_many_repeatable.t line 30
t/default_values/has_many_repeatable.t ........................ ok
DBIx::Class::Storage::DBI::insert(): Missing value for primary key column 'id' on User - perhaps you forgot to set its 'is_auto_increment' attribute during add_columns()? Treating 'id' implicitly as an autoinc, and attempting value retrieval at t/default_values/has_many_repeatable_delete_true.t line 20
DBIx::Class::Storage::DBI::insert(): Missing value for primary key column 'id' on Address - perhaps you forgot to set its 'is_auto_increment' attribute during add_columns()? Treating 'id' implicitly as an autoinc, and attempting value retrieval at t/default_values/has_many_repeatable_delete_true.t line 20
t/default_values/has_many_repeatable_delete_true.t ............ ok
DBIx::Class::Storage::DBI::insert(): Missing value for primary key column 'id' on User - perhaps you forgot to set its 'is_auto_increment' attribute during add_columns()? Treating 'id' implicitly as an autoinc, and attempting value retrieval at t/default_values/has_many_repeatable_label.t line 20
DBIx::Class::Storage::DBI::insert(): Missing value for primary key column 'id' on Address - perhaps you forgot to set its 'is_auto_increment' attribute during add_columns()? Treating 'id' implicitly as an autoinc, and attempting value retrieval at t/default_values/has_many_repeatable_label.t line 20
DBIx::Class::Storage::DBI::insert(): Missing value for primary key column 'id' on User - perhaps you forgot to set its 'is_auto_increment' attribute during add_columns()? Treating 'id' implicitly as an autoinc, and attempting value retrieval at t/default_values/has_many_repeatable_label.t line 24
DBIx::Class::Storage::DBI::insert(): Missing value for primary key column 'id' on User - perhaps you forgot to set its 'is_auto_increment' attribute during add_columns()? Treating 'id' implicitly as an autoinc, and attempting value retrieval at t/default_values/has_many_repeatable_label.t line 26
DBIx::Class::Storage::DBI::insert(): Missing value for primary key column 'id' on User - perhaps you forgot to set its 'is_auto_increment' attribute during add_columns()? Treating 'id' implicitly as an autoinc, and attempting value retrieval at t/default_values/has_many_repeatable_label.t line 30
DBIx::Class::Storage::DBI::insert(): Missing value for primary key column 'id' on Address - perhaps you forgot to set its 'is_auto_increment' attribute during add_columns()? Treating 'id' implicitly as an autoinc, and attempting value retrieval at t/default_values/has_many_repeatable_label.t line 30
t/default_values/has_many_repeatable_label.t .................. ok
DBIx::Class::Storage::DBI::insert(): Missing value for primary key column 'id' on User - perhaps you forgot to set its 'is_auto_increment' attribute during add_columns()? Treating 'id' implicitly as an autoinc, and attempting value retrieval at t/default_values/has_many_repeatable_nested.t line 20
DBIx::Class::Storage::DBI::insert(): Missing value for primary key column 'id' on Address - perhaps you forgot to set its 'is_auto_increment' attribute during add_columns()? Treating 'id' implicitly as an autoinc, and attempting value retrieval at t/default_values/has_many_repeatable_nested.t line 20
DBIx::Class::Storage::DBI::insert(): Missing value for primary key column 'id' on User - perhaps you forgot to set its 'is_auto_increment' attribute during add_columns()? Treating 'id' implicitly as an autoinc, and attempting value retrieval at t/default_values/has_many_repeatable_nested.t line 24
DBIx::Class::Storage::DBI::insert(): Missing value for primary key column 'id' on User - perhaps you forgot to set its 'is_auto_increment' attribute during add_columns()? Treating 'id' implicitly as an autoinc, and attempting value retrieval at t/default_values/has_many_repeatable_nested.t line 26
DBIx::Class::Storage::DBI::insert(): Missing value for primary key column 'id' on User - perhaps you forgot to set its 'is_auto_increment' attribute during add_columns()? Treating 'id' implicitly as an autoinc, and attempting value retrieval at t/default_values/has_many_repeatable_nested.t line 30
DBIx::Class::Storage::DBI::insert(): Missing value for primary key column 'id' on Address - perhaps you forgot to set its 'is_auto_increment' attribute during add_columns()? Treating 'id' implicitly as an autoinc, and attempting value retrieval at t/default_values/has_many_repeatable_nested.t line 30
t/default_values/has_many_repeatable_nested.t ................. ok
DBIx::Class::Storage::DBI::insert(): Missing value for primary key column 'id' on User - perhaps you forgot to set its 'is_auto_increment' attribute during add_columns()? Treating 'id' implicitly as an autoinc, and attempting value retrieval at t/default_values/has_many_repeatable_new.t line 20
DBIx::Class::Storage::DBI::insert(): Missing value for primary key column 'id' on Address - perhaps you forgot to set its 'is_auto_increment' attribute during add_columns()? Treating 'id' implicitly as an autoinc, and attempting value retrieval at t/default_values/has_many_repeatable_new.t line 20
DBIx::Class::Storage::DBI::insert(): Missing value for primary key column 'id' on User - perhaps you forgot to set its 'is_auto_increment' attribute during add_columns()? Treating 'id' implicitly as an autoinc, and attempting value retrieval at t/default_values/has_many_repeatable_new.t line 24
DBIx::Class::Storage::DBI::insert(): Missing value for primary key column 'id' on User - perhaps you forgot to set its 'is_auto_increment' attribute during add_columns()? Treating 'id' implicitly as an autoinc, and attempting value retrieval at t/default_values/has_many_repeatable_new.t line 25
DBIx::Class::Storage::DBI::insert(): Missing value for primary key column 'id' on User - perhaps you forgot to set its 'is_auto_increment' attribute during add_columns()? Treating 'id' implicitly as an autoinc, and attempting value retrieval at t/default_values/has_many_repeatable_new.t line 29
DBIx::Class::Storage::DBI::insert(): Missing value for primary key column 'id' on Address - perhaps you forgot to set its 'is_auto_increment' attribute during add_columns()? Treating 'id' implicitly as an autoinc, and attempting value retrieval at t/default_values/has_many_repeatable_new.t line 29
t/default_values/has_many_repeatable_new.t .................... ok
DBIx::Class::Storage::DBI::insert(): Missing value for primary key column 'id' on User - perhaps you forgot to set its 'is_auto_increment' attribute during add_columns()? Treating 'id' implicitly as an autoinc, and attempting value retrieval at t/default_values/has_many_select.t line 22
DBIx::Class::Storage::DBI::insert(): Missing value for primary key column 'id' on Address - perhaps you forgot to set its 'is_auto_increment' attribute during add_columns()? Treating 'id' implicitly as an autoinc, and attempting value retrieval at t/default_values/has_many_select.t line 25
DBIx::Class::Storage::DBI::insert(): Missing value for primary key column 'id' on User - perhaps you forgot to set its 'is_auto_increment' attribute during add_columns()? Treating 'id' implicitly as an autoinc, and attempting value retrieval at t/default_values/has_many_select.t line 28
DBIx::Class::Storage::DBI::insert(): Missing value for primary key column 'id' on Address - perhaps you forgot to set its 'is_auto_increment' attribute during add_columns()? Treating 'id' implicitly as an autoinc, and attempting value retrieval at t/default_values/has_many_select.t line 31
DBIx::Class::Storage::DBI::insert(): Missing value for primary key column 'id' on Address - perhaps you forgot to set its 'is_auto_increment' attribute during add_columns()? Treating 'id' implicitly as an autoinc, and attempting value retrieval at t/default_values/has_many_select.t line 34
t/default_values/has_many_select.t ............................ ok
DBIx::Class::Storage::DBI::insert(): Missing value for primary key column 'id' on Master - perhaps you forgot to set its 'is_auto_increment' attribute during add_columns()? Treating 'id' implicitly as an autoinc, and attempting value retrieval at t/default_values/has_one.t line 23
DBIx::Class::Storage::DBI::insert(): Missing value for primary key column 'id' on Master - perhaps you forgot to set its 'is_auto_increment' attribute during add_columns()? Treating 'id' implicitly as an autoinc, and attempting value retrieval at t/default_values/has_one.t line 27
DBIx::Class::Storage::DBI::insert(): Missing value for primary key column 'id' on User - perhaps you forgot to set its 'is_auto_increment' attribute during add_columns()? Treating 'id' implicitly as an autoinc, and attempting value retrieval at t/default_values/has_one.t line 31
DBIx::Class::Storage::DBI::insert(): Missing value for primary key column 'id' on Master - perhaps you forgot to set its 'is_auto_increment' attribute during add_columns()? Treating 'id' implicitly as an autoinc, and attempting value retrieval at t/default_values/has_one.t line 35
DBIx::Class::Storage::DBI::insert(): Missing value for primary key column 'id' on User - perhaps you forgot to set its 'is_auto_increment' attribute during add_columns()? Treating 'id' implicitly as an autoinc, and attempting value retrieval at t/default_values/has_one.t line 39
t/default_values/has_one.t .................................... ok
DBIx::Class::Storage::DBI::insert(): Missing value for primary key column 'id' on Master - perhaps you forgot to set its 'is_auto_increment' attribute during add_columns()? Treating 'id' implicitly as an autoinc, and attempting value retrieval at t/default_values/has_one_nested.t line 23
DBIx::Class::Storage::DBI::insert(): Missing value for primary key column 'id' on Master - perhaps you forgot to set its 'is_auto_increment' attribute during add_columns()? Treating 'id' implicitly as an autoinc, and attempting value retrieval at t/default_values/has_one_nested.t line 27
DBIx::Class::Storage::DBI::insert(): Missing value for primary key column 'id' on User - perhaps you forgot to set its 'is_auto_increment' attribute during add_columns()? Treating 'id' implicitly as an autoinc, and attempting value retrieval at t/default_values/has_one_nested.t line 31
DBIx::Class::Storage::DBI::insert(): Missing value for primary key column 'id' on Master - perhaps you forgot to set its 'is_auto_increment' attribute during add_columns()? Treating 'id' implicitly as an autoinc, and attempting value retrieval at t/default_values/has_one_nested.t line 35
DBIx::Class::Storage::DBI::insert(): Missing value for primary key column 'id' on User - perhaps you forgot to set its 'is_auto_increment' attribute during add_columns()? Treating 'id' implicitly as an autoinc, and attempting value retrieval at t/default_values/has_one_nested.t line 39
t/default_values/has_one_nested.t ............................. ok
DBIx::Class::Storage::DBI::insert(): Missing value for primary key column 'id' on User - perhaps you forgot to set its 'is_auto_increment' attribute during add_columns()? Treating 'id' implicitly as an autoinc, and attempting value retrieval at t/default_values/label.t line 20
DBIx::Class::Storage::DBI::insert(): Missing value for primary key column 'id' on User - perhaps you forgot to set its 'is_auto_increment' attribute during add_columns()? Treating 'id' implicitly as an autoinc, and attempting value retrieval at t/default_values/label.t line 24
t/default_values/label.t ...................................... ok
DBIx::Class::Storage::DBI::insert(): Missing value for primary key column 'id' on User - perhaps you forgot to set its 'is_auto_increment' attribute during add_columns()? Treating 'id' implicitly as an autoinc, and attempting value retrieval at t/default_values/many_to_many-has_many.t line 22
DBIx::Class::Storage::DBI::insert(): Missing value for primary key column 'id' on Band - perhaps you forgot to set its 'is_auto_increment' attribute during add_columns()? Treating 'id' implicitly as an autoinc, and attempting value retrieval at t/default_values/many_to_many-has_many.t line 25
DBIx::Class::Storage::DBI::insert(): Missing value for primary key column 'id' on Address - perhaps you forgot to set its 'is_auto_increment' attribute during add_columns()? Treating 'id' implicitly as an autoinc, and attempting value retrieval at t/default_values/many_to_many-has_many.t line 28
DBIx::Class::Storage::DBI::insert(): Missing value for primary key column 'id' on User - perhaps you forgot to set its 'is_auto_increment' attribute during add_columns()? Treating 'id' implicitly as an autoinc, and attempting value retrieval at t/default_values/many_to_many-has_many.t line 31
DBIx::Class::Storage::DBI::insert(): Missing value for primary key column 'id' on User - perhaps you forgot to set its 'is_auto_increment' attribute during add_columns()? Treating 'id' implicitly as an autoinc, and attempting value retrieval at t/default_values/many_to_many-has_many.t line 32
DBIx::Class::Storage::DBI::insert(): Missing value for primary key column 'id' on User - perhaps you forgot to set its 'is_auto_increment' attribute during add_columns()? Treating 'id' implicitly as an autoinc, and attempting value retrieval at t/default_values/many_to_many-has_many.t line 33
DBIx::Class::Storage::DBI::insert(): Missing value for primary key column 'id' on Band - perhaps you forgot to set its 'is_auto_increment' attribute during add_columns()? Treating 'id' implicitly as an autoinc, and attempting value retrieval at t/default_values/many_to_many-has_many.t line 40
DBIx::Class::Storage::DBI::insert(): Missing value for primary key column 'id' on User - perhaps you forgot to set its 'is_auto_increment' attribute during add_columns()? Treating 'id' implicitly as an autoinc, and attempting value retrieval at t/default_values/many_to_many-has_many.t line 43
DBIx::Class::Storage::DBI::insert(): Missing value for primary key column 'id' on User - perhaps you forgot to set its 'is_auto_increment' attribute during add_columns()? Treating 'id' implicitly as an autoinc, and attempting value retrieval at t/default_values/many_to_many-has_many.t line 44
DBIx::Class::Storage::DBI::insert(): Missing value for primary key column 'id' on Address - perhaps you forgot to set its 'is_auto_increment' attribute during add_columns()? Treating 'id' implicitly as an autoinc, and attempting value retrieval at t/default_values/many_to_many-has_many.t line 47
DBIx::Class::Storage::DBI::insert(): Missing value for primary key column 'id' on Address - perhaps you forgot to set its 'is_auto_increment' attribute during add_columns()? Treating 'id' implicitly as an autoinc, and attempting value retrieval at t/default_values/many_to_many-has_many.t line 48
DBIx::Class::Storage::DBI::insert(): Missing value for primary key column 'id' on Address - perhaps you forgot to set its 'is_auto_increment' attribute during add_columns()? Treating 'id' implicitly as an autoinc, and attempting value retrieval at t/default_values/many_to_many-has_many.t line 51
t/default_values/many_to_many-has_many.t ...................... ok
DBIx::Class::Storage::DBI::insert(): Missing value for primary key column 'id' on User - perhaps you forgot to set its 'is_auto_increment' attribute during add_columns()? Treating 'id' implicitly as an autoinc, and attempting value retrieval at t/default_values/many_to_many_checkboxgroup.t line 21
DBIx::Class::Storage::DBI::insert(): Missing value for primary key column 'id' on User - perhaps you forgot to set its 'is_auto_increment' attribute during add_columns()? Treating 'id' implicitly as an autoinc, and attempting value retrieval at t/default_values/many_to_many_checkboxgroup.t line 23
DBIx::Class::Storage::DBI::insert(): Missing value for primary key column 'id' on User - perhaps you forgot to set its 'is_auto_increment' attribute during add_columns()? Treating 'id' implicitly as an autoinc, and attempting value retrieval at t/default_values/many_to_many_checkboxgroup.t line 25
DBIx::Class::Storage::DBI::insert(): Missing value for primary key column 'id' on Band - perhaps you forgot to set its 'is_auto_increment' attribute during add_columns()? Treating 'id' implicitly as an autoinc, and attempting value retrieval at t/default_values/many_to_many_checkboxgroup.t line 27
DBIx::Class::Storage::DBI::insert(): Missing value for primary key column 'id' on User - perhaps you forgot to set its 'is_auto_increment' attribute during add_columns()? Treating 'id' implicitly as an autoinc, and attempting value retrieval at t/default_values/many_to_many_checkboxgroup.t line 33
DBIx::Class::Storage::DBI::insert(): Missing value for primary key column 'id' on Band - perhaps you forgot to set its 'is_auto_increment' attribute during add_columns()? Treating 'id' implicitly as an autoinc, and attempting value retrieval at t/default_values/many_to_many_checkboxgroup.t line 35
DBIx::Class::Storage::DBI::insert(): Missing value for primary key column 'id' on Band - perhaps you forgot to set its 'is_auto_increment' attribute during add_columns()? Treating 'id' implicitly as an autoinc, and attempting value retrieval at t/default_values/many_to_many_checkboxgroup.t line 37
t/default_values/many_to_many_checkboxgroup.t ................. ok
DBIx::Class::Storage::DBI::insert(): Missing value for primary key column 'id' on User - perhaps you forgot to set its 'is_auto_increment' attribute during add_columns()? Treating 'id' implicitly as an autoinc, and attempting value retrieval at t/default_values/many_to_many_repeatable.t line 21
DBIx::Class::Storage::DBI::insert(): Missing value for primary key column 'id' on Band - perhaps you forgot to set its 'is_auto_increment' attribute during add_columns()? Treating 'id' implicitly as an autoinc, and attempting value retrieval at t/default_values/many_to_many_repeatable.t line 23
DBIx::Class::Storage::DBI::insert(): Missing value for primary key column 'id' on User - perhaps you forgot to set its 'is_auto_increment' attribute during add_columns()? Treating 'id' implicitly as an autoinc, and attempting value retrieval at t/default_values/many_to_many_repeatable.t line 25
DBIx::Class::Storage::DBI::insert(): Missing value for primary key column 'id' on User - perhaps you forgot to set its 'is_auto_increment' attribute during add_columns()? Treating 'id' implicitly as an autoinc, and attempting value retrieval at t/default_values/many_to_many_repeatable.t line 27
DBIx::Class::Storage::DBI::insert(): Missing value for primary key column 'id' on User - perhaps you forgot to set its 'is_auto_increment' attribute during add_columns()? Treating 'id' implicitly as an autoinc, and attempting value retrieval at t/default_values/many_to_many_repeatable.t line 29
DBIx::Class::Storage::DBI::insert(): Missing value for primary key column 'id' on User - perhaps you forgot to set its 'is_auto_increment' attribute during add_columns()? Treating 'id' implicitly as an autoinc, and attempting value retrieval at t/default_values/many_to_many_repeatable.t line 35
DBIx::Class::Storage::DBI::insert(): Missing value for primary key column 'id' on Band - perhaps you forgot to set its 'is_auto_increment' attribute during add_columns()? Treating 'id' implicitly as an autoinc, and attempting value retrieval at t/default_values/many_to_many_repeatable.t line 37
DBIx::Class::Storage::DBI::insert(): Missing value for primary key column 'id' on Band - perhaps you forgot to set its 'is_auto_increment' attribute during add_columns()? Treating 'id' implicitly as an autoinc, and attempting value retrieval at t/default_values/many_to_many_repeatable.t line 39
DBIx::Class::Storage::DBI::insert(): Missing value for primary key column 'id' on Band - perhaps you forgot to set its 'is_auto_increment' attribute during add_columns()? Treating 'id' implicitly as an autoinc, and attempting value retrieval at t/default_values/many_to_many_repeatable.t line 41
t/default_values/many_to_many_repeatable.t .................... ok
DBIx::Class::Storage::DBI::insert(): Missing value for primary key column 'id' on User - perhaps you forgot to set its 'is_auto_increment' attribute during add_columns()? Treating 'id' implicitly as an autoinc, and attempting value retrieval at t/default_values/many_to_many_repeatable_nested.t line 22
DBIx::Class::Storage::DBI::insert(): Missing value for primary key column 'id' on Band - perhaps you forgot to set its 'is_auto_increment' attribute during add_columns()? Treating 'id' implicitly as an autoinc, and attempting value retrieval at t/default_values/many_to_many_repeatable_nested.t line 24
DBIx::Class::Storage::DBI::insert(): Missing value for primary key column 'id' on User - perhaps you forgot to set its 'is_auto_increment' attribute during add_columns()? Treating 'id' implicitly as an autoinc, and attempting value retrieval at t/default_values/many_to_many_repeatable_nested.t line 26
DBIx::Class::Storage::DBI::insert(): Missing value for primary key column 'id' on User - perhaps you forgot to set its 'is_auto_increment' attribute during add_columns()? Treating 'id' implicitly as an autoinc, and attempting value retrieval at t/default_values/many_to_many_repeatable_nested.t line 28
DBIx::Class::Storage::DBI::insert(): Missing value for primary key column 'id' on User - perhaps you forgot to set its 'is_auto_increment' attribute during add_columns()? Treating 'id' implicitly as an autoinc, and attempting value retrieval at t/default_values/many_to_many_repeatable_nested.t line 30
DBIx::Class::Storage::DBI::insert(): Missing value for primary key column 'id' on User - perhaps you forgot to set its 'is_auto_increment' attribute during add_columns()? Treating 'id' implicitly as an autoinc, and attempting value retrieval at t/default_values/many_to_many_repeatable_nested.t line 36
DBIx::Class::Storage::DBI::insert(): Missing value for primary key column 'id' on Band - perhaps you forgot to set its 'is_auto_increment' attribute during add_columns()? Treating 'id' implicitly as an autoinc, and attempting value retrieval at t/default_values/many_to_many_repeatable_nested.t line 38
DBIx::Class::Storage::DBI::insert(): Missing value for primary key column 'id' on Band - perhaps you forgot to set its 'is_auto_increment' attribute during add_columns()? Treating 'id' implicitly as an autoinc, and attempting value retrieval at t/default_values/many_to_many_repeatable_nested.t line 40
DBIx::Class::Storage::DBI::insert(): Missing value for primary key column 'id' on Band - perhaps you forgot to set its 'is_auto_increment' attribute during add_columns()? Treating 'id' implicitly as an autoinc, and attempting value retrieval at t/default_values/many_to_many_repeatable_nested.t line 42
t/default_values/many_to_many_repeatable_nested.t ............. ok
DBIx::Class::Storage::DBI::insert(): Missing value for primary key column 'id' on User - perhaps you forgot to set its 'is_auto_increment' attribute during add_columns()? Treating 'id' implicitly as an autoinc, and attempting value retrieval at t/default_values/many_to_many_repeatable_new.t line 22
DBIx::Class::Storage::DBI::insert(): Missing value for primary key column 'id' on Band - perhaps you forgot to set its 'is_auto_increment' attribute during add_columns()? Treating 'id' implicitly as an autoinc, and attempting value retrieval at t/default_values/many_to_many_repeatable_new.t line 24
DBIx::Class::Storage::DBI::insert(): Missing value for primary key column 'id' on User - perhaps you forgot to set its 'is_auto_increment' attribute during add_columns()? Treating 'id' implicitly as an autoinc, and attempting value retrieval at t/default_values/many_to_many_repeatable_new.t line 26
DBIx::Class::Storage::DBI::insert(): Missing value for primary key column 'id' on User - perhaps you forgot to set its 'is_auto_increment' attribute during add_columns()? Treating 'id' implicitly as an autoinc, and attempting value retrieval at t/default_values/many_to_many_repeatable_new.t line 27
DBIx::Class::Storage::DBI::insert(): Missing value for primary key column 'id' on User - perhaps you forgot to set its 'is_auto_increment' attribute during add_columns()? Treating 'id' implicitly as an autoinc, and attempting value retrieval at t/default_values/many_to_many_repeatable_new.t line 28
DBIx::Class::Storage::DBI::insert(): Missing value for primary key column 'id' on User - perhaps you forgot to set its 'is_auto_increment' attribute during add_columns()? Treating 'id' implicitly as an autoinc, and attempting value retrieval at t/default_values/many_to_many_repeatable_new.t line 34
DBIx::Class::Storage::DBI::insert(): Missing value for primary key column 'id' on Band - perhaps you forgot to set its 'is_auto_increment' attribute during add_columns()? Treating 'id' implicitly as an autoinc, and attempting value retrieval at t/default_values/many_to_many_repeatable_new.t line 36
DBIx::Class::Storage::DBI::insert(): Missing value for primary key column 'id' on Band - perhaps you forgot to set its 'is_auto_increment' attribute during add_columns()? Treating 'id' implicitly as an autoinc, and attempting value retrieval at t/default_values/many_to_many_repeatable_new.t line 37
DBIx::Class::Storage::DBI::insert(): Missing value for primary key column 'id' on Band - perhaps you forgot to set its 'is_auto_increment' attribute during add_columns()? Treating 'id' implicitly as an autoinc, and attempting value retrieval at t/default_values/many_to_many_repeatable_new.t line 38
t/default_values/many_to_many_repeatable_new.t ................ ok
DBIx::Class::Storage::DBI::insert(): Missing value for primary key column 'id' on User - perhaps you forgot to set its 'is_auto_increment' attribute during add_columns()? Treating 'id' implicitly as an autoinc, and attempting value retrieval at t/default_values/many_to_many_select.t line 21
DBIx::Class::Storage::DBI::insert(): Missing value for primary key column 'id' on User - perhaps you forgot to set its 'is_auto_increment' attribute during add_columns()? Treating 'id' implicitly as an autoinc, and attempting value retrieval at t/default_values/many_to_many_select.t line 23
DBIx::Class::Storage::DBI::insert(): Missing value for primary key column 'id' on User - perhaps you forgot to set its 'is_auto_increment' attribute during add_columns()? Treating 'id' implicitly as an autoinc, and attempting value retrieval at t/default_values/many_to_many_select.t line 25
DBIx::Class::Storage::DBI::insert(): Missing value for primary key column 'id' on Band - perhaps you forgot to set its 'is_auto_increment' attribute during add_columns()? Treating 'id' implicitly as an autoinc, and attempting value retrieval at t/default_values/many_to_many_select.t line 27
DBIx::Class::Storage::DBI::insert(): Missing value for primary key column 'id' on User - perhaps you forgot to set its 'is_auto_increment' attribute during add_columns()? Treating 'id' implicitly as an autoinc, and attempting value retrieval at t/default_values/many_to_many_select.t line 33
DBIx::Class::Storage::DBI::insert(): Missing value for primary key column 'id' on Band - perhaps you forgot to set its 'is_auto_increment' attribute during add_columns()? Treating 'id' implicitly as an autoinc, and attempting value retrieval at t/default_values/many_to_many_select.t line 35
DBIx::Class::Storage::DBI::insert(): Missing value for primary key column 'id' on Band - perhaps you forgot to set its 'is_auto_increment' attribute during add_columns()? Treating 'id' implicitly as an autoinc, and attempting value retrieval at t/default_values/many_to_many_select.t line 37
t/default_values/many_to_many_select.t ........................ ok
DBIx::Class::Storage::DBI::insert(): Missing value for primary key column 'id' on User - perhaps you forgot to set its 'is_auto_increment' attribute during add_columns()? Treating 'id' implicitly as an autoinc, and attempting value retrieval at t/default_values/many_to_many_select_nested.t line 21
DBIx::Class::Storage::DBI::insert(): Missing value for primary key column 'id' on User - perhaps you forgot to set its 'is_auto_increment' attribute during add_columns()? Treating 'id' implicitly as an autoinc, and attempting value retrieval at t/default_values/many_to_many_select_nested.t line 23
DBIx::Class::Storage::DBI::insert(): Missing value for primary key column 'id' on User - perhaps you forgot to set its 'is_auto_increment' attribute during add_columns()? Treating 'id' implicitly as an autoinc, and attempting value retrieval at t/default_values/many_to_many_select_nested.t line 25
DBIx::Class::Storage::DBI::insert(): Missing value for primary key column 'id' on Band - perhaps you forgot to set its 'is_auto_increment' attribute during add_columns()? Treating 'id' implicitly as an autoinc, and attempting value retrieval at t/default_values/many_to_many_select_nested.t line 27
DBIx::Class::Storage::DBI::insert(): Missing value for primary key column 'id' on User - perhaps you forgot to set its 'is_auto_increment' attribute during add_columns()? Treating 'id' implicitly as an autoinc, and attempting value retrieval at t/default_values/many_to_many_select_nested.t line 33
DBIx::Class::Storage::DBI::insert(): Missing value for primary key column 'id' on Band - perhaps you forgot to set its 'is_auto_increment' attribute during add_columns()? Treating 'id' implicitly as an autoinc, and attempting value retrieval at t/default_values/many_to_many_select_nested.t line 35
DBIx::Class::Storage::DBI::insert(): Missing value for primary key column 'id' on Band - perhaps you forgot to set its 'is_auto_increment' attribute during add_columns()? Treating 'id' implicitly as an autoinc, and attempting value retrieval at t/default_values/many_to_many_select_nested.t line 37
t/default_values/many_to_many_select_nested.t ................. ok
DBIx::Class::Storage::DBI::insert(): Missing value for primary key column 'id' on Master - perhaps you forgot to set its 'is_auto_increment' attribute during add_columns()? Treating 'id' implicitly as an autoinc, and attempting value retrieval at t/default_values/methods.t line 20
t/default_values/methods.t .................................... ok
DBIx::Class::Storage::DBI::insert(): Missing value for primary key column 'id' on Master - perhaps you forgot to set its 'is_auto_increment' attribute during add_columns()? Treating 'id' implicitly as an autoinc, and attempting value retrieval at t/default_values/might_have.t line 24
DBIx::Class::Storage::DBI::insert(): Missing value for primary key column 'id' on Master - perhaps you forgot to set its 'is_auto_increment' attribute during add_columns()? Treating 'id' implicitly as an autoinc, and attempting value retrieval at t/default_values/might_have.t line 28
DBIx::Class::Storage::DBI::insert(): Missing value for primary key column 'id' on Note - perhaps you forgot to set its 'is_auto_increment' attribute during add_columns()? Treating 'id' implicitly as an autoinc, and attempting value retrieval at t/default_values/might_have.t line 32
DBIx::Class::Storage::DBI::insert(): Missing value for primary key column 'id' on Master - perhaps you forgot to set its 'is_auto_increment' attribute during add_columns()? Treating 'id' implicitly as an autoinc, and attempting value retrieval at t/default_values/might_have.t line 36
DBIx::Class::Storage::DBI::insert(): Missing value for primary key column 'id' on Note - perhaps you forgot to set its 'is_auto_increment' attribute during add_columns()? Treating 'id' implicitly as an autoinc, and attempting value retrieval at t/default_values/might_have.t line 40
t/default_values/might_have.t ................................. ok
DBIx::Class::Storage::DBI::insert(): Missing value for primary key column 'id' on Master - perhaps you forgot to set its 'is_auto_increment' attribute during add_columns()? Treating 'id' implicitly as an autoinc, and attempting value retrieval at t/default_values/might_have_missing.t line 24
DBIx::Class::Storage::DBI::insert(): Missing value for primary key column 'id' on Master - perhaps you forgot to set its 'is_auto_increment' attribute during add_columns()? Treating 'id' implicitly as an autoinc, and attempting value retrieval at t/default_values/might_have_missing.t line 28
DBIx::Class::Storage::DBI::insert(): Missing value for primary key column 'id' on Note - perhaps you forgot to set its 'is_auto_increment' attribute during add_columns()? Treating 'id' implicitly as an autoinc, and attempting value retrieval at t/default_values/might_have_missing.t line 32
DBIx::Class::Storage::DBI::insert(): Missing value for primary key column 'id' on Master - perhaps you forgot to set its 'is_auto_increment' attribute during add_columns()? Treating 'id' implicitly as an autoinc, and attempting value retrieval at t/default_values/might_have_missing.t line 36
t/default_values/might_have_missing.t ......................... ok
DBIx::Class::Storage::DBI::insert(): Missing value for primary key column 'id' on User - perhaps you forgot to set its 'is_auto_increment' attribute during add_columns()? Treating 'id' implicitly as an autoinc, and attempting value retrieval at t/default_values/multi_label.t line 20
DBIx::Class::Storage::DBI::insert(): Missing value for primary key column 'id' on User - perhaps you forgot to set its 'is_auto_increment' attribute during add_columns()? Treating 'id' implicitly as an autoinc, and attempting value retrieval at t/default_values/multi_label.t line 24
t/default_values/multi_label.t ................................ ok
DBIx::Class::Storage::DBI::insert(): Missing value for primary key column 'id' on User - perhaps you forgot to set its 'is_auto_increment' attribute during add_columns()? Treating 'id' implicitly as an autoinc, and attempting value retrieval at t/default_values/nested_name_accessor.t line 20
DBIx::Class::Storage::DBI::insert(): Missing value for primary key column 'id' on User - perhaps you forgot to set its 'is_auto_increment' attribute during add_columns()? Treating 'id' implicitly as an autoinc, and attempting value retrieval at t/default_values/nested_name_accessor.t line 24
t/default_values/nested_name_accessor.t ....................... ok
DBIx::Class::Storage::DBI::insert(): Missing value for primary key column 'id' on User - perhaps you forgot to set its 'is_auto_increment' attribute during add_columns()? Treating 'id' implicitly as an autoinc, and attempting value retrieval at t/default_values/opt_accessor.t line 20
DBIx::Class::Storage::DBI::insert(): Missing value for primary key column 'id' on User - perhaps you forgot to set its 'is_auto_increment' attribute during add_columns()? Treating 'id' implicitly as an autoinc, and attempting value retrieval at t/default_values/opt_accessor.t line 24
t/default_values/opt_accessor.t ............................... ok
DBIx::Class::Storage::DBI::insert(): Missing value for primary key column 'id' on User - perhaps you forgot to set its 'is_auto_increment' attribute during add_columns()? Treating 'id' implicitly as an autoinc, and attempting value retrieval at t/default_values/opt_accessor_nested.t line 20
DBIx::Class::Storage::DBI::insert(): Missing value for primary key column 'id' on User - perhaps you forgot to set its 'is_auto_increment' attribute during add_columns()? Treating 'id' implicitly as an autoinc, and attempting value retrieval at t/default_values/opt_accessor_nested.t line 24
t/default_values/opt_accessor_nested.t ........................ ok
DBIx::Class::Storage::DBI::insert(): Missing value for primary key column 'id' on Type - perhaps you forgot to set its 'is_auto_increment' attribute during add_columns()? Treating 'id' implicitly as an autoinc, and attempting value retrieval at t/options_from_model/belongs_to.t line 24
DBIx::Class::Storage::DBI::insert(): Missing value for primary key column 'id' on Type - perhaps you forgot to set its 'is_auto_increment' attribute during add_columns()? Treating 'id' implicitly as an autoinc, and attempting value retrieval at t/options_from_model/belongs_to.t line 25
DBIx::Class::Storage::DBI::insert(): Missing value for primary key column 'id' on Type - perhaps you forgot to set its 'is_auto_increment' attribute during add_columns()? Treating 'id' implicitly as an autoinc, and attempting value retrieval at t/options_from_model/belongs_to.t line 26
DBIx::Class::Storage::DBI::insert(): Missing value for primary key column 'id' on Type2 - perhaps you forgot to set its 'is_auto_increment' attribute during add_columns()? Treating 'id' implicitly as an autoinc, and attempting value retrieval at t/options_from_model/belongs_to.t line 29
DBIx::Class::Storage::DBI::insert(): Missing value for primary key column 'id' on Type2 - perhaps you forgot to set its 'is_auto_increment' attribute during add_columns()? Treating 'id' implicitly as an autoinc, and attempting value retrieval at t/options_from_model/belongs_to.t line 30
DBIx::Class::Storage::DBI::insert(): Missing value for primary key column 'id' on Type2 - perhaps you forgot to set its 'is_auto_increment' attribute during add_columns()? Treating 'id' implicitly as an autoinc, and attempting value retrieval at t/options_from_model/belongs_to.t line 31
t/options_from_model/belongs_to.t ............................. ok
DBIx::Class::Storage::DBI::insert(): Missing value for primary key column 'id' on Type - perhaps you forgot to set its 'is_auto_increment' attribute during add_columns()? Treating 'id' implicitly as an autoinc, and attempting value retrieval at t/options_from_model/belongs_to_combobox.t line 24
DBIx::Class::Storage::DBI::insert(): Missing value for primary key column 'id' on Type - perhaps you forgot to set its 'is_auto_increment' attribute during add_columns()? Treating 'id' implicitly as an autoinc, and attempting value retrieval at t/options_from_model/belongs_to_combobox.t line 25
DBIx::Class::Storage::DBI::insert(): Missing value for primary key column 'id' on Type - perhaps you forgot to set its 'is_auto_increment' attribute during add_columns()? Treating 'id' implicitly as an autoinc, and attempting value retrieval at t/options_from_model/belongs_to_combobox.t line 26
DBIx::Class::Storage::DBI::insert(): Missing value for primary key column 'id' on Type2 - perhaps you forgot to set its 'is_auto_increment' attribute during add_columns()? Treating 'id' implicitly as an autoinc, and attempting value retrieval at t/options_from_model/belongs_to_combobox.t line 29
DBIx::Class::Storage::DBI::insert(): Missing value for primary key column 'id' on Type2 - perhaps you forgot to set its 'is_auto_increment' attribute during add_columns()? Treating 'id' implicitly as an autoinc, and attempting value retrieval at t/options_from_model/belongs_to_combobox.t line 30
DBIx::Class::Storage::DBI::insert(): Missing value for primary key column 'id' on Type2 - perhaps you forgot to set its 'is_auto_increment' attribute during add_columns()? Treating 'id' implicitly as an autoinc, and attempting value retrieval at t/options_from_model/belongs_to_combobox.t line 31
t/options_from_model/belongs_to_combobox.t .................... ok
DBIx::Class::Storage::DBI::insert(): Missing value for primary key column 'id' on Type - perhaps you forgot to set its 'is_auto_increment' attribute during add_columns()? Treating 'id' implicitly as an autoinc, and attempting value retrieval at t/options_from_model/belongs_to_config_zero.t line 24
DBIx::Class::Storage::DBI::insert(): Missing value for primary key column 'id' on Type - perhaps you forgot to set its 'is_auto_increment' attribute during add_columns()? Treating 'id' implicitly as an autoinc, and attempting value retrieval at t/options_from_model/belongs_to_config_zero.t line 25
DBIx::Class::Storage::DBI::insert(): Missing value for primary key column 'id' on Type - perhaps you forgot to set its 'is_auto_increment' attribute during add_columns()? Treating 'id' implicitly as an autoinc, and attempting value retrieval at t/options_from_model/belongs_to_config_zero.t line 26
DBIx::Class::Storage::DBI::insert(): Missing value for primary key column 'id' on Type2 - perhaps you forgot to set its 'is_auto_increment' attribute during add_columns()? Treating 'id' implicitly as an autoinc, and attempting value retrieval at t/options_from_model/belongs_to_config_zero.t line 29
DBIx::Class::Storage::DBI::insert(): Missing value for primary key column 'id' on Type2 - perhaps you forgot to set its 'is_auto_increment' attribute during add_columns()? Treating 'id' implicitly as an autoinc, and attempting value retrieval at t/options_from_model/belongs_to_config_zero.t line 30
DBIx::Class::Storage::DBI::insert(): Missing value for primary key column 'id' on Type2 - perhaps you forgot to set its 'is_auto_increment' attribute during add_columns()? Treating 'id' implicitly as an autoinc, and attempting value retrieval at t/options_from_model/belongs_to_config_zero.t line 31
t/options_from_model/belongs_to_config_zero.t ................. ok
DBIx::Class::Storage::DBI::insert(): Missing value for primary key column 'id' on Type - perhaps you forgot to set its 'is_auto_increment' attribute during add_columns()? Treating 'id' implicitly as an autoinc, and attempting value retrieval at t/options_from_model/belongs_to_config_zero_combobox.t line 24
DBIx::Class::Storage::DBI::insert(): Missing value for primary key column 'id' on Type - perhaps you forgot to set its 'is_auto_increment' attribute during add_columns()? Treating 'id' implicitly as an autoinc, and attempting value retrieval at t/options_from_model/belongs_to_config_zero_combobox.t line 25
DBIx::Class::Storage::DBI::insert(): Missing value for primary key column 'id' on Type - perhaps you forgot to set its 'is_auto_increment' attribute during add_columns()? Treating 'id' implicitly as an autoinc, and attempting value retrieval at t/options_from_model/belongs_to_config_zero_combobox.t line 26
DBIx::Class::Storage::DBI::insert(): Missing value for primary key column 'id' on Type2 - perhaps you forgot to set its 'is_auto_increment' attribute during add_columns()? Treating 'id' implicitly as an autoinc, and attempting value retrieval at t/options_from_model/belongs_to_config_zero_combobox.t line 29
DBIx::Class::Storage::DBI::insert(): Missing value for primary key column 'id' on Type2 - perhaps you forgot to set its 'is_auto_increment' attribute during add_columns()? Treating 'id' implicitly as an autoinc, and attempting value retrieval at t/options_from_model/belongs_to_config_zero_combobox.t line 30
DBIx::Class::Storage::DBI::insert(): Missing value for primary key column 'id' on Type2 - perhaps you forgot to set its 'is_auto_increment' attribute during add_columns()? Treating 'id' implicitly as an autoinc, and attempting value retrieval at t/options_from_model/belongs_to_config_zero_combobox.t line 31
t/options_from_model/belongs_to_config_zero_combobox.t ........ ok
DBIx::Class::Storage::DBI::insert(): Missing value for primary key column 'id' on Type - perhaps you forgot to set its 'is_auto_increment' attribute during add_columns()? Treating 'id' implicitly as an autoinc, and attempting value retrieval at t/options_from_model/belongs_to_localize_label.t line 23
DBIx::Class::Storage::DBI::insert(): Missing value for primary key column 'id' on Type - perhaps you forgot to set its 'is_auto_increment' attribute during add_columns()? Treating 'id' implicitly as an autoinc, and attempting value retrieval at t/options_from_model/belongs_to_localize_label.t line 24
t/options_from_model/belongs_to_localize_label.t .............. ok
DBIx::Class::Storage::DBI::insert(): Missing value for primary key column 'id' on Master - perhaps you forgot to set its 'is_auto_increment' attribute during add_columns()? Treating 'id' implicitly as an autoinc, and attempting value retrieval at t/options_from_model/condition_from_stash.t line 21
DBIx::Class::Storage::DBI::insert(): Missing value for primary key column 'id' on User - perhaps you forgot to set its 'is_auto_increment' attribute during add_columns()? Treating 'id' implicitly as an autoinc, and attempting value retrieval at t/options_from_model/condition_from_stash.t line 23
DBIx::Class::Storage::DBI::insert(): Missing value for primary key column 'id' on User - perhaps you forgot to set its 'is_auto_increment' attribute during add_columns()? Treating 'id' implicitly as an autoinc, and attempting value retrieval at t/options_from_model/condition_from_stash.t line 24
DBIx::Class::Storage::DBI::insert(): Missing value for primary key column 'id' on User - perhaps you forgot to set its 'is_auto_increment' attribute during add_columns()? Treating 'id' implicitly as an autoinc, and attempting value retrieval at t/options_from_model/condition_from_stash.t line 25
DBIx::Class::Storage::DBI::insert(): Missing value for primary key column 'id' on Master - perhaps you forgot to set its 'is_auto_increment' attribute during add_columns()? Treating 'id' implicitly as an autoinc, and attempting value retrieval at t/options_from_model/condition_from_stash.t line 29
DBIx::Class::Storage::DBI::insert(): Missing value for primary key column 'id' on User - perhaps you forgot to set its 'is_auto_increment' attribute during add_columns()? Treating 'id' implicitly as an autoinc, and attempting value retrieval at t/options_from_model/condition_from_stash.t line 31
DBIx::Class::Storage::DBI::insert(): Missing value for primary key column 'id' on User - perhaps you forgot to set its 'is_auto_increment' attribute during add_columns()? Treating 'id' implicitly as an autoinc, and attempting value retrieval at t/options_from_model/condition_from_stash.t line 32
DBIx::Class::Storage::DBI::insert(): Missing value for primary key column 'id' on User - perhaps you forgot to set its 'is_auto_increment' attribute during add_columns()? Treating 'id' implicitly as an autoinc, and attempting value retrieval at t/options_from_model/condition_from_stash.t line 33
DBIx::Class::Storage::DBI::insert(): Missing value for primary key column 'id' on User - perhaps you forgot to set its 'is_auto_increment' attribute during add_columns()? Treating 'id' implicitly as an autoinc, and attempting value retrieval at t/options_from_model/condition_from_stash.t line 34
t/options_from_model/condition_from_stash.t ................... ok
DBIx::Class::Storage::DBI::insert(): Missing value for primary key column 'id' on Master - perhaps you forgot to set its 'is_auto_increment' attribute during add_columns()? Treating 'id' implicitly as an autoinc, and attempting value retrieval at t/options_from_model/condition_from_stash_combobox.t line 21
DBIx::Class::Storage::DBI::insert(): Missing value for primary key column 'id' on User - perhaps you forgot to set its 'is_auto_increment' attribute during add_columns()? Treating 'id' implicitly as an autoinc, and attempting value retrieval at t/options_from_model/condition_from_stash_combobox.t line 23
DBIx::Class::Storage::DBI::insert(): Missing value for primary key column 'id' on User - perhaps you forgot to set its 'is_auto_increment' attribute during add_columns()? Treating 'id' implicitly as an autoinc, and attempting value retrieval at t/options_from_model/condition_from_stash_combobox.t line 24
DBIx::Class::Storage::DBI::insert(): Missing value for primary key column 'id' on User - perhaps you forgot to set its 'is_auto_increment' attribute during add_columns()? Treating 'id' implicitly as an autoinc, and attempting value retrieval at t/options_from_model/condition_from_stash_combobox.t line 25
DBIx::Class::Storage::DBI::insert(): Missing value for primary key column 'id' on Master - perhaps you forgot to set its 'is_auto_increment' attribute during add_columns()? Treating 'id' implicitly as an autoinc, and attempting value retrieval at t/options_from_model/condition_from_stash_combobox.t line 29
DBIx::Class::Storage::DBI::insert(): Missing value for primary key column 'id' on User - perhaps you forgot to set its 'is_auto_increment' attribute during add_columns()? Treating 'id' implicitly as an autoinc, and attempting value retrieval at t/options_from_model/condition_from_stash_combobox.t line 31
DBIx::Class::Storage::DBI::insert(): Missing value for primary key column 'id' on User - perhaps you forgot to set its 'is_auto_increment' attribute during add_columns()? Treating 'id' implicitly as an autoinc, and attempting value retrieval at t/options_from_model/condition_from_stash_combobox.t line 32
DBIx::Class::Storage::DBI::insert(): Missing value for primary key column 'id' on User - perhaps you forgot to set its 'is_auto_increment' attribute during add_columns()? Treating 'id' implicitly as an autoinc, and attempting value retrieval at t/options_from_model/condition_from_stash_combobox.t line 33
DBIx::Class::Storage::DBI::insert(): Missing value for primary key column 'id' on User - perhaps you forgot to set its 'is_auto_increment' attribute during add_columns()? Treating 'id' implicitly as an autoinc, and attempting value retrieval at t/options_from_model/condition_from_stash_combobox.t line 34
t/options_from_model/condition_from_stash_combobox.t .......... ok
DBIx::Class::Storage::DBI::insert(): Missing value for primary key column 'id' on Master - perhaps you forgot to set its 'is_auto_increment' attribute during add_columns()? Treating 'id' implicitly as an autoinc, and attempting value retrieval at t/options_from_model/condition_from_stash_combobox_complex.t line 21
DBIx::Class::Storage::DBI::insert(): Missing value for primary key column 'id' on User - perhaps you forgot to set its 'is_auto_increment' attribute during add_columns()? Treating 'id' implicitly as an autoinc, and attempting value retrieval at t/options_from_model/condition_from_stash_combobox_complex.t line 23
DBIx::Class::Storage::DBI::insert(): Missing value for primary key column 'id' on User - perhaps you forgot to set its 'is_auto_increment' attribute during add_columns()? Treating 'id' implicitly as an autoinc, and attempting value retrieval at t/options_from_model/condition_from_stash_combobox_complex.t line 24
DBIx::Class::Storage::DBI::insert(): Missing value for primary key column 'id' on User - perhaps you forgot to set its 'is_auto_increment' attribute during add_columns()? Treating 'id' implicitly as an autoinc, and attempting value retrieval at t/options_from_model/condition_from_stash_combobox_complex.t line 25
DBIx::Class::Storage::DBI::insert(): Missing value for primary key column 'id' on Master - perhaps you forgot to set its 'is_auto_increment' attribute during add_columns()? Treating 'id' implicitly as an autoinc, and attempting value retrieval at t/options_from_model/condition_from_stash_combobox_complex.t line 29
DBIx::Class::Storage::DBI::insert(): Missing value for primary key column 'id' on User - perhaps you forgot to set its 'is_auto_increment' attribute during add_columns()? Treating 'id' implicitly as an autoinc, and attempting value retrieval at t/options_from_model/condition_from_stash_combobox_complex.t line 31
DBIx::Class::Storage::DBI::insert(): Missing value for primary key column 'id' on User - perhaps you forgot to set its 'is_auto_increment' attribute during add_columns()? Treating 'id' implicitly as an autoinc, and attempting value retrieval at t/options_from_model/condition_from_stash_combobox_complex.t line 32
DBIx::Class::Storage::DBI::insert(): Missing value for primary key column 'id' on User - perhaps you forgot to set its 'is_auto_increment' attribute during add_columns()? Treating 'id' implicitly as an autoinc, and attempting value retrieval at t/options_from_model/condition_from_stash_combobox_complex.t line 33
DBIx::Class::Storage::DBI::insert(): Missing value for primary key column 'id' on User - perhaps you forgot to set its 'is_auto_increment' attribute during add_columns()? Treating 'id' implicitly as an autoinc, and attempting value retrieval at t/options_from_model/condition_from_stash_combobox_complex.t line 34
t/options_from_model/condition_from_stash_combobox_complex.t .. ok
DBIx::Class::Storage::DBI::insert(): Missing value for primary key column 'id' on Master - perhaps you forgot to set its 'is_auto_increment' attribute during add_columns()? Treating 'id' implicitly as an autoinc, and attempting value retrieval at t/options_from_model/condition_from_stash_complex.t line 21
DBIx::Class::Storage::DBI::insert(): Missing value for primary key column 'id' on User - perhaps you forgot to set its 'is_auto_increment' attribute during add_columns()? Treating 'id' implicitly as an autoinc, and attempting value retrieval at t/options_from_model/condition_from_stash_complex.t line 23
DBIx::Class::Storage::DBI::insert(): Missing value for primary key column 'id' on User - perhaps you forgot to set its 'is_auto_increment' attribute during add_columns()? Treating 'id' implicitly as an autoinc, and attempting value retrieval at t/options_from_model/condition_from_stash_complex.t line 24
DBIx::Class::Storage::DBI::insert(): Missing value for primary key column 'id' on User - perhaps you forgot to set its 'is_auto_increment' attribute during add_columns()? Treating 'id' implicitly as an autoinc, and attempting value retrieval at t/options_from_model/condition_from_stash_complex.t line 25
DBIx::Class::Storage::DBI::insert(): Missing value for primary key column 'id' on Master - perhaps you forgot to set its 'is_auto_increment' attribute during add_columns()? Treating 'id' implicitly as an autoinc, and attempting value retrieval at t/options_from_model/condition_from_stash_complex.t line 29
DBIx::Class::Storage::DBI::insert(): Missing value for primary key column 'id' on User - perhaps you forgot to set its 'is_auto_increment' attribute during add_columns()? Treating 'id' implicitly as an autoinc, and attempting value retrieval at t/options_from_model/condition_from_stash_complex.t line 31
DBIx::Class::Storage::DBI::insert(): Missing value for primary key column 'id' on User - perhaps you forgot to set its 'is_auto_increment' attribute during add_columns()? Treating 'id' implicitly as an autoinc, and attempting value retrieval at t/options_from_model/condition_from_stash_complex.t line 32
DBIx::Class::Storage::DBI::insert(): Missing value for primary key column 'id' on User - perhaps you forgot to set its 'is_auto_increment' attribute during add_columns()? Treating 'id' implicitly as an autoinc, and attempting value retrieval at t/options_from_model/condition_from_stash_complex.t line 33
DBIx::Class::Storage::DBI::insert(): Missing value for primary key column 'id' on User - perhaps you forgot to set its 'is_auto_increment' attribute during add_columns()? Treating 'id' implicitly as an autoinc, and attempting value retrieval at t/options_from_model/condition_from_stash_complex.t line 34
t/options_from_model/condition_from_stash_complex.t ........... ok
DBIx::Class::Storage::DBI::insert(): Missing value for primary key column 'id' on Master - perhaps you forgot to set its 'is_auto_increment' attribute during add_columns()? Treating 'id' implicitly as an autoinc, and attempting value retrieval at t/options_from_model/condition_from_stash_expand.t line 21
DBIx::Class::Storage::DBI::insert(): Missing value for primary key column 'id' on User - perhaps you forgot to set its 'is_auto_increment' attribute during add_columns()? Treating 'id' implicitly as an autoinc, and attempting value retrieval at t/options_from_model/condition_from_stash_expand.t line 23
DBIx::Class::Storage::DBI::insert(): Missing value for primary key column 'id' on User - perhaps you forgot to set its 'is_auto_increment' attribute during add_columns()? Treating 'id' implicitly as an autoinc, and attempting value retrieval at t/options_from_model/condition_from_stash_expand.t line 24
DBIx::Class::Storage::DBI::insert(): Missing value for primary key column 'id' on User - perhaps you forgot to set its 'is_auto_increment' attribute during add_columns()? Treating 'id' implicitly as an autoinc, and attempting value retrieval at t/options_from_model/condition_from_stash_expand.t line 25
DBIx::Class::Storage::DBI::insert(): Missing value for primary key column 'id' on Master - perhaps you forgot to set its 'is_auto_increment' attribute during add_columns()? Treating 'id' implicitly as an autoinc, and attempting value retrieval at t/options_from_model/condition_from_stash_expand.t line 29
DBIx::Class::Storage::DBI::insert(): Missing value for primary key column 'id' on User - perhaps you forgot to set its 'is_auto_increment' attribute during add_columns()? Treating 'id' implicitly as an autoinc, and attempting value retrieval at t/options_from_model/condition_from_stash_expand.t line 31
DBIx::Class::Storage::DBI::insert(): Missing value for primary key column 'id' on User - perhaps you forgot to set its 'is_auto_increment' attribute during add_columns()? Treating 'id' implicitly as an autoinc, and attempting value retrieval at t/options_from_model/condition_from_stash_expand.t line 32
DBIx::Class::Storage::DBI::insert(): Missing value for primary key column 'id' on User - perhaps you forgot to set its 'is_auto_increment' attribute during add_columns()? Treating 'id' implicitly as an autoinc, and attempting value retrieval at t/options_from_model/condition_from_stash_expand.t line 33
DBIx::Class::Storage::DBI::insert(): Missing value for primary key column 'id' on User - perhaps you forgot to set its 'is_auto_increment' attribute during add_columns()? Treating 'id' implicitly as an autoinc, and attempting value retrieval at t/options_from_model/condition_from_stash_expand.t line 34
t/options_from_model/condition_from_stash_expand.t ............ ok
DBIx::Class::Storage::DBI::insert(): Missing value for primary key column 'id' on Type - perhaps you forgot to set its 'is_auto_increment' attribute during add_columns()? Treating 'id' implicitly as an autoinc, and attempting value retrieval at t/options_from_model/constraint_autoset.t line 24
DBIx::Class::Storage::DBI::insert(): Missing value for primary key column 'id' on Type - perhaps you forgot to set its 'is_auto_increment' attribute during add_columns()? Treating 'id' implicitly as an autoinc, and attempting value retrieval at t/options_from_model/constraint_autoset.t line 25
DBIx::Class::Storage::DBI::insert(): Missing value for primary key column 'id' on Type - perhaps you forgot to set its 'is_auto_increment' attribute during add_columns()? Treating 'id' implicitly as an autoinc, and attempting value retrieval at t/options_from_model/constraint_autoset.t line 26
DBIx::Class::Storage::DBI::insert(): Missing value for primary key column 'id' on Type2 - perhaps you forgot to set its 'is_auto_increment' attribute during add_columns()? Treating 'id' implicitly as an autoinc, and attempting value retrieval at t/options_from_model/constraint_autoset.t line 29
DBIx::Class::Storage::DBI::insert(): Missing value for primary key column 'id' on Type2 - perhaps you forgot to set its 'is_auto_increment' attribute during add_columns()? Treating 'id' implicitly as an autoinc, and attempting value retrieval at t/options_from_model/constraint_autoset.t line 30
DBIx::Class::Storage::DBI::insert(): Missing value for primary key column 'id' on Type2 - perhaps you forgot to set its 'is_auto_increment' attribute during add_columns()? Treating 'id' implicitly as an autoinc, and attempting value retrieval at t/options_from_model/constraint_autoset.t line 31
t/options_from_model/constraint_autoset.t ..................... ok
t/options_from_model/enum_select.t ............................ ok
DBIx::Class::Storage::DBI::insert(): Missing value for primary key column 'id' on User - perhaps you forgot to set its 'is_auto_increment' attribute during add_columns()? Treating 'id' implicitly as an autoinc, and attempting value retrieval at t/options_from_model/has_many_repeatable_select.t line 23
DBIx::Class::Storage::DBI::insert(): Missing value for primary key column 'id' on User - perhaps you forgot to set its 'is_auto_increment' attribute during add_columns()? Treating 'id' implicitly as an autoinc, and attempting value retrieval at t/options_from_model/has_many_repeatable_select.t line 24
DBIx::Class::Storage::DBI::insert(): Missing value for primary key column 'id' on Manager - perhaps you forgot to set its 'is_auto_increment' attribute during add_columns()? Treating 'id' implicitly as an autoinc, and attempting value retrieval at t/options_from_model/has_many_repeatable_select.t line 30
DBIx::Class::Storage::DBI::insert(): Missing value for primary key column 'id' on Band - perhaps you forgot to set its 'is_auto_increment' attribute during add_columns()? Treating 'id' implicitly as an autoinc, and attempting value retrieval at t/options_from_model/has_many_repeatable_select.t line 33
DBIx::Class::Storage::DBI::insert(): Missing value for primary key column 'id' on Band - perhaps you forgot to set its 'is_auto_increment' attribute during add_columns()? Treating 'id' implicitly as an autoinc, and attempting value retrieval at t/options_from_model/has_many_repeatable_select.t line 34
DBIx::Class::Storage::DBI::insert(): Missing value for primary key column 'id' on User - perhaps you forgot to set its 'is_auto_increment' attribute during add_columns()? Treating 'id' implicitly as an autoinc, and attempting value retrieval at t/options_from_model/has_many_repeatable_select.t line 37
DBIx::Class::Storage::DBI::insert(): Missing value for primary key column 'id' on User - perhaps you forgot to set its 'is_auto_increment' attribute during add_columns()? Treating 'id' implicitly as an autoinc, and attempting value retrieval at t/options_from_model/has_many_repeatable_select.t line 38
DBIx::Class::Storage::DBI::insert(): Missing value for primary key column 'id' on User - perhaps you forgot to set its 'is_auto_increment' attribute during add_columns()? Treating 'id' implicitly as an autoinc, and attempting value retrieval at t/options_from_model/has_many_repeatable_select.t line 41
t/options_from_model/has_many_repeatable_select.t ............. ok
DBIx::Class::Storage::DBI::insert(): Missing value for primary key column 'id' on User - perhaps you forgot to set its 'is_auto_increment' attribute during add_columns()? Treating 'id' implicitly as an autoinc, and attempting value retrieval at t/options_from_model/many_to_many_select.t line 30
DBIx::Class::Storage::DBI::insert(): Missing value for primary key column 'id' on Band - perhaps you forgot to set its 'is_auto_increment' attribute during add_columns()? Treating 'id' implicitly as an autoinc, and attempting value retrieval at t/options_from_model/many_to_many_select.t line 33
DBIx::Class::Storage::DBI::insert(): Missing value for primary key column 'id' on User - perhaps you forgot to set its 'is_auto_increment' attribute during add_columns()? Treating 'id' implicitly as an autoinc, and attempting value retrieval at t/options_from_model/many_to_many_select.t line 39
DBIx::Class::Storage::DBI::insert(): Missing value for primary key column 'id' on Band - perhaps you forgot to set its 'is_auto_increment' attribute during add_columns()? Treating 'id' implicitly as an autoinc, and attempting value retrieval at t/options_from_model/many_to_many_select.t line 44
DBIx::Class::Storage::DBI::insert(): Missing value for primary key column 'id' on Band - perhaps you forgot to set its 'is_auto_increment' attribute during add_columns()? Treating 'id' implicitly as an autoinc, and attempting value retrieval at t/options_from_model/many_to_many_select.t line 47
t/options_from_model/many_to_many_select.t .................... ok
DBIx::Class::Storage::DBI::insert(): Missing value for primary key column 'id' on User - perhaps you forgot to set its 'is_auto_increment' attribute during add_columns()? Treating 'id' implicitly as an autoinc, and attempting value retrieval at t/options_from_model/many_to_many_select_restricted.t line 30
DBIx::Class::Storage::DBI::insert(): Missing value for primary key column 'id' on Band - perhaps you forgot to set its 'is_auto_increment' attribute during add_columns()? Treating 'id' implicitly as an autoinc, and attempting value retrieval at t/options_from_model/many_to_many_select_restricted.t line 33
DBIx::Class::Storage::DBI::insert(): Missing value for primary key column 'id' on User - perhaps you forgot to set its 'is_auto_increment' attribute during add_columns()? Treating 'id' implicitly as an autoinc, and attempting value retrieval at t/options_from_model/many_to_many_select_restricted.t line 39
DBIx::Class::Storage::DBI::insert(): Missing value for primary key column 'id' on Band - perhaps you forgot to set its 'is_auto_increment' attribute during add_columns()? Treating 'id' implicitly as an autoinc, and attempting value retrieval at t/options_from_model/many_to_many_select_restricted.t line 44
DBIx::Class::Storage::DBI::insert(): Missing value for primary key column 'id' on Band - perhaps you forgot to set its 'is_auto_increment' attribute during add_columns()? Treating 'id' implicitly as an autoinc, and attempting value retrieval at t/options_from_model/many_to_many_select_restricted.t line 47
t/options_from_model/many_to_many_select_restricted.t ......... ok
t/update/add_valid.t .......................................... ok
DBIx::Class::Storage::DBI::insert(): Missing value for primary key column 'id' on Master - perhaps you forgot to set its 'is_auto_increment' attribute during add_columns()? Treating 'id' implicitly as an autoinc, and attempting value retrieval at /home/cpansand/.cpan/build/2023123115/HTML-FormFu-Model-DBIC-2.03-0/blib/lib/HTML/FormFu/Model/DBIC.pm line 439
t/update/basic_create.t ....................................... ok
DBIx::Class::Storage::DBI::insert(): Missing value for primary key column 'id' on Master - perhaps you forgot to set its 'is_auto_increment' attribute during add_columns()? Treating 'id' implicitly as an autoinc, and attempting value retrieval at t/update/basic_update.t line 30
t/update/basic_update.t ....................................... ok
DBIx::Class::Storage::DBI::insert(): Missing value for primary key column 'id' on Master - perhaps you forgot to set its 'is_auto_increment' attribute during add_columns()? Treating 'id' implicitly as an autoinc, and attempting value retrieval at t/update/belongs_to.t line 35
t/update/belongs_to.t ......................................... ok
DBIx::Class::Storage::DBI::insert(): Missing value for primary key column 'id' on Master - perhaps you forgot to set its 'is_auto_increment' attribute during add_columns()? Treating 'id' implicitly as an autoinc, and attempting value retrieval at t/update/belongs_to_combobox.t line 29
t/update/belongs_to_combobox.t ................................ ok
DBIx::Class::Storage::DBI::insert(): Missing value for primary key column 'id' on Band - perhaps you forgot to set its 'is_auto_increment' attribute during add_columns()? Treating 'id' implicitly as an autoinc, and attempting value retrieval at /home/cpansand/.cpan/build/2023123115/HTML-FormFu-Model-DBIC-2.03-0/blib/lib/HTML/FormFu/Model/DBIC.pm line 439
DBIx::Class::Storage::DBI::insert(): Missing value for primary key column 'id' on Manager - perhaps you forgot to set its 'is_auto_increment' attribute during add_columns()? Treating 'id' implicitly as an autoinc, and attempting value retrieval at /home/cpansand/.cpan/build/2023123115/HTML-FormFu-Model-DBIC-2.03-0/blib/lib/HTML/FormFu/Model/DBIC.pm line 439
t/update/belongs_to_create.t .................................. ok
DBIx::Class::Storage::DBI::insert(): Missing value for primary key column 'id' on Manager - perhaps you forgot to set its 'is_auto_increment' attribute during add_columns()? Treating 'id' implicitly as an autoinc, and attempting value retrieval at /home/cpansand/.cpan/build/2023123115/HTML-FormFu-Model-DBIC-2.03-0/blib/lib/HTML/FormFu/Model/DBIC.pm line 439
DBIx::Class::Storage::DBI::insert(): Missing value for primary key column 'id' on ManagedBand - perhaps you forgot to set its 'is_auto_increment' attribute during add_columns()? Treating 'id' implicitly as an autoinc, and attempting value retrieval at /home/cpansand/.cpan/build/2023123115/HTML-FormFu-Model-DBIC-2.03-0/blib/lib/HTML/FormFu/Model/DBIC.pm line 439
t/update/belongs_to_create_required.t ......................... ok
DBIx::Class::Storage::DBI::insert(): Missing value for primary key column 'id' on Type - perhaps you forgot to set its 'is_auto_increment' attribute during add_columns()? Treating 'id' implicitly as an autoinc, and attempting value retrieval at t/update/belongs_to_lookup_table_combobox.t line 29
DBIx::Class::Storage::DBI::insert(): Missing value for primary key column 'id' on Type - perhaps you forgot to set its 'is_auto_increment' attribute during add_columns()? Treating 'id' implicitly as an autoinc, and attempting value retrieval at t/update/belongs_to_lookup_table_combobox.t line 30
DBIx::Class::Storage::DBI::insert(): Missing value for primary key column 'id' on Type - perhaps you forgot to set its 'is_auto_increment' attribute during add_columns()? Treating 'id' implicitly as an autoinc, and attempting value retrieval at t/update/belongs_to_lookup_table_combobox.t line 31
DBIx::Class::Storage::DBI::insert(): Missing value for primary key column 'id' on Master - perhaps you forgot to set its 'is_auto_increment' attribute during add_columns()? Treating 'id' implicitly as an autoinc, and attempting value retrieval at t/update/belongs_to_lookup_table_combobox.t line 35
DBIx::Class::Storage::DBI::insert(): Missing value for primary key column 'id' on Type - perhaps you forgot to set its 'is_auto_increment' attribute during add_columns()? Treating 'id' implicitly as an autoinc, and attempting value retrieval at /home/cpansand/.cpan/build/2023123115/HTML-FormFu-Model-DBIC-2.03-0/blib/lib/HTML/FormFu/Model/DBIC.pm line 646
t/update/belongs_to_lookup_table_combobox.t ................... ok
DBIx::Class::Storage::DBI::insert(): Missing value for primary key column 'id' on Master - perhaps you forgot to set its 'is_auto_increment' attribute during add_columns()? Treating 'id' implicitly as an autoinc, and attempting value retrieval at t/update/belongs_to_select.t line 24
DBIx::Class::Storage::DBI::insert(): Missing value for primary key column 'id' on Note - perhaps you forgot to set its 'is_auto_increment' attribute during add_columns()? Treating 'id' implicitly as an autoinc, and attempting value retrieval at /home/cpansand/.cpan/build/2023123115/HTML-FormFu-Model-DBIC-2.03-0/blib/lib/HTML/FormFu/Model/DBIC.pm line 439
DBIx::Class::Storage::DBI::insert(): Missing value for primary key column 'id' on Master - perhaps you forgot to set its 'is_auto_increment' attribute during add_columns()? Treating 'id' implicitly as an autoinc, and attempting value retrieval at t/update/belongs_to_select.t line 51
DBIx::Class::Storage::DBI::insert(): Missing value for primary key column 'two_note_id' on TwoNote - perhaps you forgot to set its 'is_auto_increment' attribute during add_columns()? Treating 'two_note_id' implicitly as an autoinc, and attempting value retrieval at /home/cpansand/.cpan/build/2023123115/HTML-FormFu-Model-DBIC-2.03-0/blib/lib/HTML/FormFu/Model/DBIC.pm line 439
t/update/belongs_to_select.t .................................. ok
DBIx::Class::Storage::DBI::insert(): Missing value for primary key column 'id' on Master - perhaps you forgot to set its 'is_auto_increment' attribute during add_columns()? Treating 'id' implicitly as an autoinc, and attempting value retrieval at t/update/column_without_field.t line 25
t/update/column_without_field.t ............................... ok
DBIx::Class::Storage::DBI::insert(): Missing value for primary key column 'id' on User - perhaps you forgot to set its 'is_auto_increment' attribute during add_columns()? Treating 'id' implicitly as an autoinc, and attempting value retrieval at t/update/has_many_repeatable.t line 21
DBIx::Class::Storage::DBI::insert(): Missing value for primary key column 'id' on Address - perhaps you forgot to set its 'is_auto_increment' attribute during add_columns()? Treating 'id' implicitly as an autoinc, and attempting value retrieval at t/update/has_many_repeatable.t line 24
DBIx::Class::Storage::DBI::insert(): Missing value for primary key column 'id' on User - perhaps you forgot to set its 'is_auto_increment' attribute during add_columns()? Treating 'id' implicitly as an autoinc, and attempting value retrieval at t/update/has_many_repeatable.t line 30
DBIx::Class::Storage::DBI::insert(): Missing value for primary key column 'id' on Address - perhaps you forgot to set its 'is_auto_increment' attribute during add_columns()? Treating 'id' implicitly as an autoinc, and attempting value retrieval at t/update/has_many_repeatable.t line 33
DBIx::Class::Storage::DBI::insert(): Missing value for primary key column 'id' on Address - perhaps you forgot to set its 'is_auto_increment' attribute during add_columns()? Treating 'id' implicitly as an autoinc, and attempting value retrieval at t/update/has_many_repeatable.t line 36
t/update/has_many_repeatable.t ................................ ok
DBIx::Class::Storage::DBI::insert(): Missing value for primary key column 'id' on User - perhaps you forgot to set its 'is_auto_increment' attribute during add_columns()? Treating 'id' implicitly as an autoinc, and attempting value retrieval at t/update/has_many_repeatable_delete_true.t line 21
DBIx::Class::Storage::DBI::insert(): Missing value for primary key column 'id' on Address - perhaps you forgot to set its 'is_auto_increment' attribute during add_columns()? Treating 'id' implicitly as an autoinc, and attempting value retrieval at t/update/has_many_repeatable_delete_true.t line 24
DBIx::Class::Storage::DBI::insert(): Missing value for primary key column 'id' on User - perhaps you forgot to set its 'is_auto_increment' attribute during add_columns()? Treating 'id' implicitly as an autoinc, and attempting value retrieval at t/update/has_many_repeatable_delete_true.t line 29
DBIx::Class::Storage::DBI::insert(): Missing value for primary key column 'id' on Address - perhaps you forgot to set its 'is_auto_increment' attribute during add_columns()? Treating 'id' implicitly as an autoinc, and attempting value retrieval at t/update/has_many_repeatable_delete_true.t line 32
DBIx::Class::Storage::DBI::insert(): Missing value for primary key column 'id' on Address - perhaps you forgot to set its 'is_auto_increment' attribute during add_columns()? Treating 'id' implicitly as an autoinc, and attempting value retrieval at t/update/has_many_repeatable_delete_true.t line 33
DBIx::Class::Storage::DBI::insert(): Missing value for primary key column 'id' on Address - perhaps you forgot to set its 'is_auto_increment' attribute during add_columns()? Treating 'id' implicitly as an autoinc, and attempting value retrieval at t/update/has_many_repeatable_delete_true.t line 34
t/update/has_many_repeatable_delete_true.t .................... ok
DBIx::Class::Storage::DBI::insert(): Missing value for primary key column 'id' on User - perhaps you forgot to set its 'is_auto_increment' attribute during add_columns()? Treating 'id' implicitly as an autoinc, and attempting value retrieval at lib/HTML/FormFu/Model/DBIC.pm line 439
DBIx::Class::Storage::DBI::insert(): Missing value for primary key column 'id' on Address - perhaps you forgot to set its 'is_auto_increment' attribute during add_columns()? Treating 'id' implicitly as an autoinc, and attempting value retrieval at lib/HTML/FormFu/Model/DBIC.pm line 439
t/update/has_many_repeatable_many_new.t ....................... ok
DBIx::Class::Storage::DBI::insert(): Missing value for primary key column 'id' on User - perhaps you forgot to set its 'is_auto_increment' attribute during add_columns()? Treating 'id' implicitly as an autoinc, and attempting value retrieval at lib/HTML/FormFu/Model/DBIC.pm line 439
DBIx::Class::Storage::DBI::insert(): Missing value for primary key column 'id' on Address - perhaps you forgot to set its 'is_auto_increment' attribute during add_columns()? Treating 'id' implicitly as an autoinc, and attempting value retrieval at lib/HTML/FormFu/Model/DBIC.pm line 439
t/update/has_many_repeatable_many_new_exceed_max.t ............ ok
DBIx::Class::Storage::DBI::insert(): Missing value for primary key column 'id' on User - perhaps you forgot to set its 'is_auto_increment' attribute during add_columns()? Treating 'id' implicitly as an autoinc, and attempting value retrieval at t/update/has_many_repeatable_new.t line 21
DBIx::Class::Storage::DBI::insert(): Missing value for primary key column 'id' on Address - perhaps you forgot to set its 'is_auto_increment' attribute during add_columns()? Treating 'id' implicitly as an autoinc, and attempting value retrieval at t/update/has_many_repeatable_new.t line 24
DBIx::Class::Storage::DBI::insert(): Missing value for primary key column 'id' on User - perhaps you forgot to set its 'is_auto_increment' attribute during add_columns()? Treating 'id' implicitly as an autoinc, and attempting value retrieval at t/update/has_many_repeatable_new.t line 30
DBIx::Class::Storage::DBI::insert(): Missing value for primary key column 'id' on Address - perhaps you forgot to set its 'is_auto_increment' attribute during add_columns()? Treating 'id' implicitly as an autoinc, and attempting value retrieval at t/update/has_many_repeatable_new.t line 33
DBIx::Class::Storage::DBI::insert(): Missing value for primary key column 'id' on Address - perhaps you forgot to set its 'is_auto_increment' attribute during add_columns()? Treating 'id' implicitly as an autoinc, and attempting value retrieval at t/update/has_many_repeatable_new.t line 36
DBIx::Class::Storage::DBI::insert(): Missing value for primary key column 'id' on Address - perhaps you forgot to set its 'is_auto_increment' attribute during add_columns()? Treating 'id' implicitly as an autoinc, and attempting value retrieval at /home/cpansand/.cpan/build/2023123115/HTML-FormFu-Model-DBIC-2.03-0/blib/lib/HTML/FormFu/Model/DBIC.pm line 439
t/update/has_many_repeatable_new.t ............................ ok
DBIx::Class::Storage::DBI::insert(): Missing value for primary key column 'id' on Master - perhaps you forgot to set its 'is_auto_increment' attribute during add_columns()? Treating 'id' implicitly as an autoinc, and attempting value retrieval at t/update/has_many_repeatable_new_date.t line 22
DBIx::Class::Storage::DBI::insert(): Missing value for primary key column 'id' on Schedule - perhaps you forgot to set its 'is_auto_increment' attribute during add_columns()? Treating 'id' implicitly as an autoinc, and attempting value retrieval at t/update/has_many_repeatable_new_date.t line 25
DBIx::Class::Storage::DBI::insert(): Missing value for primary key column 'id' on Schedule - perhaps you forgot to set its 'is_auto_increment' attribute during add_columns()? Treating 'id' implicitly as an autoinc, and attempting value retrieval at t/update/has_many_repeatable_new_date.t line 31
DBIx::Class::Storage::DBI::insert(): Missing value for primary key column 'id' on Master - perhaps you forgot to set its 'is_auto_increment' attribute during add_columns()? Treating 'id' implicitly as an autoinc, and attempting value retrieval at t/update/has_many_repeatable_new_date.t line 40
DBIx::Class::Storage::DBI::insert(): Missing value for primary key column 'id' on Schedule - perhaps you forgot to set its 'is_auto_increment' attribute during add_columns()? Treating 'id' implicitly as an autoinc, and attempting value retrieval at t/update/has_many_repeatable_new_date.t line 43
t/update/has_many_repeatable_new_date.t ....................... ok
DBIx::Class::Storage::DBI::insert(): Missing value for primary key column 'id' on User - perhaps you forgot to set its 'is_auto_increment' attribute during add_columns()? Treating 'id' implicitly as an autoinc, and attempting value retrieval at t/update/has_many_repeatable_new_dependon.t line 27
DBIx::Class::Storage::DBI::insert(): Missing value for primary key column 'id' on Address - perhaps you forgot to set its 'is_auto_increment' attribute during add_columns()? Treating 'id' implicitly as an autoinc, and attempting value retrieval at t/update/has_many_repeatable_new_dependon.t line 30
DBIx::Class::Storage::DBI::insert(): Missing value for primary key column 'id' on User - perhaps you forgot to set its 'is_auto_increment' attribute during add_columns()? Treating 'id' implicitly as an autoinc, and attempting value retrieval at t/update/has_many_repeatable_new_dependon.t line 36
DBIx::Class::Storage::DBI::insert(): Missing value for primary key column 'id' on Address - perhaps you forgot to set its 'is_auto_increment' attribute during add_columns()? Treating 'id' implicitly as an autoinc, and attempting value retrieval at t/update/has_many_repeatable_new_dependon.t line 39
DBIx::Class::Storage::DBI::insert(): Missing value for primary key column 'id' on Address - perhaps you forgot to set its 'is_auto_increment' attribute during add_columns()? Treating 'id' implicitly as an autoinc, and attempting value retrieval at t/update/has_many_repeatable_new_dependon.t line 42
DBIx::Class::Storage::DBI::insert(): Missing value for primary key column 'id' on Address - perhaps you forgot to set its 'is_auto_increment' attribute during add_columns()? Treating 'id' implicitly as an autoinc, and attempting value retrieval at /home/cpansand/.cpan/build/2023123115/HTML-FormFu-Model-DBIC-2.03-0/blib/lib/HTML/FormFu/Model/DBIC.pm line 439
t/update/has_many_repeatable_new_dependon.t ................... ok
DBIx::Class::Storage::DBI::insert(): Missing value for primary key column 'id' on User - perhaps you forgot to set its 'is_auto_increment' attribute during add_columns()? Treating 'id' implicitly as an autoinc, and attempting value retrieval at t/update/has_many_repeatable_new_empty.t line 21
DBIx::Class::Storage::DBI::insert(): Missing value for primary key column 'id' on Address - perhaps you forgot to set its 'is_auto_increment' attribute during add_columns()? Treating 'id' implicitly as an autoinc, and attempting value retrieval at t/update/has_many_repeatable_new_empty.t line 24
DBIx::Class::Storage::DBI::insert(): Missing value for primary key column 'id' on User - perhaps you forgot to set its 'is_auto_increment' attribute during add_columns()? Treating 'id' implicitly as an autoinc, and attempting value retrieval at t/update/has_many_repeatable_new_empty.t line 30
DBIx::Class::Storage::DBI::insert(): Missing value for primary key column 'id' on Address - perhaps you forgot to set its 'is_auto_increment' attribute during add_columns()? Treating 'id' implicitly as an autoinc, and attempting value retrieval at t/update/has_many_repeatable_new_empty.t line 34
DBIx::Class::Storage::DBI::insert(): Missing value for primary key column 'id' on Address - perhaps you forgot to set its 'is_auto_increment' attribute during add_columns()? Treating 'id' implicitly as an autoinc, and attempting value retrieval at t/update/has_many_repeatable_new_empty.t line 37
t/update/has_many_repeatable_new_empty.t ...................... ok
DBIx::Class::Storage::DBI::insert(): Missing value for primary key column 'id' on User - perhaps you forgot to set its 'is_auto_increment' attribute during add_columns()? Treating 'id' implicitly as an autoinc, and attempting value retrieval at t/update/has_many_repeatable_new_implicit.t line 23
DBIx::Class::Storage::DBI::insert(): Missing value for primary key column 'id' on Address - perhaps you forgot to set its 'is_auto_increment' attribute during add_columns()? Treating 'id' implicitly as an autoinc, and attempting value retrieval at t/update/has_many_repeatable_new_implicit.t line 26
DBIx::Class::Storage::DBI::insert(): Missing value for primary key column 'id' on User - perhaps you forgot to set its 'is_auto_increment' attribute during add_columns()? Treating 'id' implicitly as an autoinc, and attempting value retrieval at t/update/has_many_repeatable_new_implicit.t line 32
DBIx::Class::Storage::DBI::insert(): Missing value for primary key column 'id' on Address - perhaps you forgot to set its 'is_auto_increment' attribute during add_columns()? Treating 'id' implicitly as an autoinc, and attempting value retrieval at t/update/has_many_repeatable_new_implicit.t line 35
DBIx::Class::Storage::DBI::insert(): Missing value for primary key column 'id' on Address - perhaps you forgot to set its 'is_auto_increment' attribute during add_columns()? Treating 'id' implicitly as an autoinc, and attempting value retrieval at t/update/has_many_repeatable_new_implicit.t line 38
DBIx::Class::Storage::DBI::insert(): Missing value for primary key column 'id' on Address - perhaps you forgot to set its 'is_auto_increment' attribute during add_columns()? Treating 'id' implicitly as an autoinc, and attempting value retrieval at /home/cpansand/.cpan/build/2023123115/HTML-FormFu-Model-DBIC-2.03-0/blib/lib/HTML/FormFu/Model/DBIC.pm line 439
t/update/has_many_repeatable_new_implicit.t ................... ok
DBIx::Class::Storage::DBI::insert(): Missing value for primary key column 'id' on User - perhaps you forgot to set its 'is_auto_increment' attribute during add_columns()? Treating 'id' implicitly as an autoinc, and attempting value retrieval at t/update/has_many_repeatable_new_required_when.t line 27
DBIx::Class::Storage::DBI::insert(): Missing value for primary key column 'id' on Address - perhaps you forgot to set its 'is_auto_increment' attribute during add_columns()? Treating 'id' implicitly as an autoinc, and attempting value retrieval at t/update/has_many_repeatable_new_required_when.t line 30
DBIx::Class::Storage::DBI::insert(): Missing value for primary key column 'id' on User - perhaps you forgot to set its 'is_auto_increment' attribute during add_columns()? Treating 'id' implicitly as an autoinc, and attempting value retrieval at t/update/has_many_repeatable_new_required_when.t line 36
DBIx::Class::Storage::DBI::insert(): Missing value for primary key column 'id' on Address - perhaps you forgot to set its 'is_auto_increment' attribute during add_columns()? Treating 'id' implicitly as an autoinc, and attempting value retrieval at t/update/has_many_repeatable_new_required_when.t line 39
DBIx::Class::Storage::DBI::insert(): Missing value for primary key column 'id' on Address - perhaps you forgot to set its 'is_auto_increment' attribute during add_columns()? Treating 'id' implicitly as an autoinc, and attempting value retrieval at t/update/has_many_repeatable_new_required_when.t line 42
DBIx::Class::Storage::DBI::insert(): Missing value for primary key column 'id' on Address - perhaps you forgot to set its 'is_auto_increment' attribute during add_columns()? Treating 'id' implicitly as an autoinc, and attempting value retrieval at /home/cpansand/.cpan/build/2023123115/HTML-FormFu-Model-DBIC-2.03-0/blib/lib/HTML/FormFu/Model/DBIC.pm line 439
t/update/has_many_repeatable_new_required_when.t .............. ok
DBIx::Class::Storage::DBI::insert(): Missing value for primary key column 'id' on Master - perhaps you forgot to set its 'is_auto_increment' attribute during add_columns()? Treating 'id' implicitly as an autoinc, and attempting value retrieval at t/update/has_one.t line 21
DBIx::Class::Storage::DBI::insert(): Missing value for primary key column 'id' on Master - perhaps you forgot to set its 'is_auto_increment' attribute during add_columns()? Treating 'id' implicitly as an autoinc, and attempting value retrieval at t/update/has_one.t line 24
DBIx::Class::Storage::DBI::insert(): Missing value for primary key column 'id' on User - perhaps you forgot to set its 'is_auto_increment' attribute during add_columns()? Treating 'id' implicitly as an autoinc, and attempting value retrieval at t/update/has_one.t line 27
DBIx::Class::Storage::DBI::insert(): Missing value for primary key column 'id' on Master - perhaps you forgot to set its 'is_auto_increment' attribute during add_columns()? Treating 'id' implicitly as an autoinc, and attempting value retrieval at t/update/has_one.t line 33
DBIx::Class::Storage::DBI::insert(): Missing value for primary key column 'id' on User - perhaps you forgot to set its 'is_auto_increment' attribute during add_columns()? Treating 'id' implicitly as an autoinc, and attempting value retrieval at t/update/has_one.t line 36
t/update/has_one.t ............................................ ok
DBIx::Class::Storage::DBI::insert(): Missing value for primary key column 'id' on Master - perhaps you forgot to set its 'is_auto_increment' attribute during add_columns()? Treating 'id' implicitly as an autoinc, and attempting value retrieval at t/update/has_one_create.t line 21
DBIx::Class::Storage::DBI::insert(): Missing value for primary key column 'id' on Master - perhaps you forgot to set its 'is_auto_increment' attribute during add_columns()? Treating 'id' implicitly as an autoinc, and attempting value retrieval at t/update/has_one_create.t line 24
DBIx::Class::Storage::DBI::insert(): Missing value for primary key column 'id' on User - perhaps you forgot to set its 'is_auto_increment' attribute during add_columns()? Treating 'id' implicitly as an autoinc, and attempting value retrieval at t/update/has_one_create.t line 27
DBIx::Class::Storage::DBI::insert(): Missing value for primary key column 'id' on Master - perhaps you forgot to set its 'is_auto_increment' attribute during add_columns()? Treating 'id' implicitly as an autoinc, and attempting value retrieval at t/update/has_one_create.t line 33
DBIx::Class::Storage::DBI::insert(): Missing value for primary key column 'id' on User - perhaps you forgot to set its 'is_auto_increment' attribute during add_columns()? Treating 'id' implicitly as an autoinc, and attempting value retrieval at /home/cpansand/.cpan/build/2023123115/HTML-FormFu-Model-DBIC-2.03-0/blib/lib/HTML/FormFu/Model/DBIC.pm line 439
t/update/has_one_create.t ..................................... ok
DBIx::Class::Storage::DBI::insert(): Missing value for primary key column 'id' on Master - perhaps you forgot to set its 'is_auto_increment' attribute during add_columns()? Treating 'id' implicitly as an autoinc, and attempting value retrieval at t/update/has_one_no_id.t line 21
DBIx::Class::Storage::DBI::insert(): Missing value for primary key column 'id' on Master - perhaps you forgot to set its 'is_auto_increment' attribute during add_columns()? Treating 'id' implicitly as an autoinc, and attempting value retrieval at t/update/has_one_no_id.t line 24
DBIx::Class::Storage::DBI::insert(): Missing value for primary key column 'id' on User - perhaps you forgot to set its 'is_auto_increment' attribute during add_columns()? Treating 'id' implicitly as an autoinc, and attempting value retrieval at t/update/has_one_no_id.t line 27
DBIx::Class::Storage::DBI::insert(): Missing value for primary key column 'id' on Master - perhaps you forgot to set its 'is_auto_increment' attribute during add_columns()? Treating 'id' implicitly as an autoinc, and attempting value retrieval at t/update/has_one_no_id.t line 33
DBIx::Class::Storage::DBI::insert(): Missing value for primary key column 'id' on User - perhaps you forgot to set its 'is_auto_increment' attribute during add_columns()? Treating 'id' implicitly as an autoinc, and attempting value retrieval at /home/cpansand/.cpan/build/2023123115/HTML-FormFu-Model-DBIC-2.03-0/blib/lib/HTML/FormFu/Model/DBIC.pm line 439
t/update/has_one_no_id.t ...................................... ok
DBIx::Class::Storage::DBI::insert(): Missing value for primary key column 'id' on Master - perhaps you forgot to set its 'is_auto_increment' attribute during add_columns()? Treating 'id' implicitly as an autoinc, and attempting value retrieval at t/update/has_one_select.t line 23
DBIx::Class::Storage::DBI::insert(): Missing value for primary key column 'id' on Master - perhaps you forgot to set its 'is_auto_increment' attribute during add_columns()? Treating 'id' implicitly as an autoinc, and attempting value retrieval at t/update/has_one_select.t line 26
DBIx::Class::Storage::DBI::insert(): Missing value for primary key column 'id' on User - perhaps you forgot to set its 'is_auto_increment' attribute during add_columns()? Treating 'id' implicitly as an autoinc, and attempting value retrieval at t/update/has_one_select.t line 29
DBIx::Class::Storage::DBI::insert(): Missing value for primary key column 'id' on Master - perhaps you forgot to set its 'is_auto_increment' attribute during add_columns()? Treating 'id' implicitly as an autoinc, and attempting value retrieval at t/update/has_one_select.t line 35
DBIx::Class::Storage::DBI::insert(): Missing value for primary key column 'id' on User - perhaps you forgot to set its 'is_auto_increment' attribute during add_columns()? Treating 'id' implicitly as an autoinc, and attempting value retrieval at t/update/has_one_select.t line 38
t/update/has_one_select.t ..................................... ok
DBIx::Class::Storage::DBI::insert(): Missing value for primary key column 'id' on User - perhaps you forgot to set its 'is_auto_increment' attribute during add_columns()? Treating 'id' implicitly as an autoinc, and attempting value retrieval at t/update/ignore_if_empty.t line 16
t/update/ignore_if_empty.t .................................... ok
DBIx::Class::Storage::DBI::insert(): Missing value for primary key column 'id' on User - perhaps you forgot to set its 'is_auto_increment' attribute during add_columns()? Treating 'id' implicitly as an autoinc, and attempting value retrieval at t/update/many_to_many-has_many.t line 23
DBIx::Class::Storage::DBI::insert(): Missing value for primary key column 'id' on Band - perhaps you forgot to set its 'is_auto_increment' attribute during add_columns()? Treating 'id' implicitly as an autoinc, and attempting value retrieval at t/update/many_to_many-has_many.t line 26
DBIx::Class::Storage::DBI::insert(): Missing value for primary key column 'id' on Address - perhaps you forgot to set its 'is_auto_increment' attribute during add_columns()? Treating 'id' implicitly as an autoinc, and attempting value retrieval at t/update/many_to_many-has_many.t line 29
DBIx::Class::Storage::DBI::insert(): Missing value for primary key column 'id' on User - perhaps you forgot to set its 'is_auto_increment' attribute during add_columns()? Treating 'id' implicitly as an autoinc, and attempting value retrieval at t/update/many_to_many-has_many.t line 32
DBIx::Class::Storage::DBI::insert(): Missing value for primary key column 'id' on User - perhaps you forgot to set its 'is_auto_increment' attribute during add_columns()? Treating 'id' implicitly as an autoinc, and attempting value retrieval at t/update/many_to_many-has_many.t line 33
DBIx::Class::Storage::DBI::insert(): Missing value for primary key column 'id' on User - perhaps you forgot to set its 'is_auto_increment' attribute during add_columns()? Treating 'id' implicitly as an autoinc, and attempting value retrieval at t/update/many_to_many-has_many.t line 34
DBIx::Class::Storage::DBI::insert(): Missing value for primary key column 'id' on Band - perhaps you forgot to set its 'is_auto_increment' attribute during add_columns()? Treating 'id' implicitly as an autoinc, and attempting value retrieval at t/update/many_to_many-has_many.t line 42
DBIx::Class::Storage::DBI::insert(): Missing value for primary key column 'id' on User - perhaps you forgot to set its 'is_auto_increment' attribute during add_columns()? Treating 'id' implicitly as an autoinc, and attempting value retrieval at t/update/many_to_many-has_many.t line 45
DBIx::Class::Storage::DBI::insert(): Missing value for primary key column 'id' on User - perhaps you forgot to set its 'is_auto_increment' attribute during add_columns()? Treating 'id' implicitly as an autoinc, and attempting value retrieval at t/update/many_to_many-has_many.t line 47
DBIx::Class::Storage::DBI::insert(): Missing value for primary key column 'id' on Address - perhaps you forgot to set its 'is_auto_increment' attribute during add_columns()? Treating 'id' implicitly as an autoinc, and attempting value retrieval at t/update/many_to_many-has_many.t line 51
DBIx::Class::Storage::DBI::insert(): Missing value for primary key column 'id' on Address - perhaps you forgot to set its 'is_auto_increment' attribute during add_columns()? Treating 'id' implicitly as an autoinc, and attempting value retrieval at t/update/many_to_many-has_many.t line 52
DBIx::Class::Storage::DBI::insert(): Missing value for primary key column 'id' on Address - perhaps you forgot to set its 'is_auto_increment' attribute during add_columns()? Treating 'id' implicitly as an autoinc, and attempting value retrieval at t/update/many_to_many-has_many.t line 55
t/update/many_to_many-has_many.t .............................. ok
DBIx::Class::Storage::DBI::insert(): Missing value for primary key column 'id' on User - perhaps you forgot to set its 'is_auto_increment' attribute during add_columns()? Treating 'id' implicitly as an autoinc, and attempting value retrieval at t/update/many_to_many_checkboxgroup.t line 23
DBIx::Class::Storage::DBI::insert(): Missing value for primary key column 'id' on Band - perhaps you forgot to set its 'is_auto_increment' attribute during add_columns()? Treating 'id' implicitly as an autoinc, and attempting value retrieval at t/update/many_to_many_checkboxgroup.t line 26
DBIx::Class::Storage::DBI::insert(): Missing value for primary key column 'id' on User - perhaps you forgot to set its 'is_auto_increment' attribute during add_columns()? Treating 'id' implicitly as an autoinc, and attempting value retrieval at t/update/many_to_many_checkboxgroup.t line 32
DBIx::Class::Storage::DBI::insert(): Missing value for primary key column 'id' on Band - perhaps you forgot to set its 'is_auto_increment' attribute during add_columns()? Treating 'id' implicitly as an autoinc, and attempting value retrieval at t/update/many_to_many_checkboxgroup.t line 35
DBIx::Class::Storage::DBI::insert(): Missing value for primary key column 'id' on Band - perhaps you forgot to set its 'is_auto_increment' attribute during add_columns()? Treating 'id' implicitly as an autoinc, and attempting value retrieval at t/update/many_to_many_checkboxgroup.t line 38
t/update/many_to_many_checkboxgroup.t ......................... ok
DBIx::Class::Storage::DBI::insert(): Missing value for primary key column 'id' on User - perhaps you forgot to set its 'is_auto_increment' attribute during add_columns()? Treating 'id' implicitly as an autoinc, and attempting value retrieval at t/update/many_to_many_checkboxgroup_read_only.t line 23
DBIx::Class::Storage::DBI::insert(): Missing value for primary key column 'id' on Band - perhaps you forgot to set its 'is_auto_increment' attribute during add_columns()? Treating 'id' implicitly as an autoinc, and attempting value retrieval at t/update/many_to_many_checkboxgroup_read_only.t line 26
DBIx::Class::Storage::DBI::insert(): Missing value for primary key column 'id' on User - perhaps you forgot to set its 'is_auto_increment' attribute during add_columns()? Treating 'id' implicitly as an autoinc, and attempting value retrieval at t/update/many_to_many_checkboxgroup_read_only.t line 32
DBIx::Class::Storage::DBI::insert(): Missing value for primary key column 'id' on Band - perhaps you forgot to set its 'is_auto_increment' attribute during add_columns()? Treating 'id' implicitly as an autoinc, and attempting value retrieval at t/update/many_to_many_checkboxgroup_read_only.t line 35
DBIx::Class::Storage::DBI::insert(): Missing value for primary key column 'id' on Band - perhaps you forgot to set its 'is_auto_increment' attribute during add_columns()? Treating 'id' implicitly as an autoinc, and attempting value retrieval at t/update/many_to_many_checkboxgroup_read_only.t line 38
t/update/many_to_many_checkboxgroup_read_only.t ............... ok
DBIx::Class::Storage::DBI::insert(): Missing value for primary key column 'id' on User - perhaps you forgot to set its 'is_auto_increment' attribute during add_columns()? Treating 'id' implicitly as an autoinc, and attempting value retrieval at t/update/many_to_many_checkboxgroup_restricted.t line 30
DBIx::Class::Storage::DBI::insert(): Missing value for primary key column 'id' on Band - perhaps you forgot to set its 'is_auto_increment' attribute during add_columns()? Treating 'id' implicitly as an autoinc, and attempting value retrieval at t/update/many_to_many_checkboxgroup_restricted.t line 33
DBIx::Class::Storage::DBI::insert(): Missing value for primary key column 'id' on User - perhaps you forgot to set its 'is_auto_increment' attribute during add_columns()? Treating 'id' implicitly as an autoinc, and attempting value retrieval at t/update/many_to_many_checkboxgroup_restricted.t line 39
DBIx::Class::Storage::DBI::insert(): Missing value for primary key column 'id' on Band - perhaps you forgot to set its 'is_auto_increment' attribute during add_columns()? Treating 'id' implicitly as an autoinc, and attempting value retrieval at t/update/many_to_many_checkboxgroup_restricted.t line 44
DBIx::Class::Storage::DBI::insert(): Missing value for primary key column 'id' on Band - perhaps you forgot to set its 'is_auto_increment' attribute during add_columns()? Treating 'id' implicitly as an autoinc, and attempting value retrieval at t/update/many_to_many_checkboxgroup_restricted.t line 47
t/update/many_to_many_checkboxgroup_restricted.t .............. ok
DBIx::Class::Storage::DBI::insert(): Missing value for primary key column 'id' on User - perhaps you forgot to set its 'is_auto_increment' attribute during add_columns()? Treating 'id' implicitly as an autoinc, and attempting value retrieval at t/update/many_to_many_checkboxgroup_unselected.t line 23
DBIx::Class::Storage::DBI::insert(): Missing value for primary key column 'id' on Band - perhaps you forgot to set its 'is_auto_increment' attribute during add_columns()? Treating 'id' implicitly as an autoinc, and attempting value retrieval at t/update/many_to_many_checkboxgroup_unselected.t line 26
DBIx::Class::Storage::DBI::insert(): Missing value for primary key column 'id' on User - perhaps you forgot to set its 'is_auto_increment' attribute during add_columns()? Treating 'id' implicitly as an autoinc, and attempting value retrieval at t/update/many_to_many_checkboxgroup_unselected.t line 32
DBIx::Class::Storage::DBI::insert(): Missing value for primary key column 'id' on Band - perhaps you forgot to set its 'is_auto_increment' attribute during add_columns()? Treating 'id' implicitly as an autoinc, and attempting value retrieval at t/update/many_to_many_checkboxgroup_unselected.t line 35
DBIx::Class::Storage::DBI::insert(): Missing value for primary key column 'id' on Band - perhaps you forgot to set its 'is_auto_increment' attribute during add_columns()? Treating 'id' implicitly as an autoinc, and attempting value retrieval at t/update/many_to_many_checkboxgroup_unselected.t line 38
t/update/many_to_many_checkboxgroup_unselected.t .............. ok
DBIx::Class::Storage::DBI::insert(): Missing value for primary key column 'id' on User - perhaps you forgot to set its 'is_auto_increment' attribute during add_columns()? Treating 'id' implicitly as an autoinc, and attempting value retrieval at t/update/many_to_many_repeatable.t line 21
DBIx::Class::Storage::DBI::insert(): Missing value for primary key column 'id' on Band - perhaps you forgot to set its 'is_auto_increment' attribute during add_columns()? Treating 'id' implicitly as an autoinc, and attempting value retrieval at t/update/many_to_many_repeatable.t line 24
DBIx::Class::Storage::DBI::insert(): Missing value for primary key column 'id' on User - perhaps you forgot to set its 'is_auto_increment' attribute during add_columns()? Treating 'id' implicitly as an autoinc, and attempting value retrieval at t/update/many_to_many_repeatable.t line 30
DBIx::Class::Storage::DBI::insert(): Missing value for primary key column 'id' on Band - perhaps you forgot to set its 'is_auto_increment' attribute during add_columns()? Treating 'id' implicitly as an autoinc, and attempting value retrieval at t/update/many_to_many_repeatable.t line 33
DBIx::Class::Storage::DBI::insert(): Missing value for primary key column 'id' on Band - perhaps you forgot to set its 'is_auto_increment' attribute during add_columns()? Treating 'id' implicitly as an autoinc, and attempting value retrieval at t/update/many_to_many_repeatable.t line 34
DBIx::Class::Storage::DBI::insert(): Missing value for primary key column 'id' on Band - perhaps you forgot to set its 'is_auto_increment' attribute during add_columns()? Treating 'id' implicitly as an autoinc, and attempting value retrieval at t/update/many_to_many_repeatable.t line 35
t/update/many_to_many_repeatable.t ............................ ok
DBIx::Class::Storage::DBI::insert(): Missing value for primary key column 'id' on User - perhaps you forgot to set its 'is_auto_increment' attribute during add_columns()? Treating 'id' implicitly as an autoinc, and attempting value retrieval at t/update/many_to_many_repeatable_new.t line 21
DBIx::Class::Storage::DBI::insert(): Missing value for primary key column 'id' on Band - perhaps you forgot to set its 'is_auto_increment' attribute during add_columns()? Treating 'id' implicitly as an autoinc, and attempting value retrieval at t/update/many_to_many_repeatable_new.t line 24
DBIx::Class::Storage::DBI::insert(): Missing value for primary key column 'id' on User - perhaps you forgot to set its 'is_auto_increment' attribute during add_columns()? Treating 'id' implicitly as an autoinc, and attempting value retrieval at t/update/many_to_many_repeatable_new.t line 30
DBIx::Class::Storage::DBI::insert(): Missing value for primary key column 'id' on Band - perhaps you forgot to set its 'is_auto_increment' attribute during add_columns()? Treating 'id' implicitly as an autoinc, and attempting value retrieval at t/update/many_to_many_repeatable_new.t line 33
DBIx::Class::Storage::DBI::insert(): Missing value for primary key column 'id' on Band - perhaps you forgot to set its 'is_auto_increment' attribute during add_columns()? Treating 'id' implicitly as an autoinc, and attempting value retrieval at t/update/many_to_many_repeatable_new.t line 34
DBIx::Class::Storage::DBI::insert(): Missing value for primary key column 'id' on Band - perhaps you forgot to set its 'is_auto_increment' attribute during add_columns()? Treating 'id' implicitly as an autoinc, and attempting value retrieval at /home/cpansand/.cpan/build/2023123115/HTML-FormFu-Model-DBIC-2.03-0/blib/lib/HTML/FormFu/Model/DBIC.pm line 439
t/update/many_to_many_repeatable_new.t ........................ ok
DBIx::Class::Storage::DBI::insert(): Missing value for primary key column 'id' on User - perhaps you forgot to set its 'is_auto_increment' attribute during add_columns()? Treating 'id' implicitly as an autoinc, and attempting value retrieval at t/update/many_to_many_select.t line 23
DBIx::Class::Storage::DBI::insert(): Missing value for primary key column 'id' on Band - perhaps you forgot to set its 'is_auto_increment' attribute during add_columns()? Treating 'id' implicitly as an autoinc, and attempting value retrieval at t/update/many_to_many_select.t line 26
DBIx::Class::Storage::DBI::insert(): Missing value for primary key column 'id' on User - perhaps you forgot to set its 'is_auto_increment' attribute during add_columns()? Treating 'id' implicitly as an autoinc, and attempting value retrieval at t/update/many_to_many_select.t line 32
DBIx::Class::Storage::DBI::insert(): Missing value for primary key column 'id' on Band - perhaps you forgot to set its 'is_auto_increment' attribute during add_columns()? Treating 'id' implicitly as an autoinc, and attempting value retrieval at t/update/many_to_many_select.t line 35
DBIx::Class::Storage::DBI::insert(): Missing value for primary key column 'id' on Band - perhaps you forgot to set its 'is_auto_increment' attribute during add_columns()? Treating 'id' implicitly as an autoinc, and attempting value retrieval at t/update/many_to_many_select.t line 38
t/update/many_to_many_select.t ................................ ok
DBIx::Class::Storage::DBI::insert(): Missing value for primary key column 'id' on User - perhaps you forgot to set its 'is_auto_increment' attribute during add_columns()? Treating 'id' implicitly as an autoinc, and attempting value retrieval at t/update/many_to_many_select_unselected.t line 23
DBIx::Class::Storage::DBI::insert(): Missing value for primary key column 'id' on Band - perhaps you forgot to set its 'is_auto_increment' attribute during add_columns()? Treating 'id' implicitly as an autoinc, and attempting value retrieval at t/update/many_to_many_select_unselected.t line 26
DBIx::Class::Storage::DBI::insert(): Missing value for primary key column 'id' on User - perhaps you forgot to set its 'is_auto_increment' attribute during add_columns()? Treating 'id' implicitly as an autoinc, and attempting value retrieval at t/update/many_to_many_select_unselected.t line 32
DBIx::Class::Storage::DBI::insert(): Missing value for primary key column 'id' on Band - perhaps you forgot to set its 'is_auto_increment' attribute during add_columns()? Treating 'id' implicitly as an autoinc, and attempting value retrieval at t/update/many_to_many_select_unselected.t line 35
DBIx::Class::Storage::DBI::insert(): Missing value for primary key column 'id' on Band - perhaps you forgot to set its 'is_auto_increment' attribute during add_columns()? Treating 'id' implicitly as an autoinc, and attempting value retrieval at t/update/many_to_many_select_unselected.t line 38
t/update/many_to_many_select_unselected.t ..................... ok
DBIx::Class::Storage::DBI::insert(): Missing value for primary key column 'id' on Master - perhaps you forgot to set its 'is_auto_increment' attribute during add_columns()? Treating 'id' implicitly as an autoinc, and attempting value retrieval at /home/cpansand/.cpan/build/2023123115/HTML-FormFu-Model-DBIC-2.03-0/blib/lib/HTML/FormFu/Model/DBIC.pm line 439
t/update/methods.t ............................................ ok
DBIx::Class::Storage::DBI::insert(): Missing value for primary key column 'id' on Master - perhaps you forgot to set its 'is_auto_increment' attribute during add_columns()? Treating 'id' implicitly as an autoinc, and attempting value retrieval at t/update/might_have.t line 21
DBIx::Class::Storage::DBI::insert(): Missing value for primary key column 'id' on Master - perhaps you forgot to set its 'is_auto_increment' attribute during add_columns()? Treating 'id' implicitly as an autoinc, and attempting value retrieval at t/update/might_have.t line 24
DBIx::Class::Storage::DBI::insert(): Missing value for primary key column 'id' on Master - perhaps you forgot to set its 'is_auto_increment' attribute during add_columns()? Treating 'id' implicitly as an autoinc, and attempting value retrieval at t/update/might_have.t line 33
t/update/might_have.t ......................................... ok
DBIx::Class::Storage::DBI::insert(): Missing value for primary key column 'id' on Master - perhaps you forgot to set its 'is_auto_increment' attribute during add_columns()? Treating 'id' implicitly as an autoinc, and attempting value retrieval at t/update/might_have_create.t line 31
DBIx::Class::Storage::DBI::insert(): Missing value for primary key column 'id' on Master - perhaps you forgot to set its 'is_auto_increment' attribute during add_columns()? Treating 'id' implicitly as an autoinc, and attempting value retrieval at t/update/might_have_create.t line 35
DBIx::Class::Storage::DBI::insert(): Missing value for primary key column 'id' on Note - perhaps you forgot to set its 'is_auto_increment' attribute during add_columns()? Treating 'id' implicitly as an autoinc, and attempting value retrieval at t/update/might_have_create.t line 39
DBIx::Class::Storage::DBI::insert(): Missing value for primary key column 'id' on Master - perhaps you forgot to set its 'is_auto_increment' attribute during add_columns()? Treating 'id' implicitly as an autoinc, and attempting value retrieval at t/update/might_have_create.t line 44
DBIx::Class::Storage::DBI::insert(): Missing value for primary key column 'id' on Note - perhaps you forgot to set its 'is_auto_increment' attribute during add_columns()? Treating 'id' implicitly as an autoinc, and attempting value retrieval at /home/cpansand/.cpan/build/2023123115/HTML-FormFu-Model-DBIC-2.03-0/blib/lib/HTML/FormFu/Model/DBIC.pm line 439
t/update/might_have_create.t .................................. ok
DBIx::Class::Storage::DBI::insert(): Missing value for primary key column 'id' on Master - perhaps you forgot to set its 'is_auto_increment' attribute during add_columns()? Treating 'id' implicitly as an autoinc, and attempting value retrieval at t/update/might_have_delete_if_empty.t line 31
DBIx::Class::Storage::DBI::insert(): Missing value for primary key column 'id' on Master - perhaps you forgot to set its 'is_auto_increment' attribute during add_columns()? Treating 'id' implicitly as an autoinc, and attempting value retrieval at t/update/might_have_delete_if_empty.t line 35
DBIx::Class::Storage::DBI::insert(): Missing value for primary key column 'id' on Note - perhaps you forgot to set its 'is_auto_increment' attribute during add_columns()? Treating 'id' implicitly as an autoinc, and attempting value retrieval at t/update/might_have_delete_if_empty.t line 39
DBIx::Class::Storage::DBI::insert(): Missing value for primary key column 'id' on Master - perhaps you forgot to set its 'is_auto_increment' attribute during add_columns()? Treating 'id' implicitly as an autoinc, and attempting value retrieval at t/update/might_have_delete_if_empty.t line 44
DBIx::Class::Storage::DBI::insert(): Missing value for primary key column 'id' on Note - perhaps you forgot to set its 'is_auto_increment' attribute during add_columns()? Treating 'id' implicitly as an autoinc, and attempting value retrieval at t/update/might_have_delete_if_empty.t line 49
t/update/might_have_delete_if_empty.t ......................... ok
t/update/nested_create.t ...................................... ok
t/update/nested_create_checkbox.t ............................. ok
DBIx::Class::Storage::DBI::insert(): Missing value for primary key column 'id' on User - perhaps you forgot to set its 'is_auto_increment' attribute during add_columns()? Treating 'id' implicitly as an autoinc, and attempting value retrieval at t/update/nested_name_accessor.t line 21
DBIx::Class::Storage::DBI::insert(): Missing value for primary key column 'id' on User - perhaps you forgot to set its 'is_auto_increment' attribute during add_columns()? Treating 'id' implicitly as an autoinc, and attempting value retrieval at t/update/nested_name_accessor.t line 33
t/update/nested_name_accessor.t ............................... ok
DBIx::Class::Storage::DBI::insert(): Missing value for primary key column 'id' on Schedule - perhaps you forgot to set its 'is_auto_increment' attribute during add_columns()? Treating 'id' implicitly as an autoinc, and attempting value retrieval at t/update/nested_repeatable_write.t line 21
DBIx::Class::Storage::DBI::insert(): Missing value for primary key column 'id' on Task - perhaps you forgot to set its 'is_auto_increment' attribute during add_columns()? Treating 'id' implicitly as an autoinc, and attempting value retrieval at t/update/nested_repeatable_write.t line 25
DBIx::Class::Storage::DBI::insert(): Missing value for primary key column 'id' on Schedule - perhaps you forgot to set its 'is_auto_increment' attribute during add_columns()? Treating 'id' implicitly as an autoinc, and attempting value retrieval at t/update/nested_repeatable_write.t line 31
DBIx::Class::Storage::DBI::insert(): Missing value for primary key column 'id' on Task - perhaps you forgot to set its 'is_auto_increment' attribute during add_columns()? Treating 'id' implicitly as an autoinc, and attempting value retrieval at t/update/nested_repeatable_write.t line 35
DBIx::Class::Storage::DBI::insert(): Missing value for primary key column 'id' on Task - perhaps you forgot to set its 'is_auto_increment' attribute during add_columns()? Treating 'id' implicitly as an autoinc, and attempting value retrieval at t/update/nested_repeatable_write.t line 38
t/update/nested_repeatable_write.t ............................ ok
DBIx::Class::Storage::DBI::insert(): Missing value for primary key column 'id' on User - perhaps you forgot to set its 'is_auto_increment' attribute during add_columns()? Treating 'id' implicitly as an autoinc, and attempting value retrieval at t/update/null_if_empty.t line 16
t/update/null_if_empty.t ...................................... ok
DBIx::Class::Storage::DBI::insert(): Missing value for primary key column 'id' on User - perhaps you forgot to set its 'is_auto_increment' attribute during add_columns()? Treating 'id' implicitly as an autoinc, and attempting value retrieval at t/update/opt_accessor.t line 21
DBIx::Class::Storage::DBI::insert(): Missing value for primary key column 'id' on User - perhaps you forgot to set its 'is_auto_increment' attribute during add_columns()? Treating 'id' implicitly as an autoinc, and attempting value retrieval at t/update/opt_accessor.t line 29
t/update/opt_accessor.t ....................................... ok
DBIx::Class::Storage::DBI::insert(): Missing value for primary key column 'id' on User - perhaps you forgot to set its 'is_auto_increment' attribute during add_columns()? Treating 'id' implicitly as an autoinc, and attempting value retrieval at t/update/opt_accessor_nested.t line 21
DBIx::Class::Storage::DBI::insert(): Missing value for primary key column 'id' on User - perhaps you forgot to set its 'is_auto_increment' attribute during add_columns()? Treating 'id' implicitly as an autoinc, and attempting value retrieval at t/update/opt_accessor_nested.t line 29
t/update/opt_accessor_nested.t ................................ ok
DBIx::Class::Storage::DBI::insert(): Missing value for primary key column 'id' on Master - perhaps you forgot to set its 'is_auto_increment' attribute during add_columns()? Treating 'id' implicitly as an autoinc, and attempting value retrieval at t/update/unchecked_not_null_checkbox.t line 21
t/update/unchecked_not_null_checkbox.t ........................ ok
DBIx::Class::Storage::DBI::insert(): Missing value for primary key column 'id' on Master - perhaps you forgot to set its 'is_auto_increment' attribute during add_columns()? Treating 'id' implicitly as an autoinc, and attempting value retrieval at t/x_roundtrip/checkbox_false2true.t line 18
DBIx::Class::Storage::DBI::insert(): Missing value for primary key column 'id' on Master - perhaps you forgot to set its 'is_auto_increment' attribute during add_columns()? Treating 'id' implicitly as an autoinc, and attempting value retrieval at t/x_roundtrip/checkbox_false2true.t line 23
t/x_roundtrip/checkbox_false2true.t ........................... ok
DBIx::Class::Storage::DBI::insert(): Missing value for primary key column 'id' on Master - perhaps you forgot to set its 'is_auto_increment' attribute during add_columns()? Treating 'id' implicitly as an autoinc, and attempting value retrieval at t/x_roundtrip/checkbox_true2false.t line 18
DBIx::Class::Storage::DBI::insert(): Missing value for primary key column 'id' on Master - perhaps you forgot to set its 'is_auto_increment' attribute during add_columns()? Treating 'id' implicitly as an autoinc, and attempting value retrieval at t/x_roundtrip/checkbox_true2false.t line 23
t/x_roundtrip/checkbox_true2false.t ........................... ok
All tests successful.
Files=96, Tests=612, 166 wallclock secs ( 0.57 usr  0.16 sys + 121.10 cusr 41.06 csys = 162.89 CPU)
Result: PASS

------------------------------
PREREQUISITES
------------------------------

Prerequisite modules loaded:

requires:

    Module                     Need     Have    
    -------------------------- -------- --------
    DBD::SQLite                0        1.74    
    DBIx::Class                0.08108  0.082843
    HTML::FormFu               2.00     2.07    
    List::MoreUtils            0        0.430   
    MooseX::Attribute::Chained v1.0.2   1.0.3   
    perl                       5.008001 5.038000
    Storable                   0        3.32    
    Task::Weaken               0        1.06    

build_requires:

    Module                     Need     Have    
    -------------------------- -------- --------
    DateTime::Format::SQLite   0        0.11    
    ExtUtils::MakeMaker        0        7.70    
    File::Spec                 0        3.88    
    Locale::Maketext           0        1.33    
    SQL::Translator            0.11016  1.64    
    Test::More                 0.99     1.302198

configure_requires:

    Module                     Need     Have    
    -------------------------- -------- --------
    ExtUtils::MakeMaker        0        7.70    


------------------------------
ENVIRONMENT AND OTHER CONTEXT
------------------------------

Environment variables:

    LANG = C
    PATH = /usr/local/bin:/usr/bin:/bin:/usr/local/sbin:/usr/sbin:/sbin:/home/cpansand/bin/linux-gnu:/home/cpansand/bin/sh:/home/cpansand/bin:/usr/games:/home/cpansand/devel:/home/eserte/src/srezic-misc/scripts
    PERL5LIB = /home/cpansand/.local/share/.cpan/build/2023123115/Getopt-Compact-0.04-0/blib/arch:/home/cpansand/.local/share/.cpan/build/2023123115/Getopt-Compact-0.04-0/blib/lib:/home/cpansand/.local/share/.cpan/build/2023123115/Pod-Simple-Text-Termcap-0.01-0/blib/arch:/home/cpansand/.local/share/.cpan/build/2023123115/Pod-Simple-Text-Termcap-0.01-0/blib/lib:/home/cpansand/.local/share/.cpan/build/2023123115/DBIx-Class-TimeStamp-0.14-2/blib/arch:/home/cpansand/.local/share/.cpan/build/2023123115/DBIx-Class-TimeStamp-0.14-2/blib/lib:/home/cpansand/.local/share/.cpan/build/2023123115/Time-Warp-0.55-2/blib/arch:/home/cpansand/.local/share/.cpan/build/2023123115/Time-Warp-0.55-2/blib/lib:/home/cpansand/.local/share/.cpan/build/2023123115/DateTime-Format-MySQL-0.08-3/blib/arch:/home/cpansand/.local/share/.cpan/build/2023123115/DateTime-Format-MySQL-0.08-3/blib/lib:/home/cpansand/.local/share/.cpan/build/2023123115/DBIx-Class-DynamicDefault-0.04-2/blib/arch:/home/cpansand/.local/share/.cpan/build/2023123115/DBIx-Class-DynamicDefault-0.04-2/blib/lib:/home/cpansand/.local/share/.cpan/build/2023123115/DBICx-TestDatabase-0.05-2/blib/arch:/home/cpansand/.local/share/.cpan/build/2023123115/DBICx-TestDatabase-0.05-2/blib/lib:/home/cpansand/.local/share/.cpan/build/2023123115/DBIx-Class-EncodedColumn-0.00020-1/blib/arch:/home/cpansand/.local/share/.cpan/build/2023123115/DBIx-Class-EncodedColumn-0.00020-1/blib/lib:/home/cpansand/.local/share/.cpan/build/2023123115/Crypt-Eksblowfish-0.009-1/blib/arch:/home/cpansand/.local/share/.cpan/build/2023123115/Crypt-Eksblowfish-0.009-1/blib/lib:/home/cpansand/.local/share/.cpan/build/2023123115/Class-Mix-0.006-1/blib/arch:/home/cpansand/.local/share/.cpan/build/2023123115/Class-Mix-0.006-1/blib/lib:/home/cpansand/.local/share/.cpan/build/2023123115/Child-0.013-0/blib/arch:/home/cpansand/.local/share/.cpan/build/2023123115/Child-0.013-0/blib/lib:/home/cpansand/.local/share/.cpan/build/2023123115/CatalystX-VirtualComponents-0.00004-0/blib/arch:/home/cpansand/.local/share/.cpan/build/2023123115/CatalystX-VirtualComponents-0.00004-0/blib/lib:/home/cpansand/.local/share/.cpan/build/2023123115/Devel-InheritNamespace-0.00003-0/blib/arch:/home/cpansand/.local/share/.cpan/build/2023123115/Devel-InheritNamespace-0.00003-0/blib/lib:/home/cpansand/.local/share/.cpan/build/2023123115/CatalystX-SimpleLogin-0.21-1/blib/arch:/home/cpansand/.local/share/.cpan/build/2023123115/CatalystX-SimpleLogin-0.21-1/blib/lib:/home/cpansand/.local/share/.cpan/build/2023123115/MooseX-RelatedClassRoles-0.004-2/blib/arch:/home/cpansand/.local/share/.cpan/build/2023123115/MooseX-RelatedClassRoles-0.004-2/blib/lib:/home/cpansand/.local/share/.cpan/build/2023123115/HTML-FormHandler-0.40068-3/blib/arch:/home/cpansand/.local/share/.cpan/build/2023123115/HTML-FormHandler-0.40068-3/blib/lib:/home/cpansand/.local/share/.cpan/build/2023123115/CatalystX-InjectComponent-0.025-3/blib/arch:/home/cpansand/.local/share/.cpan/build/2023123115/CatalystX-InjectComponent-0.025-3/blib/lib:/home/cpansand/.local/share/.cpan/build/2023123115/Catalyst-ActionRole-ACL-0.07-2/blib/arch:/home/cpansand/.local/share/.cpan/build/2023123115/Catalyst-ActionRole-ACL-0.07-2/blib/lib:/home/cpansand/.local/share/.cpan/build/2023123115/Catalyst-Controller-ActionRole-0.17-3/blib/arch:/home/cpansand/.local/share/.cpan/build/2023123115/Catalyst-Controller-ActionRole-0.17-3/blib/lib:/home/cpansand/.local/share/.cpan/build/2023123115/CatalystX-AppBuilder-0.00011-0/blib/arch:/home/cpansand/.local/share/.cpan/build/2023123115/CatalystX-AppBuilder-0.00011-0/blib/lib:/home/cpansand/.local/share/.cpan/build/2023123115/Catalyst-View-TT-Alloy-0.00007-0/blib/arch:/home/cpansand/.local/share/.cpan/build/2023123115/Catalyst-View-TT-Alloy-0.00007-0/blib/lib:/home/cpansand/.local/share/.cpan/build/2023123115/Template-Alloy-1.022-0/blib/arch:/home/cpansand/.local/share/.cpan/build/2023123115/Template-Alloy-1.022-0/blib/lib:/home/cpansand/.local/share/.cpan/build/2023123115/Catalyst-View-PDF-Reuse-0.05-0/blib/arch:/home/cpansand/.local/share/.cpan/build/2023123115/Catalyst-View-PDF-Reuse-0.05-0/blib/lib:/home/cpansand/.local/share/.cpan/build/2023123115/PDF-Reuse-0.39-0/blib/arch:/home/cpansand/.local/share/.cpan/build/2023123115/PDF-Reuse-0.39-0/blib/lib:/home/cpansand/.local/share/.cpan/build/2023123115/Text-PDF-0.31-0/blib/arch:/home/cpansand/.local/share/.cpan/build/2023123115/Text-PDF-0.31-0/blib/lib:/home/cpansand/.local/share/.cpan/build/2023123115/Catalyst-View-JSON-0.37-1/blib/arch:/home/cpansand/.local/share/.cpan/build/2023123115/Catalyst-View-JSON-0.37-1/blib/lib:/home/cpansand/.local/share/.cpan/build/2023123115/Catalyst-View-Excel-Template-Plus-0.04-0/blib/arch:/home/cpansand/.local/share/.cpan/build/2023123115/Catalyst-View-Excel-Template-Plus-0.04-0/blib/lib:/home/cpansand/.local/share/.cpan/build/2023123115/Excel-Template-Plus-0.06-0/blib/arch:/home/cpansand/.local/share/.cpan/build/2023123115/Excel-Template-Plus-0.06-0/blib/lib:/home/cpansand/.local/share/.cpan/build/2023123115/MooseX-Param-0.02-0/blib/arch:/home/cpansand/.local/share/.cpan/build/2023123115/MooseX-Param-0.02-0/blib/lib:/home/cpansand/.local/share/.cpan/build/2023123115/Excel-Template-0.34-0/blib/arch:/home/cpansand/.local/share/.cpan/build/2023123115/Excel-Template-0.34-0/blib/lib:/home/cpansand/.local/share/.cpan/build/2023123115/Catalyst-View-Email-0.36-0/blib/arch:/home/cpansand/.local/share/.cpan/build/2023123115/Catalyst-View-Email-0.36-0/blib/lib:/home/cpansand/.local/share/.cpan/build/2023123115/Catalyst-View-Download-0.09-0/blib/arch:/home/cpansand/.local/share/.cpan/build/2023123115/Catalyst-View-Download-0.09-0/blib/lib:/home/cpansand/.local/share/.cpan/build/2023123115/Catalyst-Plugin-Static-Simple-0.37-2/blib/arch:/home/cpansand/.local/share/.cpan/build/2023123115/Catalyst-Plugin-Static-Simple-0.37-2/blib/lib:/home/cpansand/.local/share/.cpan/build/2023123115/Catalyst-Plugin-Session-Store-FastMmap-0.16-2/blib/arch:/home/cpansand/.local/share/.cpan/build/2023123115/Catalyst-Plugin-Session-Store-FastMmap-0.16-2/blib/lib:/home/cpansand/.local/share/.cpan/build/2023123115/Catalyst-Plugin-CustomErrorMessage-0.06-0/blib/arch:/home/cpansand/.local/share/.cpan/build/2023123115/Catalyst-Plugin-CustomErrorMessage-0.06-0/blib/lib:/home/cpansand/.local/share/.cpan/build/2023123115/Catalyst-Plugin-ConfigLoader-Environment-0.07-0/blib/arch:/home/cpansand/.local/share/.cpan/build/2023123115/Catalyst-Plugin-ConfigLoader-Environment-0.07-0/blib/lib:/home/cpansand/.local/share/.cpan/build/2023123115/Catalyst-Plugin-ConfigLoader-0.35-3/blib/arch:/home/cpansand/.local/share/.cpan/build/2023123115/Catalyst-Plugin-ConfigLoader-0.35-3/blib/lib:/home/cpansand/.local/share/.cpan/build/2023123115/Catalyst-Plugin-Cache-0.12-0/blib/arch:/home/cpansand/.local/share/.cpan/build/2023123115/Catalyst-Plugin-Cache-0.12-0/blib/lib:/home/cpansand/.local/share/.cpan/build/2023123115/Catalyst-Plugin-Authorization-ACL-0.16-0/blib/arch:/home/cpansand/.local/share/.cpan/build/2023123115/Catalyst-Plugin-Authorization-ACL-0.16-0/blib/lib:/home/cpansand/.local/share/.cpan/build/2023123115/Class-Throwable-0.13-0/blib/arch:/home/cpansand/.local/share/.cpan/build/2023123115/Class-Throwable-0.13-0/blib/lib:/home/cpansand/.local/share/.cpan/build/2023123115/Catalyst-Plugin-Authorization-Roles-0.09-0/blib/arch:/home/cpansand/.local/share/.cpan/build/2023123115/Catalyst-Plugin-Authorization-Roles-0.09-0/blib/lib:/home/cpansand/.local/share/.cpan/build/2023123115/Catalyst-Controller-HTML-FormFu-2.04-0/blib/arch:/home/cpansand/.local/share/.cpan/build/2023123115/Catalyst-Controller-HTML-FormFu-2.04-0/blib/lib:/home/cpansand/.local/share/.cpan/build/2023123115/Test-WWW-Mechanize-Catalyst-0.62-1/blib/arch:/home/cpansand/.local/share/.cpan/build/2023123115/Test-WWW-Mechanize-Catalyst-0.62-1/blib/lib:/home/cpansand/.local/share/.cpan/build/2023123115/Test-utf8-1.02-1/blib/arch:/home/cpansand/.local/share/.cpan/build/2023123115/Test-utf8-1.02-1/blib/lib:/home/cpansand/.local/share/.cpan/build/2023123115/Test-PAUSE-Permissions-0.07-0/blib/arch:/home/cpansand/.local/share/.cpan/build/2023123115/Test-PAUSE-Permissions-0.07-0/blib/lib:/home/cpansand/.local/share/.cpan/build/2023123115/Parse-LocalDistribution-0.19-0/blib/arch:/home/cpansand/.local/share/.cpan/build/2023123115/Parse-LocalDistribution-0.19-0/blib/lib:/home/cpansand/.local/share/.cpan/build/2023123115/PAUSE-Permissions-0.17-0/blib/arch:/home/cpansand/.local/share/.cpan/build/2023123115/PAUSE-Permissions-0.17-0/blib/lib:/home/cpansand/.local/share/.cpan/build/2023123115/Config-Identity-0.0019-0/blib/arch:/home/cpansand/.local/share/.cpan/build/2023123115/Config-Identity-0.0019-0/blib/lib:/home/cpansand/.local/share/.cpan/build/2023123115/Pod-Tidy-0.10-0/blib/arch:/home/cpansand/.local/share/.cpan/build/2023123115/Pod-Tidy-0.10-0/blib/lib:/home/cpansand/.local/share/.cpan/build/2023123115/Test-Cmd-1.09-0/blib/arch:/home/cpansand/.local/share/.cpan/build/2023123115/Test-Cmd-1.09-0/blib/lib:/home/cpansand/.local/share/.cpan/build/2023123115/Pod-Wrap-0.01-0/blib/arch:/home/cpansand/.local/share/.cpan/build/2023123115/Pod-Wrap-0.01-0/blib/lib:/home/cpansand/.local/share/.cpan/build/2023123115/Encode-Newlines-0.05-0/blib/arch:/home/cpansand/.local/share/.cpan/build/2023123115/Encode-Newlines-0.05-0/blib/lib:/home/cpansand/.local/share/.cpan/build/2023123115/HTML-FormFu-MultiForm-1.03-0/blib/arch:/home/cpansand/.local/share/.cpan/build/2023123115/HTML-FormFu-MultiForm-1.03-0/blib/lib:/home/cpansand/.local/share/.cpan/build/2023123115/HTML-FormFu-2.07-1/blib/arch:/home/cpansand/.local/share/.cpan/build/2023123115/HTML-FormFu-2.07-1/blib/lib:/home/cpansand/.local/share/.cpan/build/2023123115/MooseX-Attribute-Chained-1.0.3-1/blib/arch:/home/cpansand/.local/share/.cpan/build/2023123115/MooseX-Attribute-Chained-1.0.3-1/blib/lib:/home/cpansand/.local/share/.cpan/build/2023123115/HTML-Scrubber-0.19-1/blib/arch:/home/cpansand/.local/share/.cpan/build/2023123115/HTML-Scrubber-0.19-1/blib/lib:/home/cpansand/.local/share/.cpan/build/2023123115/Code-TidyAll-Plugin-Perl-AlignMooseAttributes-0.01-0/blib/arch:/home/cpansand/.local/share/.cpan/build/2023123115/Code-TidyAll-Plugin-Perl-AlignMooseAttributes-0.01-0/blib/lib:/home/cpansand/.local/share/.cpan/build/2023123115/Catalyst-View-TT-0.46-2/blib/arch:/home/cpansand/.local/share/.cpan/build/2023123115/Catalyst-View-TT-0.46-2/blib/lib:/home/cpansand/.local/share/.cpan/build/2023123115/Template-Timer-1.00-2/blib/arch:/home/cpansand/.local/share/.cpan/build/2023123115/Template-Timer-1.00-2/blib/lib:/home/cpansand/.local/share/.cpan/build/2023123115/Catalyst-Plugin-Session-Store-File-0.18-1/blib/arch:/home/cpansand/.local/share/.cpan/build/2023123115/Catalyst-Plugin-Session-Store-File-0.18-1/blib/lib:/home/cpansand/.local/share/.cpan/build/2023123115/Catalyst-Plugin-Session-State-Cookie-0.18-2/blib/arch:/home/cpansand/.local/share/.cpan/build/2023123115/Catalyst-Plugin-Session-State-Cookie-0.18-2/blib/lib:/home/cpansand/.local/share/.cpan/build/2023123115/Catalyst-Authentication-Store-DBIx-Class-0.1506-1/blib/arch:/home/cpansand/.local/share/.cpan/build/2023123115/Catalyst-Authentication-Store-DBIx-Class-0.1506-1/blib/lib:/home/cpansand/.local/share/.cpan/build/2023123115/Catalyst-Plugin-Authentication-0.10023-2/blib/arch:/home/cpansand/.local/share/.cpan/build/2023123115/Catalyst-Plugin-Authentication-0.10023-2/blib/lib:/home/cpansand/.local/share/.cpan/build/2023123115/Catalyst-Plugin-Session-0.43-2/blib/arch:/home/cpansand/.local/share/.cpan/build/2023123115/Catalyst-Plugin-Session-0.43-2/blib/lib:/home/cpansand/.local/share/.cpan/build/2023123115/Object-Signature-1.08-2/blib/arch:/home/cpansand/.local/share/.cpan/build/2023123115/Object-Signature-1.08-2/blib/lib:/home/cpansand/.local/share/.cpan/build/2023123115/Catalyst-Model-DBIC-Schema-0.66-2/blib/arch:/home/cpansand/.local/share/.cpan/build/2023123115/Catalyst-Model-DBIC-Schema-0.66-2/blib/lib:/home/cpansand/.local/share/.cpan/build/2023123115/MooseX-Types-LoadableClass-0.015-2/blib/arch:/home/cpansand/.local/share/.cpan/build/2023123115/MooseX-Types-LoadableClass-0.015-2/blib/lib:/home/cpansand/.local/share/.cpan/build/2023123115/MooseX-MarkAsMethods-0.15-2/blib/arch:/home/cpansand/.local/share/.cpan/build/2023123115/MooseX-MarkAsMethods-0.15-2/blib/lib:/home/cpansand/.local/share/.cpan/build/2023123115/CatalystX-Component-Traits-0.19-2/blib/arch:/home/cpansand/.local/share/.cpan/build/2023123115/CatalystX-Component-Traits-0.19-2/blib/lib:/home/cpansand/.local/share/.cpan/build/2023123115/MooseX-Traits-Pluggable-0.12-2/blib/arch:/home/cpansand/.local/share/.cpan/build/2023123115/MooseX-Traits-Pluggable-0.12-2/blib/lib:/home/cpansand/.local/share/.cpan/build/2023123115/Catalyst-Component-InstancePerContext-0.001001-2/blib/arch:/home/cpansand/.local/share/.cpan/build/2023123115/Catalyst-Component-InstancePerContext-0.001001-2/blib/lib:/home/cpansand/.local/share/.cpan/build/2023123115/Catalyst-Action-RenderView-0.16-2/blib/arch:/home/cpansand/.local/share/.cpan/build/2023123115/Catalyst-Action-RenderView-0.16-2/blib/lib:/home/cpansand/.local/share/.cpan/build/2023123115/Catalyst-Action-REST-1.21-2/blib/arch:/home/cpansand/.local/share/.cpan/build/2023123115/Catalyst-Action-REST-1.21-2/blib/lib
    PERL5OPT = 
    PERL5_CPANPLUS_IS_RUNNING = 3846209
    PERL5_CPAN_IS_RUNNING = 3846209
    PERL5_CPAN_IS_RUNNING_IN_RECURSION = 3846195,3846209
    PERLDOC = -MPod::Perldoc::ToTextOverstrike
    PERL_BATCH = yes
    PERL_CANARY_STABILITY_NOPROMPT = 1
    PERL_CPAN_REPORTER_CONFIG = /var/tmp/cpansmoker-1023/2023123115/cpanreporter_000_config.ini
    PERL_EXTUTILS_AUTOINSTALL = --defaultdeps
    PERL_USE_UNSAFE_INC = 1
    SHELL = /usr/bin/zsh
    TERM = screen
    TMPDIR = /var/tmp/cpansmoker-1023/2023123115

Perl special variables (and OS-specific diagnostics, for MSWin32):

    $^X = /opt/perl-5.38.0/bin/perl
    $UID/$EUID = 1023 / 1023
    $GID = 1023 1023
    $EGID = 1023 1023

Perl module toolchain versions installed:

    Module              Have    
    ------------------- --------
    CPAN                2.36    
    CPAN::Meta          2.150010
    Cwd                 3.89    
    ExtUtils::CBuilder  0.280238
    ExtUtils::Command   7.70    
    ExtUtils::Install   2.22    
    ExtUtils::MakeMaker 7.70    
    ExtUtils::Manifest  1.75    
    ExtUtils::ParseXS   3.51    
    File::Spec          3.88    
    JSON                4.10    
    JSON::PP            4.16    
    Module::Build       0.4234  
    Module::Signature   0.88    
    Parse::CPAN::Meta   2.150010
    Test2               1.302198
    Test::Harness       3.44    
    Test::More          1.302198
    YAML                1.31    
    YAML::Syck          1.34    
    version             0.9929  


--

Summary of my perl5 (revision 5 version 38 subversion 0) configuration:
   
  Platform:
    osname=linux
    osvers=5.10.0-26-amd64
    archname=x86_64-linux
    uname='linux cloud7.bbbike.org 5.10.0-26-amd64 #1 smp debian 5.10.197-1 (2023-09-29) x86_64 gnulinux '
    config_args='-ds -e -Dprefix=/opt/perl-5.38.0 -Dcf_email=srezic@cpan.org'
    hint=recommended
    useposix=true
    d_sigaction=define
    useithreads=undef
    usemultiplicity=undef
    use64bitint=define
    use64bitall=define
    uselongdouble=undef
    usemymalloc=n
    default_inc_excludes_dot=define
  Compiler:
    cc='cc'
    ccflags ='-fwrapv -fno-strict-aliasing -pipe -fstack-protector-strong -I/usr/local/include -D_LARGEFILE_SOURCE -D_FILE_OFFSET_BITS=64 -D_FORTIFY_SOURCE=2'
    optimize='-O2'
    cppflags='-fwrapv -fno-strict-aliasing -pipe -fstack-protector-strong -I/usr/local/include'
    ccversion=''
    gccversion='10.2.1 20210110'
    gccosandvers=''
    intsize=4
    longsize=8
    ptrsize=8
    doublesize=8
    byteorder=12345678
    doublekind=3
    d_longlong=define
    longlongsize=8
    d_longdbl=define
    longdblsize=16
    longdblkind=3
    ivtype='long'
    ivsize=8
    nvtype='double'
    nvsize=8
    Off_t='off_t'
    lseeksize=8
    alignbytes=8
    prototype=define
  Linker and Libraries:
    ld='cc'
    ldflags =' -fstack-protector-strong -L/usr/local/lib'
    libpth=/usr/local/lib /usr/lib/x86_64-linux-gnu /usr/lib /usr/lib64
    libs=-lpthread -lgdbm -ldb -ldl -lm -lcrypt -lutil -lc
    perllibs=-lpthread -ldl -lm -lcrypt -lutil -lc
    libc=libc-2.31.so
    so=so
    useshrplib=false
    libperl=libperl.a
    gnulibc_version='2.31'
  Dynamic Linking:
    dlsrc=dl_dlopen.xs
    dlext=so
    d_dlsymun=undef
    ccdlflags='-Wl,-E'
    cccdlflags='-fPIC'
    lddlflags='-shared -O2 -L/usr/local/lib -fstack-protector-strong'


Characteristics of this binary (from libperl): 
  Compile-time options:
    HAS_LONG_DOUBLE
    HAS_STRTOLD
    HAS_TIMES
    PERLIO_LAYERS
    PERL_COPY_ON_WRITE
    PERL_DONT_CREATE_GVSV
    PERL_HASH_FUNC_SIPHASH13
    PERL_HASH_USE_SBOX32
    PERL_MALLOC_WRAP
    PERL_OP_PARENT
    PERL_PRESERVE_IVUV
    PERL_USE_SAFE_PUTENV
    USE_64_BIT_ALL
    USE_64_BIT_INT
    USE_LARGE_FILES
    USE_LOCALE
    USE_LOCALE_COLLATE
    USE_LOCALE_CTYPE
    USE_LOCALE_NUMERIC
    USE_LOCALE_TIME
    USE_PERLIO
    USE_PERL_ATOF
  Built under linux
  Compiled at Oct 21 2023 19:05:54
  %ENV:
    PERL5LIB="/home/cpansand/.local/share/.cpan/build/2023123115/Getopt-Compact-0.04-0/blib/arch:/home/cpansand/.local/share/.cpan/build/2023123115/Getopt-Compact-0.04-0/blib/lib:/home/cpansand/.local/share/.cpan/build/2023123115/Pod-Simple-Text-Termcap-0.01-0/blib/arch:/home/cpansand/.local/share/.cpan/build/2023123115/Pod-Simple-Text-Termcap-0.01-0/blib/lib:/home/cpansand/.local/share/.cpan/build/2023123115/DBIx-Class-TimeStamp-0.14-2/blib/arch:/home/cpansand/.local/share/.cpan/build/2023123115/DBIx-Class-TimeStamp-0.14-2/blib/lib:/home/cpansand/.local/share/.cpan/build/2023123115/Time-Warp-0.55-2/blib/arch:/home/cpansand/.local/share/.cpan/build/2023123115/Time-Warp-0.55-2/blib/lib:/home/cpansand/.local/share/.cpan/build/2023123115/DateTime-Format-MySQL-0.08-3/blib/arch:/home/cpansand/.local/share/.cpan/build/2023123115/DateTime-Format-MySQL-0.08-3/blib/lib:/home/cpansand/.local/share/.cpan/build/2023123115/DBIx-Class-DynamicDefault-0.04-2/blib/arch:/home/cpansand/.local/share/.cpan/build/2023123115/DBIx-Class-DynamicDefault-0.04-2/blib/lib:/home/cpansand/.local/share/.cpan/build/2023123115/DBICx-TestDatabase-0.05-2/blib/arch:/home/cpansand/.local/share/.cpan/build/2023123115/DBICx-TestDatabase-0.05-2/blib/lib:/home/cpansand/.local/share/.cpan/build/2023123115/DBIx-Class-EncodedColumn-0.00020-1/blib/arch:/home/cpansand/.local/share/.cpan/build/2023123115/DBIx-Class-EncodedColumn-0.00020-1/blib/lib:/home/cpansand/.local/share/.cpan/build/2023123115/Crypt-Eksblowfish-0.009-1/blib/arch:/home/cpansand/.local/share/.cpan/build/2023123115/Crypt-Eksblowfish-0.009-1/blib/lib:/home/cpansand/.local/share/.cpan/build/2023123115/Class-Mix-0.006-1/blib/arch:/home/cpansand/.local/share/.cpan/build/2023123115/Class-Mix-0.006-1/blib/lib:/home/cpansand/.local/share/.cpan/build/2023123115/Child-0.013-0/blib/arch:/home/cpansand/.local/share/.cpan/build/2023123115/Child-0.013-0/blib/lib:/home/cpansand/.local/share/.cpan/build/2023123115/CatalystX-VirtualComponents-0.00004-0/blib/arch:/home/cpansand/.local/share/.cpan/build/2023123115/CatalystX-VirtualComponents-0.00004-0/blib/lib:/home/cpansand/.local/share/.cpan/build/2023123115/Devel-InheritNamespace-0.00003-0/blib/arch:/home/cpansand/.local/share/.cpan/build/2023123115/Devel-InheritNamespace-0.00003-0/blib/lib:/home/cpansand/.local/share/.cpan/build/2023123115/CatalystX-SimpleLogin-0.21-1/blib/arch:/home/cpansand/.local/share/.cpan/build/2023123115/CatalystX-SimpleLogin-0.21-1/blib/lib:/home/cpansand/.local/share/.cpan/build/2023123115/MooseX-RelatedClassRoles-0.004-2/blib/arch:/home/cpansand/.local/share/.cpan/build/2023123115/MooseX-RelatedClassRoles-0.004-2/blib/lib:/home/cpansand/.local/share/.cpan/build/2023123115/HTML-FormHandler-0.40068-3/blib/arch:/home/cpansand/.local/share/.cpan/build/2023123115/HTML-FormHandler-0.40068-3/blib/lib:/home/cpansand/.local/share/.cpan/build/2023123115/CatalystX-InjectComponent-0.025-3/blib/arch:/home/cpansand/.local/share/.cpan/build/2023123115/CatalystX-InjectComponent-0.025-3/blib/lib:/home/cpansand/.local/share/.cpan/build/2023123115/Catalyst-ActionRole-ACL-0.07-2/blib/arch:/home/cpansand/.local/share/.cpan/build/2023123115/Catalyst-ActionRole-ACL-0.07-2/blib/lib:/home/cpansand/.local/share/.cpan/build/2023123115/Catalyst-Controller-ActionRole-0.17-3/blib/arch:/home/cpansand/.local/share/.cpan/build/2023123115/Catalyst-Controller-ActionRole-0.17-3/blib/lib:/home/cpansand/.local/share/.cpan/build/2023123115/CatalystX-AppBuilder-0.00011-0/blib/arch:/home/cpansand/.local/share/.cpan/build/2023123115/CatalystX-AppBuilder-0.00011-0/blib/lib:/home/cpansand/.local/share/.cpan/build/2023123115/Catalyst-View-TT-Alloy-0.00007-0/blib/arch:/home/cpansand/.local/share/.cpan/build/2023123115/Catalyst-View-TT-Alloy-0.00007-0/blib/lib:/home/cpansand/.local/share/.cpan/build/2023123115/Template-Alloy-1.022-0/blib/arch:/home/cpansand/.local/share/.cpan/build/2023123115/Template-Alloy-1.022-0/blib/lib:/home/cpansand/.local/share/.cpan/build/2023123115/Catalyst-View-PDF-Reuse-0.05-0/blib/arch:/home/cpansand/.local/share/.cpan/build/2023123115/Catalyst-View-PDF-Reuse-0.05-0/blib/lib:/home/cpansand/.local/share/.cpan/build/2023123115/PDF-Reuse-0.39-0/blib/arch:/home/cpansand/.local/share/.cpan/build/2023123115/PDF-Reuse-0.39-0/blib/lib:/home/cpansand/.local/share/.cpan/build/2023123115/Text-PDF-0.31-0/blib/arch:/home/cpansand/.local/share/.cpan/build/2023123115/Text-PDF-0.31-0/blib/lib:/home/cpansand/.local/share/.cpan/build/2023123115/Catalyst-View-JSON-0.37-1/blib/arch:/home/cpansand/.local/share/.cpan/build/2023123115/Catalyst-View-JSON-0.37-1/blib/lib:/home/cpansand/.local/share/.cpan/build/2023123115/Catalyst-View-Excel-Template-Plus-0.04-0/blib/arch:/home/cpansand/.local/share/.cpan/build/2023123115/Catalyst-View-Excel-Template-Plus-0.04-0/blib/lib:/home/cpansand/.local/share/.cpan/build/2023123115/Excel-Template-Plus-0.06-0/blib/arch:/home/cpansand/.local/share/.cpan/build/2023123115/Excel-Template-Plus-0.06-0/blib/lib:/home/cpansand/.local/share/.cpan/build/2023123115/MooseX-Param-0.02-0/blib/arch:/home/cpansand/.local/share/.cpan/build/2023123115/MooseX-Param-0.02-0/blib/lib:/home/cpansand/.local/share/.cpan/build/2023123115/Excel-Template-0.34-0/blib/arch:/home/cpansand/.local/share/.cpan/build/2023123115/Excel-Template-0.34-0/blib/lib:/home/cpansand/.local/share/.cpan/build/2023123115/Catalyst-View-Email-0.36-0/blib/arch:/home/cpansand/.local/share/.cpan/build/2023123115/Catalyst-View-Email-0.36-0/blib/lib:/home/cpansand/.local/share/.cpan/build/2023123115/Catalyst-View-Download-0.09-0/blib/arch:/home/cpansand/.local/share/.cpan/build/2023123115/Catalyst-View-Download-0.09-0/blib/lib:/home/cpansand/.local/share/.cpan/build/2023123115/Catalyst-Plugin-Static-Simple-0.37-2/blib/arch:/home/cpansand/.local/share/.cpan/build/2023123115/Catalyst-Plugin-Static-Simple-0.37-2/blib/lib:/home/cpansand/.local/share/.cpan/build/2023123115/Catalyst-Plugin-Session-Store-FastMmap-0.16-2/blib/arch:/home/cpansand/.local/share/.cpan/build/2023123115/Catalyst-Plugin-Session-Store-FastMmap-0.16-2/blib/lib:/home/cpansand/.local/share/.cpan/build/2023123115/Catalyst-Plugin-CustomErrorMessage-0.06-0/blib/arch:/home/cpansand/.local/share/.cpan/build/2023123115/Catalyst-Plugin-CustomErrorMessage-0.06-0/blib/lib:/home/cpansand/.local/share/.cpan/build/2023123115/Catalyst-Plugin-ConfigLoader-Environment-0.07-0/blib/arch:/home/cpansand/.local/share/.cpan/build/2023123115/Catalyst-Plugin-ConfigLoader-Environment-0.07-0/blib/lib:/home/cpansand/.local/share/.cpan/build/2023123115/Catalyst-Plugin-ConfigLoader-0.35-3/blib/arch:/home/cpansand/.local/share/.cpan/build/2023123115/Catalyst-Plugin-ConfigLoader-0.35-3/blib/lib:/home/cpansand/.local/share/.cpan/build/2023123115/Catalyst-Plugin-Cache-0.12-0/blib/arch:/home/cpansand/.local/share/.cpan/build/2023123115/Catalyst-Plugin-Cache-0.12-0/blib/lib:/home/cpansand/.local/share/.cpan/build/2023123115/Catalyst-Plugin-Authorization-ACL-0.16-0/blib/arch:/home/cpansand/.local/share/.cpan/build/2023123115/Catalyst-Plugin-Authorization-ACL-0.16-0/blib/lib:/home/cpansand/.local/share/.cpan/build/2023123115/Class-Throwable-0.13-0/blib/arch:/home/cpansand/.local/share/.cpan/build/2023123115/Class-Throwable-0.13-0/blib/lib:/home/cpansand/.local/share/.cpan/build/2023123115/Catalyst-Plugin-Authorization-Roles-0.09-0/blib/arch:/home/cpansand/.local/share/.cpan/build/2023123115/Catalyst-Plugin-Authorization-Roles-0.09-0/blib/lib:/home/cpansand/.local/share/.cpan/build/2023123115/Catalyst-Controller-HTML-FormFu-2.04-0/blib/arch:/home/cpansand/.local/share/.cpan/build/2023123115/Catalyst-Controller-HTML-FormFu-2.04-0/blib/lib:/home/cpansand/.local/share/.cpan/build/2023123115/Test-WWW-Mechanize-Catalyst-0.62-1/blib/arch:/home/cpansand/.local/share/.cpan/build/2023123115/Test-WWW-Mechanize-Catalyst-0.62-1/blib/lib:/home/cpansand/.local/share/.cpan/build/2023123115/Test-utf8-1.02-1/blib/arch:/home/cpansand/.local/share/.cpan/build/2023123115/Test-utf8-1.02-1/blib/lib:/home/cpansand/.local/share/.cpan/build/2023123115/Test-PAUSE-Permissions-0.07-0/blib/arch:/home/cpansand/.local/share/.cpan/build/2023123115/Test-PAUSE-Permissions-0.07-0/blib/lib:/home/cpansand/.local/share/.cpan/build/2023123115/Parse-LocalDistribution-0.19-0/blib/arch:/home/cpansand/.local/share/.cpan/build/2023123115/Parse-LocalDistribution-0.19-0/blib/lib:/home/cpansand/.local/share/.cpan/build/2023123115/PAUSE-Permissions-0.17-0/blib/arch:/home/cpansand/.local/share/.cpan/build/2023123115/PAUSE-Permissions-0.17-0/blib/lib:/home/cpansand/.local/share/.cpan/build/2023123115/Config-Identity-0.0019-0/blib/arch:/home/cpansand/.local/share/.cpan/build/2023123115/Config-Identity-0.0019-0/blib/lib:/home/cpansand/.local/share/.cpan/build/2023123115/Pod-Tidy-0.10-0/blib/arch:/home/cpansand/.local/share/.cpan/build/2023123115/Pod-Tidy-0.10-0/blib/lib:/home/cpansand/.local/share/.cpan/build/2023123115/Test-Cmd-1.09-0/blib/arch:/home/cpansand/.local/share/.cpan/build/2023123115/Test-Cmd-1.09-0/blib/lib:/home/cpansand/.local/share/.cpan/build/2023123115/Pod-Wrap-0.01-0/blib/arch:/home/cpansand/.local/share/.cpan/build/2023123115/Pod-Wrap-0.01-0/blib/lib:/home/cpansand/.local/share/.cpan/build/2023123115/Encode-Newlines-0.05-0/blib/arch:/home/cpansand/.local/share/.cpan/build/2023123115/Encode-Newlines-0.05-0/blib/lib:/home/cpansand/.local/share/.cpan/build/2023123115/HTML-FormFu-MultiForm-1.03-0/blib/arch:/home/cpansand/.local/share/.cpan/build/2023123115/HTML-FormFu-MultiForm-1.03-0/blib/lib:/home/cpansand/.local/share/.cpan/build/2023123115/HTML-FormFu-2.07-1/blib/arch:/home/cpansand/.local/share/.cpan/build/2023123115/HTML-FormFu-2.07-1/blib/lib:/home/cpansand/.local/share/.cpan/build/2023123115/MooseX-Attribute-Chained-1.0.3-1/blib/arch:/home/cpansand/.local/share/.cpan/build/2023123115/MooseX-Attribute-Chained-1.0.3-1/blib/lib:/home/cpansand/.local/share/.cpan/build/2023123115/HTML-Scrubber-0.19-1/blib/arch:/home/cpansand/.local/share/.cpan/build/2023123115/HTML-Scrubber-0.19-1/blib/lib:/home/cpansand/.local/share/.cpan/build/2023123115/Code-TidyAll-Plugin-Perl-AlignMooseAttributes-0.01-0/blib/arch:/home/cpansand/.local/share/.cpan/build/2023123115/Code-TidyAll-Plugin-Perl-AlignMooseAttributes-0.01-0/blib/lib:/home/cpansand/.local/share/.cpan/build/2023123115/Catalyst-View-TT-0.46-2/blib/arch:/home/cpansand/.local/share/.cpan/build/2023123115/Catalyst-View-TT-0.46-2/blib/lib:/home/cpansand/.local/share/.cpan/build/2023123115/Template-Timer-1.00-2/blib/arch:/home/cpansand/.local/share/.cpan/build/2023123115/Template-Timer-1.00-2/blib/lib:/home/cpansand/.local/share/.cpan/build/2023123115/Catalyst-Plugin-Session-Store-File-0.18-1/blib/arch:/home/cpansand/.local/share/.cpan/build/2023123115/Catalyst-Plugin-Session-Store-File-0.18-1/blib/lib:/home/cpansand/.local/share/.cpan/build/2023123115/Catalyst-Plugin-Session-State-Cookie-0.18-2/blib/arch:/home/cpansand/.local/share/.cpan/build/2023123115/Catalyst-Plugin-Session-State-Cookie-0.18-2/blib/lib:/home/cpansand/.local/share/.cpan/build/2023123115/Catalyst-Authentication-Store-DBIx-Class-0.1506-1/blib/arch:/home/cpansand/.local/share/.cpan/build/2023123115/Catalyst-Authentication-Store-DBIx-Class-0.1506-1/blib/lib:/home/cpansand/.local/share/.cpan/build/2023123115/Catalyst-Plugin-Authentication-0.10023-2/blib/arch:/home/cpansand/.local/share/.cpan/build/2023123115/Catalyst-Plugin-Authentication-0.10023-2/blib/lib:/home/cpansand/.local/share/.cpan/build/2023123115/Catalyst-Plugin-Session-0.43-2/blib/arch:/home/cpansand/.local/share/.cpan/build/2023123115/Catalyst-Plugin-Session-0.43-2/blib/lib:/home/cpansand/.local/share/.cpan/build/2023123115/Object-Signature-1.08-2/blib/arch:/home/cpansand/.local/share/.cpan/build/2023123115/Object-Signature-1.08-2/blib/lib:/home/cpansand/.local/share/.cpan/build/2023123115/Catalyst-Model-DBIC-Schema-0.66-2/blib/arch:/home/cpansand/.local/share/.cpan/build/2023123115/Catalyst-Model-DBIC-Schema-0.66-2/blib/lib:/home/cpansand/.local/share/.cpan/build/2023123115/MooseX-Types-LoadableClass-0.015-2/blib/arch:/home/cpansand/.local/share/.cpan/build/2023123115/MooseX-Types-LoadableClass-0.015-2/blib/lib:/home/cpansand/.local/share/.cpan/build/2023123115/MooseX-MarkAsMethods-0.15-2/blib/arch:/home/cpansand/.local/share/.cpan/build/2023123115/MooseX-MarkAsMethods-0.15-2/blib/lib:/home/cpansand/.local/share/.cpan/build/2023123115/CatalystX-Component-Traits-0.19-2/blib/arch:/home/cpansand/.local/share/.cpan/build/2023123115/CatalystX-Component-Traits-0.19-2/blib/lib:/home/cpansand/.local/share/.cpan/build/2023123115/MooseX-Traits-Pluggable-0.12-2/blib/arch:/home/cpansand/.local/share/.cpan/build/2023123115/MooseX-Traits-Pluggable-0.12-2/blib/lib:/home/cpansand/.local/share/.cpan/build/2023123115/Catalyst-Component-InstancePerContext-0.001001-2/blib/arch:/home/cpansand/.local/share/.cpan/build/2023123115/Catalyst-Component-InstancePerContext-0.001001-2/blib/lib:/home/cpansand/.local/share/.cpan/build/2023123115/Catalyst-Action-RenderView-0.16-2/blib/arch:/home/cpansand/.local/share/.cpan/build/2023123115/Catalyst-Action-RenderView-0.16-2/blib/lib:/home/cpansand/.local/share/.cpan/build/2023123115/Catalyst-Action-REST-1.21-2/blib/arch:/home/cpansand/.local/share/.cpan/build/2023123115/Catalyst-Action-REST-1.21-2/blib/lib"
    PERL5OPT=""
    PERL5_CPANPLUS_IS_RUNNING="3846209"
    PERL5_CPAN_IS_RUNNING="3846209"
    PERL5_CPAN_IS_RUNNING_IN_RECURSION="3846195,3846209"
    PERLDOC="-MPod::Perldoc::ToTextOverstrike"
    PERL_BATCH="yes"
    PERL_CANARY_STABILITY_NOPROMPT="1"
    PERL_CPAN_REPORTER_CONFIG="/var/tmp/cpansmoker-1023/2023123115/cpanreporter_000_config.ini"
    PERL_EXTUTILS_AUTOINSTALL="--defaultdeps"
    PERL_USE_UNSAFE_INC="1"
  @INC:
    /home/cpansand/.local/share/.cpan/build/2023123115/Getopt-Compact-0.04-0/blib/arch
    /home/cpansand/.local/share/.cpan/build/2023123115/Getopt-Compact-0.04-0/blib/lib
    /home/cpansand/.local/share/.cpan/build/2023123115/Pod-Simple-Text-Termcap-0.01-0/blib/arch
    /home/cpansand/.local/share/.cpan/build/2023123115/Pod-Simple-Text-Termcap-0.01-0/blib/lib
    /home/cpansand/.local/share/.cpan/build/2023123115/DBIx-Class-TimeStamp-0.14-2/blib/arch
    /home/cpansand/.local/share/.cpan/build/2023123115/DBIx-Class-TimeStamp-0.14-2/blib/lib
    /home/cpansand/.local/share/.cpan/build/2023123115/Time-Warp-0.55-2/blib/arch
    /home/cpansand/.local/share/.cpan/build/2023123115/Time-Warp-0.55-2/blib/lib
    /home/cpansand/.local/share/.cpan/build/2023123115/DateTime-Format-MySQL-0.08-3/blib/arch
    /home/cpansand/.local/share/.cpan/build/2023123115/DateTime-Format-MySQL-0.08-3/blib/lib
    /home/cpansand/.local/share/.cpan/build/2023123115/DBIx-Class-DynamicDefault-0.04-2/blib/arch
    /home/cpansand/.local/share/.cpan/build/2023123115/DBIx-Class-DynamicDefault-0.04-2/blib/lib
    /home/cpansand/.local/share/.cpan/build/2023123115/DBICx-TestDatabase-0.05-2/blib/arch
    /home/cpansand/.local/share/.cpan/build/2023123115/DBICx-TestDatabase-0.05-2/blib/lib
    /home/cpansand/.local/share/.cpan/build/2023123115/DBIx-Class-EncodedColumn-0.00020-1/blib/arch
    /home/cpansand/.local/share/.cpan/build/2023123115/DBIx-Class-EncodedColumn-0.00020-1/blib/lib
    /home/cpansand/.local/share/.cpan/build/2023123115/Crypt-Eksblowfish-0.009-1/blib/arch
    /home/cpansand/.local/share/.cpan/build/2023123115/Crypt-Eksblowfish-0.009-1/blib/lib
    /home/cpansand/.local/share/.cpan/build/2023123115/Class-Mix-0.006-1/blib/arch
    /home/cpansand/.local/share/.cpan/build/2023123115/Class-Mix-0.006-1/blib/lib
    /home/cpansand/.local/share/.cpan/build/2023123115/Child-0.013-0/blib/arch
    /home/cpansand/.local/share/.cpan/build/2023123115/Child-0.013-0/blib/lib
    /home/cpansand/.local/share/.cpan/build/2023123115/CatalystX-VirtualComponents-0.00004-0/blib/arch
    /home/cpansand/.local/share/.cpan/build/2023123115/CatalystX-VirtualComponents-0.00004-0/blib/lib
    /home/cpansand/.local/share/.cpan/build/2023123115/Devel-InheritNamespace-0.00003-0/blib/arch
    /home/cpansand/.local/share/.cpan/build/2023123115/Devel-InheritNamespace-0.00003-0/blib/lib
    /home/cpansand/.local/share/.cpan/build/2023123115/CatalystX-SimpleLogin-0.21-1/blib/arch
    /home/cpansand/.local/share/.cpan/build/2023123115/CatalystX-SimpleLogin-0.21-1/blib/lib
    /home/cpansand/.local/share/.cpan/build/2023123115/MooseX-RelatedClassRoles-0.004-2/blib/arch
    /home/cpansand/.local/share/.cpan/build/2023123115/MooseX-RelatedClassRoles-0.004-2/blib/lib
    /home/cpansand/.local/share/.cpan/build/2023123115/HTML-FormHandler-0.40068-3/blib/arch
    /home/cpansand/.local/share/.cpan/build/2023123115/HTML-FormHandler-0.40068-3/blib/lib
    /home/cpansand/.local/share/.cpan/build/2023123115/CatalystX-InjectComponent-0.025-3/blib/arch
    /home/cpansand/.local/share/.cpan/build/2023123115/CatalystX-InjectComponent-0.025-3/blib/lib
    /home/cpansand/.local/share/.cpan/build/2023123115/Catalyst-ActionRole-ACL-0.07-2/blib/arch
    /home/cpansand/.local/share/.cpan/build/2023123115/Catalyst-ActionRole-ACL-0.07-2/blib/lib
    /home/cpansand/.local/share/.cpan/build/2023123115/Catalyst-Controller-ActionRole-0.17-3/blib/arch
    /home/cpansand/.local/share/.cpan/build/2023123115/Catalyst-Controller-ActionRole-0.17-3/blib/lib
    /home/cpansand/.local/share/.cpan/build/2023123115/CatalystX-AppBuilder-0.00011-0/blib/arch
    /home/cpansand/.local/share/.cpan/build/2023123115/CatalystX-AppBuilder-0.00011-0/blib/lib
    /home/cpansand/.local/share/.cpan/build/2023123115/Catalyst-View-TT-Alloy-0.00007-0/blib/arch
    /home/cpansand/.local/share/.cpan/build/2023123115/Catalyst-View-TT-Alloy-0.00007-0/blib/lib
    /home/cpansand/.local/share/.cpan/build/2023123115/Template-Alloy-1.022-0/blib/arch
    /home/cpansand/.local/share/.cpan/build/2023123115/Template-Alloy-1.022-0/blib/lib
    /home/cpansand/.local/share/.cpan/build/2023123115/Catalyst-View-PDF-Reuse-0.05-0/blib/arch
    /home/cpansand/.local/share/.cpan/build/2023123115/Catalyst-View-PDF-Reuse-0.05-0/blib/lib
    /home/cpansand/.local/share/.cpan/build/2023123115/PDF-Reuse-0.39-0/blib/arch
    /home/cpansand/.local/share/.cpan/build/2023123115/PDF-Reuse-0.39-0/blib/lib
    /home/cpansand/.local/share/.cpan/build/2023123115/Text-PDF-0.31-0/blib/arch
    /home/cpansand/.local/share/.cpan/build/2023123115/Text-PDF-0.31-0/blib/lib
    /home/cpansand/.local/share/.cpan/build/2023123115/Catalyst-View-JSON-0.37-1/blib/arch
    /home/cpansand/.local/share/.cpan/build/2023123115/Catalyst-View-JSON-0.37-1/blib/lib
    /home/cpansand/.local/share/.cpan/build/2023123115/Catalyst-View-Excel-Template-Plus-0.04-0/blib/arch
    /home/cpansand/.local/share/.cpan/build/2023123115/Catalyst-View-Excel-Template-Plus-0.04-0/blib/lib
    /home/cpansand/.local/share/.cpan/build/2023123115/Excel-Template-Plus-0.06-0/blib/arch
    /home/cpansand/.local/share/.cpan/build/2023123115/Excel-Template-Plus-0.06-0/blib/lib
    /home/cpansand/.local/share/.cpan/build/2023123115/MooseX-Param-0.02-0/blib/arch
    /home/cpansand/.local/share/.cpan/build/2023123115/MooseX-Param-0.02-0/blib/lib
    /home/cpansand/.local/share/.cpan/build/2023123115/Excel-Template-0.34-0/blib/arch
    /home/cpansand/.local/share/.cpan/build/2023123115/Excel-Template-0.34-0/blib/lib
    /home/cpansand/.local/share/.cpan/build/2023123115/Catalyst-View-Email-0.36-0/blib/arch
    /home/cpansand/.local/share/.cpan/build/2023123115/Catalyst-View-Email-0.36-0/blib/lib
    /home/cpansand/.local/share/.cpan/build/2023123115/Catalyst-View-Download-0.09-0/blib/arch
    /home/cpansand/.local/share/.cpan/build/2023123115/Catalyst-View-Download-0.09-0/blib/lib
    /home/cpansand/.local/share/.cpan/build/2023123115/Catalyst-Plugin-Static-Simple-0.37-2/blib/arch
    /home/cpansand/.local/share/.cpan/build/2023123115/Catalyst-Plugin-Static-Simple-0.37-2/blib/lib
    /home/cpansand/.local/share/.cpan/build/2023123115/Catalyst-Plugin-Session-Store-FastMmap-0.16-2/blib/arch
    /home/cpansand/.local/share/.cpan/build/2023123115/Catalyst-Plugin-Session-Store-FastMmap-0.16-2/blib/lib
    /home/cpansand/.local/share/.cpan/build/2023123115/Catalyst-Plugin-CustomErrorMessage-0.06-0/blib/arch
    /home/cpansand/.local/share/.cpan/build/2023123115/Catalyst-Plugin-CustomErrorMessage-0.06-0/blib/lib
    /home/cpansand/.local/share/.cpan/build/2023123115/Catalyst-Plugin-ConfigLoader-Environment-0.07-0/blib/arch
    /home/cpansand/.local/share/.cpan/build/2023123115/Catalyst-Plugin-ConfigLoader-Environment-0.07-0/blib/lib
    /home/cpansand/.local/share/.cpan/build/2023123115/Catalyst-Plugin-ConfigLoader-0.35-3/blib/arch
    /home/cpansand/.local/share/.cpan/build/2023123115/Catalyst-Plugin-ConfigLoader-0.35-3/blib/lib
    /home/cpansand/.local/share/.cpan/build/2023123115/Catalyst-Plugin-Cache-0.12-0/blib/arch
    /home/cpansand/.local/share/.cpan/build/2023123115/Catalyst-Plugin-Cache-0.12-0/blib/lib
    /home/cpansand/.local/share/.cpan/build/2023123115/Catalyst-Plugin-Authorization-ACL-0.16-0/blib/arch
    /home/cpansand/.local/share/.cpan/build/2023123115/Catalyst-Plugin-Authorization-ACL-0.16-0/blib/lib
    /home/cpansand/.local/share/.cpan/build/2023123115/Class-Throwable-0.13-0/blib/arch
    /home/cpansand/.local/share/.cpan/build/2023123115/Class-Throwable-0.13-0/blib/lib
    /home/cpansand/.local/share/.cpan/build/2023123115/Catalyst-Plugin-Authorization-Roles-0.09-0/blib/arch
    /home/cpansand/.local/share/.cpan/build/2023123115/Catalyst-Plugin-Authorization-Roles-0.09-0/blib/lib
    /home/cpansand/.local/share/.cpan/build/2023123115/Catalyst-Controller-HTML-FormFu-2.04-0/blib/arch
    /home/cpansand/.local/share/.cpan/build/2023123115/Catalyst-Controller-HTML-FormFu-2.04-0/blib/lib
    /home/cpansand/.local/share/.cpan/build/2023123115/Test-WWW-Mechanize-Catalyst-0.62-1/blib/arch
    /home/cpansand/.local/share/.cpan/build/2023123115/Test-WWW-Mechanize-Catalyst-0.62-1/blib/lib
    /home/cpansand/.local/share/.cpan/build/2023123115/Test-utf8-1.02-1/blib/arch
    /home/cpansand/.local/share/.cpan/build/2023123115/Test-utf8-1.02-1/blib/lib
    /home/cpansand/.local/share/.cpan/build/2023123115/Test-PAUSE-Permissions-0.07-0/blib/arch
    /home/cpansand/.local/share/.cpan/build/2023123115/Test-PAUSE-Permissions-0.07-0/blib/lib
    /home/cpansand/.local/share/.cpan/build/2023123115/Parse-LocalDistribution-0.19-0/blib/arch
    /home/cpansand/.local/share/.cpan/build/2023123115/Parse-LocalDistribution-0.19-0/blib/lib
    /home/cpansand/.local/share/.cpan/build/2023123115/PAUSE-Permissions-0.17-0/blib/arch
    /home/cpansand/.local/share/.cpan/build/2023123115/PAUSE-Permissions-0.17-0/blib/lib
    /home/cpansand/.local/share/.cpan/build/2023123115/Config-Identity-0.0019-0/blib/arch
    /home/cpansand/.local/share/.cpan/build/2023123115/Config-Identity-0.0019-0/blib/lib
    /home/cpansand/.local/share/.cpan/build/2023123115/Pod-Tidy-0.10-0/blib/arch
    /home/cpansand/.local/share/.cpan/build/2023123115/Pod-Tidy-0.10-0/blib/lib
    /home/cpansand/.local/share/.cpan/build/2023123115/Test-Cmd-1.09-0/blib/arch
    /home/cpansand/.local/share/.cpan/build/2023123115/Test-Cmd-1.09-0/blib/lib
    /home/cpansand/.local/share/.cpan/build/2023123115/Pod-Wrap-0.01-0/blib/arch
    /home/cpansand/.local/share/.cpan/build/2023123115/Pod-Wrap-0.01-0/blib/lib
    /home/cpansand/.local/share/.cpan/build/2023123115/Encode-Newlines-0.05-0/blib/arch
    /home/cpansand/.local/share/.cpan/build/2023123115/Encode-Newlines-0.05-0/blib/lib
    /home/cpansand/.local/share/.cpan/build/2023123115/HTML-FormFu-MultiForm-1.03-0/blib/arch
    /home/cpansand/.local/share/.cpan/build/2023123115/HTML-FormFu-MultiForm-1.03-0/blib/lib
    /home/cpansand/.local/share/.cpan/build/2023123115/HTML-FormFu-2.07-1/blib/arch
    /home/cpansand/.local/share/.cpan/build/2023123115/HTML-FormFu-2.07-1/blib/lib
    /home/cpansand/.local/share/.cpan/build/2023123115/MooseX-Attribute-Chained-1.0.3-1/blib/arch
    /home/cpansand/.local/share/.cpan/build/2023123115/MooseX-Attribute-Chained-1.0.3-1/blib/lib
    /home/cpansand/.local/share/.cpan/build/2023123115/HTML-Scrubber-0.19-1/blib/arch
    /home/cpansand/.local/share/.cpan/build/2023123115/HTML-Scrubber-0.19-1/blib/lib
    /home/cpansand/.local/share/.cpan/build/2023123115/Code-TidyAll-Plugin-Perl-AlignMooseAttributes-0.01-0/blib/arch
    /home/cpansand/.local/share/.cpan/build/2023123115/Code-TidyAll-Plugin-Perl-AlignMooseAttributes-0.01-0/blib/lib
    /home/cpansand/.local/share/.cpan/build/2023123115/Catalyst-View-TT-0.46-2/blib/arch
    /home/cpansand/.local/share/.cpan/build/2023123115/Catalyst-View-TT-0.46-2/blib/lib
    /home/cpansand/.local/share/.cpan/build/2023123115/Template-Timer-1.00-2/blib/arch
    /home/cpansand/.local/share/.cpan/build/2023123115/Template-Timer-1.00-2/blib/lib
    /home/cpansand/.local/share/.cpan/build/2023123115/Catalyst-Plugin-Session-Store-File-0.18-1/blib/arch
    /home/cpansand/.local/share/.cpan/build/2023123115/Catalyst-Plugin-Session-Store-File-0.18-1/blib/lib
    /home/cpansand/.local/share/.cpan/build/2023123115/Catalyst-Plugin-Session-State-Cookie-0.18-2/blib/arch
    /home/cpansand/.local/share/.cpan/build/2023123115/Catalyst-Plugin-Session-State-Cookie-0.18-2/blib/lib
    /home/cpansand/.local/share/.cpan/build/2023123115/Catalyst-Authentication-Store-DBIx-Class-0.1506-1/blib/arch
    /home/cpansand/.local/share/.cpan/build/2023123115/Catalyst-Authentication-Store-DBIx-Class-0.1506-1/blib/lib
    /home/cpansand/.local/share/.cpan/build/2023123115/Catalyst-Plugin-Authentication-0.10023-2/blib/arch
    /home/cpansand/.local/share/.cpan/build/2023123115/Catalyst-Plugin-Authentication-0.10023-2/blib/lib
    /home/cpansand/.local/share/.cpan/build/2023123115/Catalyst-Plugin-Session-0.43-2/blib/arch
    /home/cpansand/.local/share/.cpan/build/2023123115/Catalyst-Plugin-Session-0.43-2/blib/lib
    /home/cpansand/.local/share/.cpan/build/2023123115/Object-Signature-1.08-2/blib/arch
    /home/cpansand/.local/share/.cpan/build/2023123115/Object-Signature-1.08-2/blib/lib
    /home/cpansand/.local/share/.cpan/build/2023123115/Catalyst-Model-DBIC-Schema-0.66-2/blib/arch
    /home/cpansand/.local/share/.cpan/build/2023123115/Catalyst-Model-DBIC-Schema-0.66-2/blib/lib
    /home/cpansand/.local/share/.cpan/build/2023123115/MooseX-Types-LoadableClass-0.015-2/blib/arch
    /home/cpansand/.local/share/.cpan/build/2023123115/MooseX-Types-LoadableClass-0.015-2/blib/lib
    /home/cpansand/.local/share/.cpan/build/2023123115/MooseX-MarkAsMethods-0.15-2/blib/arch
    /home/cpansand/.local/share/.cpan/build/2023123115/MooseX-MarkAsMethods-0.15-2/blib/lib
    /home/cpansand/.local/share/.cpan/build/2023123115/CatalystX-Component-Traits-0.19-2/blib/arch
    /home/cpansand/.local/share/.cpan/build/2023123115/CatalystX-Component-Traits-0.19-2/blib/lib
    /home/cpansand/.local/share/.cpan/build/2023123115/MooseX-Traits-Pluggable-0.12-2/blib/arch
    /home/cpansand/.local/share/.cpan/build/2023123115/MooseX-Traits-Pluggable-0.12-2/blib/lib
    /home/cpansand/.local/share/.cpan/build/2023123115/Catalyst-Component-InstancePerContext-0.001001-2/blib/arch
    /home/cpansand/.local/share/.cpan/build/2023123115/Catalyst-Component-InstancePerContext-0.001001-2/blib/lib
    /home/cpansand/.local/share/.cpan/build/2023123115/Catalyst-Action-RenderView-0.16-2/blib/arch
    /home/cpansand/.local/share/.cpan/build/2023123115/Catalyst-Action-RenderView-0.16-2/blib/lib
    /home/cpansand/.local/share/.cpan/build/2023123115/Catalyst-Action-REST-1.21-2/blib/arch
    /home/cpansand/.local/share/.cpan/build/2023123115/Catalyst-Action-REST-1.21-2/blib/lib
    /opt/perl-5.38.0/lib/site_perl/5.38.0/x86_64-linux
    /opt/perl-5.38.0/lib/site_perl/5.38.0
    /opt/perl-5.38.0/lib/5.38.0/x86_64-linux
    /opt/perl-5.38.0/lib/5.38.0
    .