Back
From: metabase:user:315f03b2-2aae-11df-837a-5e0a49663a4f
Subject: PASS Finance-Bank-US-INGDirect-0.08 v5.14.0 SunOS/Solaris
Date: 2011-06-02T13:50:26Z
This distribution has been tested as part of the CPAN Testers
project, supporting the Perl programming language. See
http://wiki.cpantesters.org/ for more information or email
questions to cpan-testers-discuss@perl.org
--
Dear Steven N. Severinghaus,
This is a computer-generated report for Finance-Bank-US-INGDirect-0.08
on perl 5.14.0, created by CPAN-Reporter-1.1902.
Thank you for uploading your work to CPAN. Congratulations!
All tests were successful.
Sections of this report:
* Tester comments
* Program output
* Prerequisites
* Environment and other context
------------------------------
TESTER COMMENTS
------------------------------
Additional comments from tester:
this report is from an automated smoke testing program
and was not reviewed by a human for accuracy
------------------------------
PROGRAM OUTPUT
------------------------------
Output from '/usr/local/bin/make test':
PERL_DL_NONLAZY=1 /export/home/smoke/perl5/perlbrew/perls/perl-5.14.0/bin/perl "-MExtUtils::Command::MM" "-e" "test_harness(0, 'blib/lib', 'blib/arch')" t/*.t
# Testing Finance::Bank::US::INGDirect 0.08, Perl 5.014000, /export/home/smoke/perl5/perlbrew/perls/perl-5.14.0/bin/perl
t/00-load.t ....... ok
t/boilerplate.t ... ok
t/pod-coverage.t .. skipped: Test::Pod::Coverage 1.08 required for testing POD coverage
t/pod.t ........... skipped: Test::Pod 1.22 required for testing POD
All tests successful.
Test Summary Report
-------------------
t/boilerplate.t (Wstat: 0 Tests: 3 Failed: 0)
TODO passed: 1-3
Files=4, Tests=4, 1 wallclock secs ( 0.11 usr 0.03 sys + 0.49 cusr 0.07 csys = 0.70 CPU)
Result: PASS
------------------------------
PREREQUISITES
------------------------------
Prerequisite modules loaded:
requires:
Module Need Have
------------------- ---- -------
Date::Parse 0 2.30
HTML::TableExtract 0 2.10
HTTP::Cookies 0 6.00
LWP::UserAgent 0 6.02
Test::More 0 0.98
build_requires:
Module Need Have
------------------- ---- -------
ExtUtils::MakeMaker 0 6.57_05
configure_requires:
Module Need Have
------------------- ---- -------
ExtUtils::MakeMaker 0 6.57_05
------------------------------
ENVIRONMENT AND OTHER CONTEXT
------------------------------
Environment variables:
AUTOMATED_TESTING = 1
LANG = en_US.UTF-8
LC_CTYPE = en_US.UTF-8
PATH = /export/home/smoke/perl5/perlbrew/bin:/export/home/smoke/perl5/perlbrew/perls/perl-5.14.0/bin:/usr/ccs/bin:/usr/local/bin:/usr/bin
PATH_WITHOUT_PERLBREW = /usr/ccs/bin:/usr/local/bin:/usr/bin
PERL5LIB = /export/home/smoke/.cpan/build/TimeDate-1.20-23HEqI/blib/arch:/export/home/smoke/.cpan/build/TimeDate-1.20-23HEqI/blib/lib:/export/home/smoke/.cpan/build/HTML-TableExtract-2.10-R9sNb4/blib/arch:/export/home/smoke/.cpan/build/HTML-TableExtract-2.10-R9sNb4/blib/lib
PERL5OPT =
PERL5_CPANPLUS_IS_RUNNING = 16095
PERL5_CPAN_IS_RUNNING = 16095
PERL5_CPAN_IS_RUNNING_IN_RECURSION = 2546,16095
PERLBREW_PATH = /export/home/smoke/perl5/perlbrew/bin:/export/home/smoke/perl5/perlbrew/perls/perl-5.14.0/bin
PERLBREW_PERL = perl-5.14.0
PERLBREW_ROOT = /export/home/smoke/perl5/perlbrew
PERLBREW_VERSION = 0.22
PERL_CR_SMOKER_CURRENT = Finance-Bank-US-INGDirect-0.08
PERL_EXTUTILS_AUTOINSTALL = --defaultdeps
PERL_MM_USE_DEFAULT = 1
SHELL = /usr/bin/bash
TERM = xterm
Perl special variables (and OS-specific diagnostics, for MSWin32):
$^X = /export/home/smoke/perl5/perlbrew/perls/perl-5.14.0/bin/perl
$UID/$EUID = 101 / 101
$GID = 1 1
$EGID = 1 1
Perl module toolchain versions installed:
Module Have
------------------- --------
CPAN 1.9600
Cwd 3.36
ExtUtils::CBuilder 0.280203
ExtUtils::Command 1.17
ExtUtils::Install 1.56
ExtUtils::MakeMaker 6.57_05
ExtUtils::Manifest 1.58
ExtUtils::ParseXS 2.2210
File::Spec 3.33
Module::Build 0.3800
Module::Signature n/a
Test::Harness 3.23
Test::More 0.98
YAML n/a
YAML::Syck n/a
version 0.88
--
Summary of my perl5 (revision 5 version 14 subversion 0) configuration:
Platform:
osname=solaris, osvers=2.10, archname=sun4-solaris
uname='sunos sparcy 5.10 generic_142909-17 sun4u sparc sunw,a70 '
config_args='-de -Dprefix=/export/home/smoke/perl5/perlbrew/perls/perl-5.14.0 -Dcc=gcc'
hint=recommended, useposix=true, d_sigaction=define
useithreads=undef, usemultiplicity=undef
useperlio=define, d_sfio=undef, uselargefiles=define, usesocks=undef
use64bitint=undef, use64bitall=undef, uselongdouble=undef
usemymalloc=n, bincompat5005=undef
Compiler:
cc='gcc', ccflags ='-fno-strict-aliasing -pipe -I/usr/local/include -D_LARGEFILE_SOURCE -D_FILE_OFFSET_BITS=64 -DPERL_USE_SAFE_PUTENV',
optimize='-O',
cppflags='-fno-strict-aliasing -pipe -I/usr/local/include'
ccversion='', gccversion='3.4.6', gccosandvers='solaris2.10'
intsize=4, longsize=4, ptrsize=4, doublesize=8, byteorder=4321
d_longlong=define, longlongsize=8, d_longdbl=define, longdblsize=16
ivtype='long', ivsize=4, nvtype='double', nvsize=8, Off_t='off_t', lseeksize=8
alignbytes=8, prototype=define
Linker and Libraries:
ld='gcc', ldflags =' -L/usr/local/lib '
libpth=/usr/local/lib /usr/lib /usr/ccs/lib
libs=-lsocket -lnsl -lgdbm -ldl -lm -lc
perllibs=-lsocket -lnsl -ldl -lm -lc
libc=/lib/libc.so, so=so, useshrplib=false, libperl=libperl.a
gnulibc_version=''
Dynamic Linking:
dlsrc=dl_dlopen.xs, dlext=so, d_dlsymun=undef, ccdlflags=' '
cccdlflags='-fPIC', lddlflags='-G -L/usr/local/lib'
Characteristics of this binary (from libperl):
Compile-time options: PERL_DONT_CREATE_GVSV PERL_MALLOC_WRAP
PERL_PRESERVE_IVUV PERL_USE_SAFE_PUTENV
USE_LARGE_FILES USE_PERLIO USE_PERL_ATOF
Built under solaris
Compiled at May 30 2011 12:08:42
%ENV:
PERL5LIB="/export/home/smoke/.cpan/build/TimeDate-1.20-23HEqI/blib/arch:/export/home/smoke/.cpan/build/TimeDate-1.20-23HEqI/blib/lib:/export/home/smoke/.cpan/build/HTML-TableExtract-2.10-R9sNb4/blib/arch:/export/home/smoke/.cpan/build/HTML-TableExtract-2.10-R9sNb4/blib/lib"
PERL5OPT=""
PERL5_CPANPLUS_IS_RUNNING="16095"
PERL5_CPAN_IS_RUNNING="16095"
PERL5_CPAN_IS_RUNNING_IN_RECURSION="2546,16095"
PERLBREW_PATH="/export/home/smoke/perl5/perlbrew/bin:/export/home/smoke/perl5/perlbrew/perls/perl-5.14.0/bin"
PERLBREW_PERL="perl-5.14.0"
PERLBREW_ROOT="/export/home/smoke/perl5/perlbrew"
PERLBREW_VERSION="0.22"
PERL_CR_SMOKER_CURRENT="Finance-Bank-US-INGDirect-0.08"
PERL_EXTUTILS_AUTOINSTALL="--defaultdeps"
PERL_MM_USE_DEFAULT="1"
@INC:
/export/home/smoke/.cpan/build/TimeDate-1.20-23HEqI/blib/arch
/export/home/smoke/.cpan/build/TimeDate-1.20-23HEqI/blib/lib
/export/home/smoke/.cpan/build/HTML-TableExtract-2.10-R9sNb4/blib/arch
/export/home/smoke/.cpan/build/HTML-TableExtract-2.10-R9sNb4/blib/lib
/export/home/smoke/perl5/perlbrew/perls/perl-5.14.0/lib/site_perl/5.14.0/sun4-solaris
/export/home/smoke/perl5/perlbrew/perls/perl-5.14.0/lib/site_perl/5.14.0
/export/home/smoke/perl5/perlbrew/perls/perl-5.14.0/lib/5.14.0/sun4-solaris
/export/home/smoke/perl5/perlbrew/perls/perl-5.14.0/lib/5.14.0
.