PAR-Packer v1.063_001 Perl 5 v5.8.9 amd64-freebsd
- Status
- Pass
- From
- David Cantrell (DCANTRELL)
- Dist
-
PAR-Packer v1.063_001
- Platform
- Perl 5 v5.8.9 amd64-freebsd
- Date
- 2024-06-26 00:37:30
- ID
- 4551fbd6-3354-11ef-ad6d-a91b1f78bb78
This distribution has been tested as part of the CPAN Testers
project, supporting the Perl programming language. See
http://wiki.cpantesters.org/ for more information or email
questions to cpan-testers-discuss@perl.org
--
Dear Roderich Schupp,
This is a computer-generated report for PAR-Packer-1.063_001
on perl 5.8.9, created by CPAN-Reporter-1.2018.
Thank you for uploading your work to CPAN. Congratulations!
All tests were successful.
Sections of this report:
* Tester comments
* Program output
* Prerequisites
* Environment and other context
------------------------------
TESTER COMMENTS
------------------------------
Additional comments from tester:
this report is from an automated smoke testing program
and was not reviewed by a human for accuracy
------------------------------
PROGRAM OUTPUT
------------------------------
Output from '/usr/bin/make test':
"/home/david/cpantesting/perl-5.8.9/bin/perl" -MExtUtils::Command::MM -e 'cp_nonempty' -- XSFoo.bs ../blib/arch/auto/XSFoo/XSFoo.bs 644
"/home/david/cpantesting/perl-5.8.9/bin/perl" -MExtUtils::Command::MM -e 'cp_nonempty' -- XSFoo.bs ../blib/arch/auto/XSFoo/XSFoo.bs 644
No tests defined for XSFoo extension.
No tests defined for myldr extension.
PERL_DL_NONLAZY=1 "/home/david/cpantesting/perl-5.8.9/bin/perl" "-MExtUtils::Command::MM" "-MTest::Harness" "-e" "undef *Test::Harness::Switches; test_harness(0, 'blib/lib', 'blib/arch')" t/*.t
t/00-pod.................skipped
all skipped: Set environment variable PERL_TEST_POD=1 to test POD
t/10-parl-generation.....ok
t/20-pp................../tmp/1lSpdJr8bT syntax OK
ok
t/30-current_exec........ok
t/40-packer_cd_option....ok
t/80-doublecolon.........ok
t/85-crt-glob............ok
t/85-ldlibpthname........ok
t/85-myfile..............ok
t/86-xs-exe..............# greetings from XSFoo
# dl_shared_objects = /tmp/Qn8NmyA6T2/par-6461766964/cache-f13d947de66641ee52976e586469a51638722291/543bc9ab.so /tmp/Qn8NmyA6T2/par-6461766964/cache-f13d947de66641ee52976e586469a51638722291/7da40acd.so /tmp/Qn8NmyA6T2/par-6461766964/cache-f13d947de66641ee52976e586469a51638722291/c4489528.so /tmp/Qn8NmyA6T2/par-6461766964/cache-f13d947de66641ee52976e586469a51638722291/6b0121ff.so /tmp/Qn8NmyA6T2/par-6461766964/cache-f13d947de66641ee52976e586469a51638722291/ee0cb70b.so /tmp/Qn8NmyA6T2/par-6461766964/cache-f13d947de66641ee52976e586469a51638722291/a2fc323b.so /tmp/Qn8NmyA6T2/par-6461766964/cache-f13d947de66641ee52976e586469a51638722291/abae455d.so /tmp/Qn8NmyA6T2/par-6461766964/cache-f13d947de66641ee52976e586469a51638722291/c02cc5a4.so /tmp/Qn8NmyA6T2/par-6461766964/cache-f13d947de66641ee52976e586469a51638722291/bee67f53.so /tmp/Qn8NmyA6T2/par-6461766964/cache-f13d947de66641ee52976e586469a51638722291/ac1abd4f.so /tmp/Qn8NmyA6T2/par-6461766964/cache-f13d947de66641ee52976e586469a51638722291/inc/lib/auto/XSFoo/XSFoo.so
# dl_modules = IO Fcntl Cwd Compress::Raw::Zlib List::Util Encode Storable File::Glob Digest::SHA PerlIO::scalar XSFoo
ok
t/86-xs-par..............ok
t/87-xs-cross............skipped
all skipped: Tests only relevant on Windows
t/90-exitcode............ok
t/90-gh41................skipped
all skipped: Tests only relevant on Windows
t/90-gh66................ok
t/90-rt101800............# PAR_TEMP = /tmp/KN6dxVS9eO/par-6461766964/cache-e871e84bef0b89e17cba2e721022c55d52089b47
# running /tmp/KN6dxVS9eO/pp000 a second time
# running /tmp/KN6dxVS9eO/pp000 a third time
ok
t/90-rt103861............ok
t/90-rt104560............ok
t/90-rt104635............ok
t/90-rt122949............skipped
all skipped: Tests only relevant on Windows
t/90-rt127064............skipped
all skipped: Tests only relevant on Windows
t/90-rt129312............ok
t/90-rt130685............# found core module Carp in /usr/home/david/cpantesting/perl-5.8.9/lib/5.8.9/Carp.pm
# found core module Exporter in /usr/home/david/cpantesting/perl-5.8.9/lib/5.8.9/Exporter.pm
# found core module File::Glob in /usr/home/david/cpantesting/perl-5.8.9/lib/5.8.9/amd64-freebsd/File/Glob.pm
# found core module List::Util in /usr/home/david/cpantesting/perl-5.8.9/lib/5.8.9/amd64-freebsd/List/Util.pm
ok
8/8 skipped: various reasons
t/90-rt59710.............ok
All tests successful, 5 tests and 8 subtests skipped.
Files=24, Tests=162, 431 wallclock secs (155.99 cusr + 122.97 csys = 278.96 CPU)
------------------------------
PREREQUISITES
------------------------------
Prerequisite modules loaded:
requires:
Module Need Have
--------------------- -------- --------
Archive::Zip 1.02 1.68
Compress::Zlib 1.30 2.204
Digest::SHA 5.40 6.04
File::Temp 0.05 0.2311
Getopt::ArgvFile 1.07 1.11
IO::Compress::Gzip 0 2.204
Module::ScanDeps 1.21 1.35
PAR 1.020 1.020
PAR::Dist 0.22 0.53
perl 5.008009 5.008009
Text::ParseWords 0 3.31
build_requires:
Module Need Have
--------------------- -------- --------
ExtUtils::MakeMaker 0 7.71_01
IPC::Run3 0.048 0.048
Test::More 0 1.302198
configure_requires:
Module Need Have
--------------------- -------- --------
DynaLoader 0 1.09
ExtUtils::CBuilder 0 0.280236
ExtUtils::Embed 0 1.28
ExtUtils::MakeMaker 6.31 7.71_01
File::Basename 0 2.77
File::Glob 0 1.06
File::Spec::Functions 0 3.75
------------------------------
ENVIRONMENT AND OTHER CONTEXT
------------------------------
Environment variables:
AUTOMATED_TESTING = 1
LANG = en_GB.UTF-8
NONINTERACTIVE_TESTING = 1
PATH = /home/david/perl5/perlbrew/bin:/home/david/perl5/perlbrew/perls/perl-5.30.2/bin:/home/david/.cargo/bin:/sbin:/bin:/usr/sbin:/usr/bin:/usr/local/sbin:/usr/local/bin:/home/david/bin
PERL = 5.8.9
PERL5LIB =
PERL5OPT =
PERL5_CPANPLUS_IS_RUNNING = 14791
PERL5_CPAN_IS_RUNNING = 14791
PERLBREW_HOME = /home/david/.perlbrew
PERLBREW_MANPATH = /home/david/perl5/perlbrew/perls/perl-5.30.2/man
PERLBREW_PATH = /home/david/perl5/perlbrew/bin:/home/david/perl5/perlbrew/perls/perl-5.30.2/bin
PERLBREW_PERL = perl-5.30.2
PERLBREW_ROOT = /home/david/perl5/perlbrew
PERLBREW_SHELLRC_VERSION = 0.89
PERLBREW_VERSION = 0.89
PERLVER = 5.8.9
PERL_INLINE_DIRECTORY = /home/david/.Inline-5.8.9
PERL_MM_USE_DEFAULT = 1
PERL_USE_UNSAFE_INC = 0
SHELL = /usr/local/bin/bash
TERM = screen
Perl special variables (and OS-specific diagnostics, for MSWin32):
$^X = /home/david/cpantesting/perl-5.8.9/bin/perl
$UID/$EUID = 1001 / 1001
$GID = 1001 1001 0
$EGID = 1001 1001 0
Perl module toolchain versions installed:
Module Have
------------------- --------
CPAN 1.94
CPAN::Meta 2.150010
Cwd 3.75
ExtUtils::CBuilder 0.280236
ExtUtils::Command 7.71_01
ExtUtils::Install 2.22
ExtUtils::MakeMaker 7.71_01
ExtUtils::Manifest 1.75
ExtUtils::ParseXS 3.51
File::Spec 3.75
JSON 4.10
JSON::PP 4.16
Module::Build n/a
Module::Signature n/a
Parse::CPAN::Meta 2.150010
Test::Harness 2.64
Test::More 1.302198
YAML 1.30
YAML::Syck n/a
version 0.9930
--
Summary of my perl5 (revision 5 version 8 subversion 9) configuration:
Platform:
osname=freebsd, osvers=13.0-release-p7, archname=amd64-freebsd
uname='freebsd cpantesting-freebsd-utm.local 13.0-release-p7 freebsd 13.0-release-p7 #0: mon jan 31 18:24:03 utc 2022 root@amd64-builder.daemonology.net:usrobjusrsrcamd64.amd64sysgeneric amd64 '
config_args='-de -Dprefix=/home/david/cpantesting/perl-5.8.9'
hint=recommended, useposix=true, d_sigaction=define
usethreads=undef use5005threads=undef useithreads=undef usemultiplicity=undef
useperlio=define d_sfio=undef uselargefiles=define usesocks=undef
use64bitint=define use64bitall=define uselongdouble=undef
usemymalloc=n, bincompat5005=undef
Compiler:
cc='cc', ccflags ='-DHAS_FPSETMASK -DHAS_FLOATINGPOINT_H -fno-strict-aliasing -pipe -I/usr/local/include',
optimize='-O2',
cppflags='-DHAS_FPSETMASK -DHAS_FLOATINGPOINT_H -fno-strict-aliasing -pipe -I/usr/local/include'
ccversion='', gccversion='FreeBSD Clang 11.0.1 (git@github.com:llvm/llvm-project.git llvmorg-11.0.1-0-g43ff75f2c3fe)', gccosandvers=''
intsize=4, longsize=8, ptrsize=8, doublesize=8, byteorder=12345678
d_longlong=define, longlongsize=8, d_longdbl=define, longdblsize=16
ivtype='long', ivsize=8, nvtype='double', nvsize=8, Off_t='off_t', lseeksize=8
alignbytes=8, prototype=define
Linker and Libraries:
ld='cc', ldflags ='-Wl,-E -L/usr/local/lib'
libpth=/usr/lib /usr/local/lib
libs=-lgdbm -ldl -lm -lcrypt -lutil -lc
perllibs=-ldl -lm -lcrypt -lutil -lc
libc=, so=so, useshrplib=false, libperl=libperl.a
gnulibc_version=''
Dynamic Linking:
dlsrc=dl_dlopen.xs, dlext=so, d_dlsymun=undef, ccdlflags=' '
cccdlflags='-DPIC -fPIC', lddlflags='-shared -L/usr/local/lib'
Characteristics of this binary (from libperl):
Compile-time options: PERL_MALLOC_WRAP USE_64_BIT_ALL USE_64_BIT_INT
USE_FAST_STDIO USE_LARGE_FILES USE_PERLIO
Locally applied patches:
Devel::PatchPerl 2.08
Built under freebsd
Compiled at Feb 3 2022 12:51:08
%ENV:
PERL="5.8.9"
PERL5LIB=""
PERL5OPT=""
PERL5_CPANPLUS_IS_RUNNING="14791"
PERL5_CPAN_IS_RUNNING="14791"
PERLBREW_HOME="/home/david/.perlbrew"
PERLBREW_MANPATH="/home/david/perl5/perlbrew/perls/perl-5.30.2/man"
PERLBREW_PATH="/home/david/perl5/perlbrew/bin:/home/david/perl5/perlbrew/perls/perl-5.30.2/bin"
PERLBREW_PERL="perl-5.30.2"
PERLBREW_ROOT="/home/david/perl5/perlbrew"
PERLBREW_SHELLRC_VERSION="0.89"
PERLBREW_VERSION="0.89"
PERLVER="5.8.9"
PERL_INLINE_DIRECTORY="/home/david/.Inline-5.8.9"
PERL_MM_USE_DEFAULT="1"
PERL_USE_UNSAFE_INC="0"
@INC:
/home/david/cpantesting/perl-5.8.9/lib/5.8.9/amd64-freebsd
/home/david/cpantesting/perl-5.8.9/lib/5.8.9
/home/david/cpantesting/perl-5.8.9/lib/site_perl/5.8.9/amd64-freebsd
/home/david/cpantesting/perl-5.8.9/lib/site_perl/5.8.9
.