Report for Text-Template-Simple-0.84

Back
From: metabase:user:d2c9f356-b46f-11df-9a90-20a83c0b7757
Subject: PASS Text-Template-Simple-0.84 v5.15.5 SunOS/Solaris
Date: 2011-12-01T06:18:22Z

This distribution has been tested as part of the CPAN Testers
project, supporting the Perl programming language.  See
http://wiki.cpantesters.org/ for more information or email
questions to cpan-testers-discuss@perl.org


--
Dear Burak Gursoy,

This is a computer-generated report for Text-Template-Simple-0.84
on perl 5.15.5, created by CPAN-Reporter-1.2002.

Thank you for uploading your work to CPAN.  Congratulations!
All tests were successful.

Sections of this report:

    * Tester comments
    * Program output
    * Prerequisites
    * Environment and other context

------------------------------
TESTER COMMENTS
------------------------------

Additional comments from tester:

this report is from an automated smoke testing program
and was not reviewed by a human for accuracy

------------------------------
PROGRAM OUTPUT
------------------------------

Output from './Build test':

t/003-simple.t .................................. ok
t/003-taint-mode-simple.t ....................... ok
t/004-extend.t .................................. ok
t/004-taint-mode-extend.t ....................... ok
t/005-safe.t .................................... ok
t/005-taint-mode-safe.t ......................... ok
t/006-iolayer.t ................................. ok
t/006-taint-mode-iolayer.t ...................... ok
t/007-stack.t ................................... ok
t/007-taint-mode-stack.t ........................ ok
t/008-escape-delim.t ............................ ok
t/008-taint-mode-escape-delim.t ................. ok
t/009-subclass.t ................................ ok
t/009-taint-mode-subclass.t ..................... ok
t/010-subclass-define-bufvar.t .................. ok
t/010-taint-mode-subclass-define-bufvar.t ....... ok
t/011-cache-mem.t ............................... ok
t/011-taint-mode-cache-mem.t .................... ok
t/012-cache-disk.t .............................. ok
t/012-taint-mode-cache-disk.t ................... ok
t/013-cache-other.t ............................. ok
t/013-taint-mode-cache-other.t .................. ok
t/014-interface.t ............................... ok
t/014-taint-mode-interface.t .................... ok
t/015-connector.t ............................... ok
t/015-taint-mode-connector.t .................... ok
t/016-include-static.t .......................... ok
t/016-taint-mode-include-static.t ............... ok
t/017-include-dynamic.t ......................... ok
t/017-taint-mode-include-dynamic.t .............. ok
t/018-include-dynamic-recursive.t ............... ok
t/018-taint-mode-include-dynamic-recursive.t .... ok
t/019-dynamic-static-interpolate.t .............. ok
t/019-taint-mode-dynamic-static-interpolate.t ... ok
t/020-fake-include-recursive.t .................. ok
t/020-taint-mode-fake-include-recursive.t ....... ok
t/021-comment.t ................................. ok
t/021-taint-mode-comment.t ...................... ok
t/022-monolith.t ................................ ok
t/022-taint-mode-monolith.t ..................... ok
t/023-change-delims.t ........................... ok
t/023-taint-mode-change-delims.t ................ ok
t/024-include-paths.t ........................... ok
t/024-taint-mode-include-paths.t ................ ok
t/025-chomp.t ................................... ok
t/025-taint-mode-chomp.t ........................ ok
t/026-taint-mode-template-name-dollar-zero.t .... ok
t/026-template-name-dollar-zero.t ............... ok
t/027-include-param.t ........................... ok
t/027-taint-mode-include-param.t ................ ok
t/028-include-filter.t .......................... ok
t/028-taint-mode-include-filter.t ............... ok
t/029-block-filter.t ............................ ok
t/029-taint-mode-block-filter.t ................. ok
t/030-taint-mode-toke-substr.t .................. ok
t/030-toke-substr.t ............................. ok
t/031-capture-warnings.t ........................ ok
t/031-taint-mode-capture-warnings.t ............. ok
t/032-empty-includes.t .......................... ok
t/032-taint-mode-empty-includes.t ............... ok
t/033-dynamic-include-shared-vars.t ............. ok
t/033-taint-mode-dynamic-include-shared-vars.t .. ok
t/201-pod.t ..................................... ok
t/202-pod-coverage.t ............................ ok
All tests successful.
Files=64, Tests=695,  9 wallclock secs ( 0.35 usr  0.14 sys +  6.85 cusr  0.55 csys =  7.89 CPU)
Result: PASS

------------------------------
PREREQUISITES
------------------------------

Prerequisite modules loaded:

requires:

    Module        Need Have   
    ------------- ---- -------
    Digest::MD5   1    2.51   

build_requires:

    Module        Need Have   
    ------------- ---- -------
    File::Temp    0.12 0.22   
    Test::More    0.40 0.98   

configure_requires:

    Module        Need Have   
    ------------- ---- -------
    Module::Build 0.38 0.39_01


------------------------------
ENVIRONMENT AND OTHER CONTEXT
------------------------------

Environment variables:

    AUTOMATED_TESTING = 1
    LANG = C
    LD_LIBRARY_PATH = /usr/local/lib:
    PATH = /export/home/cpant4/perl5/bin:/usr/local/bin:/usr/bin
    PERL5LIB = 
    PERL5OPT = 
    PERL5_CPANPLUS_IS_RUNNING = 8183
    PERL5_CPAN_IS_RUNNING = 8183
    PERL5_CPAN_IS_RUNNING_IN_RECURSION = 134,8183
    PERL_CR_SMOKER_CURRENT = Text-Template-Simple-0.84
    PERL_EXTUTILS_AUTOINSTALL = --defaultdeps
    PERL_MM_USE_DEFAULT = 1
    SHELL = /bin/bash
    TERM = xterm

Perl special variables (and OS-specific diagnostics, for MSWin32):

    $^X = /export/home/cpant4/perl5/bin/perl5.15.5
    $UID/$EUID = 104 / 104
    $GID = 1 1
    $EGID = 1 1

Perl module toolchain versions installed:

    Module              Have    
    ------------------- --------
    CPAN                1.9800  
    CPAN::Meta          2.112621
    Cwd                 3.37    
    ExtUtils::CBuilder  0.280204
    ExtUtils::Command   1.17    
    ExtUtils::Install   1.57    
    ExtUtils::MakeMaker 6.63_02 
    ExtUtils::Manifest  1.60    
    ExtUtils::ParseXS   3.05    
    File::Spec          3.34    
    JSON                2.53    
    JSON::PP            2.27200 
    Module::Build       0.39_01 
    Module::Signature   n/a     
    Parse::CPAN::Meta   1.4401  
    Test::Harness       3.23    
    Test::More          0.98    
    YAML                0.77    
    YAML::Syck          1.19    
    version             0.95    


--

Summary of my perl5 (revision 5 version 15 subversion 5) configuration:
   
  Platform:
    osname=solaris, osvers=2.10, archname=i86pc-solaris-64int
    uname='sunos vmrz0046 5.10 generic_141445-09 i86pc i386 i86pc solaris '
    config_args='-Dcc=gcc -Dprefix=~/perl5 -Duse64bitint -Dusedevel -d'
    hint=recommended, useposix=true, d_sigaction=define
    useithreads=undef, usemultiplicity=undef
    useperlio=define, d_sfio=undef, uselargefiles=define, usesocks=undef
    use64bitint=define, use64bitall=undef, uselongdouble=undef
    usemymalloc=n, bincompat5005=undef
  Compiler:
    cc='gcc', ccflags ='-DPTR_IS_LONG -fno-strict-aliasing -pipe -I/usr/local/include -D_LARGEFILE_SOURCE -D_FILE_OFFSET_BITS=64 -DPERL_USE_SAFE_PUTENV',
    optimize='-O',
    cppflags='-DPTR_IS_LONG -fno-strict-aliasing -pipe -I/usr/local/include'
    ccversion='', gccversion='3.4.6', gccosandvers='solaris2.10'
    intsize=4, longsize=4, ptrsize=4, doublesize=8, byteorder=12345678
    d_longlong=define, longlongsize=8, d_longdbl=define, longdblsize=12
    ivtype='long long', ivsize=8, nvtype='double', nvsize=8, Off_t='off_t', lseeksize=8
    alignbytes=4, prototype=define
  Linker and Libraries:
    ld='gcc', ldflags =' -L/usr/local/lib '
    libpth=/usr/local/lib /usr/lib /usr/ccs/lib
    libs=-lsocket -lnsl -lgdbm -ldl -lm -lc
    perllibs=-lsocket -lnsl -ldl -lm -lc
    libc=/lib/libc.so, so=so, useshrplib=false, libperl=libperl.a
    gnulibc_version=''
  Dynamic Linking:
    dlsrc=dl_dlopen.xs, dlext=so, d_dlsymun=undef, ccdlflags=' '
    cccdlflags='-fPIC', lddlflags='-G -L/usr/local/lib'


Characteristics of this binary (from libperl): 
  Compile-time options: HAS_TIMES PERLIO_LAYERS PERL_DONT_CREATE_GVSV
                        PERL_MALLOC_WRAP PERL_PRESERVE_IVUV PERL_USE_DEVEL
                        PERL_USE_SAFE_PUTENV USE_64_BIT_INT USE_LARGE_FILES
                        USE_LOCALE USE_LOCALE_COLLATE USE_LOCALE_CTYPE
                        USE_LOCALE_NUMERIC USE_PERLIO USE_PERL_ATOF
  Built under solaris
  Compiled at Nov 28 2011 11:34:47
  %ENV:
    PERL5LIB=""
    PERL5OPT=""
    PERL5_CPANPLUS_IS_RUNNING="8183"
    PERL5_CPAN_IS_RUNNING="8183"
    PERL5_CPAN_IS_RUNNING_IN_RECURSION="134,8183"
    PERL_CR_SMOKER_CURRENT="Text-Template-Simple-0.84"
    PERL_EXTUTILS_AUTOINSTALL="--defaultdeps"
    PERL_MM_USE_DEFAULT="1"
  @INC:
    /export/home/cpant4/perl5/lib/site_perl/5.15.5/i86pc-solaris-64int
    /export/home/cpant4/perl5/lib/site_perl/5.15.5
    /export/home/cpant4/perl5/lib/5.15.5/i86pc-solaris-64int
    /export/home/cpant4/perl5/lib/5.15.5
    /export/home/cpant4/perl5/lib/site_perl
    .