Report for Test-HexDifferences-1.001

Back
From: metabase:user:30f4dfbe-2aae-11df-837a-5e0a49663a4f
Subject: PASS Test-HexDifferences-1.001 v5.8.3 GNU/Linux
Date: 2017-07-04T10:12:22Z

This distribution has been tested as part of the CPAN Testers
project, supporting the Perl programming language.  See
http://wiki.cpantesters.org/ for more information or email
questions to cpan-testers-discuss@perl.org


--
Dear Steffen Winkler,

This is a computer-generated report for Test-HexDifferences-1.001
on perl 5.8.3, created by CPAN-Reporter-1.2017.

Thank you for uploading your work to CPAN.  Congratulations!
All tests were successful.

Sections of this report:

    * Tester comments
    * Program output
    * Prerequisites
    * Environment and other context

------------------------------
TESTER COMMENTS
------------------------------

Additional comments from tester:

this report is from an automated smoke testing program
and was not reviewed by a human for accuracy

------------------------------
PROGRAM OUTPUT
------------------------------

Output from '/usr/bin/make test':

PERL_DL_NONLAZY=1 "/home/njh/perl5/perlbrew/perls/perl-5.8.3/bin/perl" "-MExtUtils::Command::MM" "-MTest::Harness" "-e" "undef *Test::Harness::Switches; test_harness(0, 'blib/lib', 'blib/arch')" t/*.t
t/01_format_iterator.t ......... ok
t/02_hex_dump.t ................ ok
t/03_all_formats.t ............. ok
t/11_eq_or_dump_diff.t ......... ok
t/21_test_examples.t ........... skipped: Set $ENV{AUTHOR_TESTING} to run this test.
t/12_dumped_eq_dump_or_diff.t .. ok
t/perl_critic.t ................ skipped: Test::Perl::Critic required
t/chars.t ...................... skipped: Author test. Set $ENV{AUTHOR_TESTING} to a true value to run.
t/pod_coverage.t ............... skipped: Test::Pod::Coverage 1.04 required for testing POD coverage
t/prereq_build.t ............... skipped: Author test.  Set $ENV{RELEASE_TESTING} to a true value to run.
t/pod.t ........................ ok
All tests successful.
Files=11, Tests=75,  0 wallclock secs ( 0.05 usr  0.03 sys +  0.46 cusr  0.05 csys =  0.59 CPU)
Result: PASS

------------------------------
PREREQUISITES
------------------------------

Prerequisite modules loaded:

requires:

    Module                Need Have    
    --------------------- ---- --------
    Hash::Util            0    0.05    
    Sub::Exporter         0    0.987   
    Test::Builder::Module 0.99 1.001014
    Test::Differences     0.60 0.64    
    Test::More            0    1.001014
    Test::NoWarnings      0    1.04    
    Test::Tester          0    0.114   
    Text::Diff            0    1.43    
    version               0    0.9912  

build_requires:

    Module                Need Have    
    --------------------- ---- --------
    ExtUtils::MakeMaker   0    7.18    

configure_requires:

    Module                Need Have    
    --------------------- ---- --------
    ExtUtils::MakeMaker   0    7.18    


------------------------------
ENVIRONMENT AND OTHER CONTEXT
------------------------------

Environment variables:

    AUTOMATED_TESTING = 1
    HARNESS_OPTIONS = j2
    LANG = en_US.UTF-8
    PATH = /home/njh/perl5/perlbrew/bin:/home/njh/perl5/perlbrew/perls/perl-5.8.3/bin:/home/njh/perl5/perlbrew/bin:/usr/bin:/bin
    PERL5LIB = /home/njh/.cpan/build/Sub-Exporter-0.987-17/blib/arch:/home/njh/.cpan/build/Sub-Exporter-0.987-17/blib/lib:/home/njh/.cpan/build/Data-OptList-0.110-23/blib/arch:/home/njh/.cpan/build/Data-OptList-0.110-23/blib/lib:/home/njh/.cpan/build/Sub-Install-0.928-22/blib/arch:/home/njh/.cpan/build/Sub-Install-0.928-22/blib/lib:/home/njh/.cpan/build/Params-Util-1.07-32/blib/arch:/home/njh/.cpan/build/Params-Util-1.07-32/blib/lib
    PERL5OPT = 
    PERL5_CPANPLUS_IS_RUNNING = 16530
    PERL5_CPAN_IS_RUNNING = 16530
    PERLBREW_BASHRC_VERSION = 0.73
    PERLBREW_HOME = /home/njh/.perlbrew
    PERLBREW_LIB = 
    PERLBREW_MANPATH = /home/njh/perl5/perlbrew/perls/perl-5.8.3/man
    PERLBREW_PATH = /home/njh/perl5/perlbrew/bin:/home/njh/perl5/perlbrew/perls/perl-5.8.3/bin
    PERLBREW_PERL = perl-5.8.3
    PERLBREW_ROOT = /home/njh/perl5/perlbrew
    PERLBREW_VERSION = 0.73
    PERL_LOCAL_LIB_ROOT = 
    SHELL = /bin/sh

Perl special variables (and OS-specific diagnostics, for MSWin32):

    $^X = /home/njh/perl5/perlbrew/perls/perl-5.8.3/bin/perl
    $UID/$EUID = 1000 / 1000
    $GID = 1000 1000 108 46 44 30 29 25 24 4
    $EGID = 1000 1000 108 46 44 30 29 25 24 4

Perl module toolchain versions installed:

    Module              Have    
    ------------------- --------
    CPAN                2.16    
    CPAN::Meta          2.150005
    Cwd                 3.60    
    ExtUtils::CBuilder  0.280224
    ExtUtils::Command   7.18    
    ExtUtils::Install   1.54    
    ExtUtils::MakeMaker 7.18    
    ExtUtils::Manifest  1.70    
    ExtUtils::ParseXS   3.30    
    File::Spec          3.60    
    JSON                n/a     
    JSON::PP            2.27203 
    Module::Build       0.4216  
    Module::Signature   n/a     
    Parse::CPAN::Meta   1.4417  
    Test::Harness       3.35    
    Test::More          1.001014
    YAML                1.23    
    YAML::Syck          1.30    
    version             0.9912  


--

Summary of my perl5 (revision 5.0 version 8 subversion 3) configuration:
  Platform:
    osname=linux, osvers=4.2.0-1-686-pae, archname=i686-linux-thread-multi
    uname='linux zack 4.2.0-1-686-pae #1 smp debian 4.2.6-1 (2015-11-10) i686 gnulinux '
    config_args='-de -Dprefix=/home/njh/perl5/perlbrew/perls/perl-5.8.3 -Duseithreads -Dusemultiplicity -Dusedevel -Accflags= -Aeval:scriptdir=/home/njh/perl5/perlbrew/perls/perl-5.8.3/bin'
    hint=recommended, useposix=true, d_sigaction=define
    usethreads=define use5005threads=undef useithreads=define usemultiplicity=define
    useperlio=define d_sfio=undef uselargefiles=define usesocks=undef
    use64bitint=undef use64bitall=undef uselongdouble=undef
    usemymalloc=n, bincompat5005=undef
  Compiler:
    cc='cc', ccflags ='-D_REENTRANT -D_GNU_SOURCE -fno-strict-aliasing -I/usr/local/include -D_LARGEFILE_SOURCE -D_FILE_OFFSET_BITS=64',
    optimize='-O2',
    cppflags='-D_REENTRANT -D_GNU_SOURCE -fno-strict-aliasing -I/usr/local/include'
    ccversion='', gccversion='5.2.1 20151121', gccosandvers=''
    intsize=4, longsize=4, ptrsize=4, doublesize=8, byteorder=1234
    d_longlong=define, longlongsize=8, d_longdbl=define, longdblsize=12
    ivtype='long', ivsize=4, nvtype='double', nvsize=8, Off_t='off_t', lseeksize=8
    alignbytes=4, prototype=define
  Linker and Libraries:
    ld='cc', ldflags =' -L/usr/local/lib'
    libpth=/usr/local/lib /lib/i386-linux-gnu /lib/../lib /usr/lib/i386-linux-gnu /usr/lib/../lib /lib /usr/lib
    libs=-lnsl -lgdbm -ldb -ldl -lm -lcrypt -lutil -lpthread -lc -lgdbm_compat
    perllibs=-lnsl -ldl -lm -lcrypt -lutil -lpthread -lc -lgdbm_compat
    libc=libc-2.19.so, so=so, useshrplib=false, libperl=libperl.a
    gnulibc_version='2.19'
  Dynamic Linking:
    dlsrc=dl_dlopen.xs, dlext=so, d_dlsymun=undef, ccdlflags='-rdynamic'
    cccdlflags='-fpic', lddlflags='-shared -L/usr/local/lib'


Characteristics of this binary (from libperl): 
  Compile-time options: MULTIPLICITY USE_ITHREADS USE_LARGE_FILES PERL_IMPLICIT_CONTEXT
  Locally applied patches:
  	Devel::PatchPerl 1.38
  Built under linux
  Compiled at Nov 24 2015 04:00:14
  %ENV:
    PERL5LIB="/home/njh/.cpan/build/Sub-Exporter-0.987-17/blib/arch:/home/njh/.cpan/build/Sub-Exporter-0.987-17/blib/lib:/home/njh/.cpan/build/Data-OptList-0.110-23/blib/arch:/home/njh/.cpan/build/Data-OptList-0.110-23/blib/lib:/home/njh/.cpan/build/Sub-Install-0.928-22/blib/arch:/home/njh/.cpan/build/Sub-Install-0.928-22/blib/lib:/home/njh/.cpan/build/Params-Util-1.07-32/blib/arch:/home/njh/.cpan/build/Params-Util-1.07-32/blib/lib"
    PERL5OPT=""
    PERL5_CPANPLUS_IS_RUNNING="16530"
    PERL5_CPAN_IS_RUNNING="16530"
    PERLBREW_BASHRC_VERSION="0.73"
    PERLBREW_HOME="/home/njh/.perlbrew"
    PERLBREW_LIB=""
    PERLBREW_MANPATH="/home/njh/perl5/perlbrew/perls/perl-5.8.3/man"
    PERLBREW_PATH="/home/njh/perl5/perlbrew/bin:/home/njh/perl5/perlbrew/perls/perl-5.8.3/bin"
    PERLBREW_PERL="perl-5.8.3"
    PERLBREW_ROOT="/home/njh/perl5/perlbrew"
    PERLBREW_VERSION="0.73"
    PERL_LOCAL_LIB_ROOT=""
  @INC:
    /home/njh/.cpan/build/Sub-Exporter-0.987-17/blib/arch
    /home/njh/.cpan/build/Sub-Exporter-0.987-17/blib/lib
    /home/njh/.cpan/build/Data-OptList-0.110-23/blib/arch
    /home/njh/.cpan/build/Data-OptList-0.110-23/blib/lib
    /home/njh/.cpan/build/Sub-Install-0.928-22/blib/arch
    /home/njh/.cpan/build/Sub-Install-0.928-22/blib/lib
    /home/njh/.cpan/build/Params-Util-1.07-32/blib/arch
    /home/njh/.cpan/build/Params-Util-1.07-32/blib/lib
    /home/njh/perl5/perlbrew/perls/perl-5.8.3/lib/5.8.3/i686-linux-thread-multi
    /home/njh/perl5/perlbrew/perls/perl-5.8.3/lib/5.8.3
    /home/njh/perl5/perlbrew/perls/perl-5.8.3/lib/site_perl/5.8.3/i686-linux-thread-multi
    /home/njh/perl5/perlbrew/perls/perl-5.8.3/lib/site_perl/5.8.3
    /home/njh/perl5/perlbrew/perls/perl-5.8.3/lib/site_perl
    .