Soar-Production v0.03 Perl 5 v5.36.1 RC3 x86_64-linux-thread-multi-ld
- Status
- Pass
- From
- Andreas J. König (ANDK)
- Dist
-
Soar-Production v0.03
- Platform
- Perl 5 v5.36.1 RC3 x86_64-linux-thread-multi-ld
- Date
- 2023-04-20 15:30:25
- ID
- 456212e6-df90-11ed-99ff-b27f4839fc0d
This distribution has been tested as part of the CPAN Testers
project, supporting the Perl programming language. See
http://wiki.cpantesters.org/ for more information or email
questions to cpan-testers-discuss@perl.org
--
Dear Nathan Gary Glenn,
This is a computer-generated report for Soar-Production-0.03
on perl 5.36.1, created by CPAN-Reporter-1.2018.
Thank you for uploading your work to CPAN. Congratulations!
All tests were successful.
Sections of this report:
* Tester comments
* Program output
* Prerequisites
* Environment and other context
------------------------------
TESTER COMMENTS
------------------------------
Additional comments from tester:
this report is from an automated smoke testing program
and was not reviewed by a human for accuracy
------------------------------
PROGRAM OUTPUT
------------------------------
Output from './Build test':
t/0-use.t ........................ ok
t/00-compile.t ................... ok
#
#
# Generated by Dist::Zilla::Plugin::ReportVersions::Tiny v1.08
# perl: 5.036001 (wanted 5.010) on linux from /tmp/basesmoker-reloperl-uYw2/bin/perl
#
# Carp => 1.52 (want any version)
# Data::Diver => 1.0101 (want any version)
# Data::Dumper => 2.184 (want any version)
# Exporter::Easy => 0.18 (want any version)
# File::Find => 1.40 (want any version)
# File::Spec => 3.84 (want any version)
# File::Spec::Functions => 3.84 (want any version)
# File::Temp => 0.2311 (want any version)
# FindBin => 1.53 (want any version)
# Module::Build => 0.4232 (want 0.3601)
# Parse::RecDescent => 1.967015 (want any version)
# Path::Tiny => 0.144 (want any version)
# Pod::Coverage::TrustPod => 0.100006 (want any version)
# Test::Base => 0.89 (want any version)
# Test::Base::Filter => <undef> (want any version)
# Test::CPAN::Meta => 0.25 (want any version)
# Test::Deep => 1.204 (want any version)
# Test::Exception => 0.43 (want any version)
# Test::LongString => 0.17 (want any version)
# Test::More => 1.302194 (want 0.88)
# Test::Pod => 1.52 (want 1.41)
# Test::Pod::Coverage => 1.10 (want 1.08)
# Test::Warn => 0.37 (want any version)
# strict => 1.12 (want any version)
# utf8 => 1.24 (want any version)
# version => 0.9929 (want 0.9901)
# warnings => 1.58 (want any version)
#
# Thanks for using my code. I hope it works for you.
# If not, please try and include this output in the bug report.
# That will help me reproduce the issue and solve your problem.
#
t/000-report-versions-tiny.t ..... ok
t/1-basic.t ...................... ok
t/parser/00-use.t ................ ok
t/parser/01-bad_input.t .......... ok
t/parser/01_5-comments.t ......... ok
t/parser/02-split-productions.t .. ok
t/parser/03-production-names.t ... ok
t/parser/04-documentation.t ...... ok
t/parser/05-Flags.t .............. ok
t/parser/06-State.t .............. ok
t/parser/07-variables.t .......... ok
t/parser/08-attributes.t ......... ok
t/parser/09-int.t ................ ok
t/parser/10-float.t .............. ok
t/parser/11-string.t ............. ok
t/parser/12-quoted.t ............. ok
t/parser/13-disjunct.t ........... ok
t/parser/14-conjunct.t ........... ok
t/parser/15-predicate.t .......... ok
t/parser/16-preference.t ......... ok
t/parser/17-function.t ........... ok
t/parser/18-negative.t ........... ok
t/parser/19-conjunctiveCond.t .... ok
t/parser/20-test_data.t .......... ok
t/printer/0-use.t ................ ok
t/printer/1-test_data.t .......... ok
All tests successful.
Files=28, Tests=1816, 58 wallclock secs ( 0.39 usr 0.05 sys + 56.24 cusr 1.19 csys = 57.87 CPU)
Result: PASS
------------------------------
PREREQUISITES
------------------------------
Prerequisite modules loaded:
requires:
Module Need Have
--------------------- ------ --------
Carp 0 1.52
Data::Dumper 0 2.184
Exporter::Easy 0 0.18
Parse::RecDescent 0 1.967015
perl 5.010 5.036001
strict 0 1.12
warnings 0 1.58
build_requires:
Module Need Have
--------------------- ------ --------
Data::Diver 0 1.0101
File::Find 0 1.40
File::Spec 0 3.84
File::Spec::Functions 0 3.84
File::Temp 0 0.2311
FindBin 0 1.53
Module::Build 0.3601 0.4232
Path::Tiny 0 0.144
Test::Base 0 0.89
Test::Base::Filter 0 0
Test::Deep 0 1.204
Test::Exception 0 0.43
Test::LongString 0 0.17
Test::More 0.88 1.302194
Test::Warn 0 0.37
utf8 0 1.24
configure_requires:
Module Need Have
--------------------- ------ --------
Module::Build 0.3601 0.4232
------------------------------
ENVIRONMENT AND OTHER CONTEXT
------------------------------
Environment variables:
AUTOMATED_TESTING = 1
LANG = en_US.UTF-8
PATH = /home/sand/bin:/usr/local/bin:/usr/local/sbin:/usr/sbin:/usr/bin:/sbin:/bin:/usr/games:/usr/local/games:/snap/bin:/usr/local/perl/bin:/usr/X11/bin
PERL5LIB = /tmp/loop_over_bdir-997863-RF52Fh/Net-Async-WebService-lxd-0.03-0/blib/arch:/tmp/loop_over_bdir-997863-RF52Fh/Net-Async-WebService-lxd-0.03-0/blib/lib:/tmp/loop_over_bdir-997863-RF52Fh/Dpkg-1.21.19-0/blib/arch:/tmp/loop_over_bdir-997863-RF52Fh/Dpkg-1.21.19-0/blib/lib:/tmp/loop_over_bdir-997863-RF52Fh/Linux-InitFS-0.2-0/blib/arch:/tmp/loop_over_bdir-997863-RF52Fh/Linux-InitFS-0.2-0/blib/lib:/tmp/loop_over_bdir-997863-RF52Fh/Business-Shipping-DataFiles-1.02-0/blib/arch:/tmp/loop_over_bdir-997863-RF52Fh/Business-Shipping-DataFiles-1.02-0/blib/lib:/tmp/loop_over_bdir-997863-RF52Fh/Lemonldap-NG-Cli-0.2-0/blib/arch:/tmp/loop_over_bdir-997863-RF52Fh/Lemonldap-NG-Cli-0.2-0/blib/lib:/tmp/loop_over_bdir-997863-RF52Fh/App-rmcd-0.280-0/blib/arch:/tmp/loop_over_bdir-997863-RF52Fh/App-rmcd-0.280-0/blib/lib:/tmp/loop_over_bdir-997863-RF52Fh/Lingua-YaTeA-0.626-0/blib/arch:/tmp/loop_over_bdir-997863-RF52Fh/Lingua-YaTeA-0.626-0/blib/lib
PERL5OPT =
PERL5_CPANPLUS_IS_RUNNING = 997871
PERL5_CPAN_IS_RUNNING = 997871
PERL_CANARY_STABILITY_NOPROMPT = 1
PERL_MM_USE_DEFAULT = 1
PERL_USE_UNSAFE_INC = 1
SHELL = /usr/bin/zsh
TERM = screen
Perl special variables (and OS-specific diagnostics, for MSWin32):
$^X = /tmp/basesmoker-reloperl-uYw2/bin/perl
$UID/$EUID = 1005 / 1005
$GID = 1005 1005
$EGID = 1005 1005
Perl module toolchain versions installed:
Module Have
------------------- --------
CPAN 2.34
CPAN::Meta 2.150010
Cwd 3.84
ExtUtils::CBuilder 0.280236
ExtUtils::Command 7.70
ExtUtils::Install 2.20
ExtUtils::MakeMaker 7.70
ExtUtils::Manifest 1.73
ExtUtils::ParseXS 3.45
File::Spec 3.84
JSON 4.10
JSON::PP 4.16
Module::Build 0.4232
Module::Signature 0.88
Parse::CPAN::Meta 2.150010
Test::Harness 3.44
Test::More 1.302194
YAML 1.30
YAML::Syck 1.34
version 0.9929
--
Summary of my perl5 (revision 5 version 36 subversion 1) configuration:
Commit id: 66cefb00b475e1b321ab2a1aa8e66a7ae14334c2
Platform:
osname=linux
osvers=5.4.0-146-generic
archname=x86_64-linux-thread-multi-ld
uname='linux k93focal 5.4.0-146-generic #163-ubuntu smp fri mar 17 18:26:02 utc 2023 x86_64 x86_64 x86_64 gnulinux '
config_args='-Dprefix=/home/sand/src/perl/repoperls/installed-perls/host/k93focal/v5.36.1-RC3/e463 -Dmyhostname=k93focal -Dinstallusrbinperl=n -Uversiononly -Dusedevel -des -Ui_db -Dlibswanted=cl pthread socket inet nsl gdbm dbm malloc dl ld sun m crypt sec util c cposix posix ucb BSD gdbm_compat -Duseithreads -Duselongdouble -DEBUGGING=both'
hint=recommended
useposix=true
d_sigaction=define
useithreads=define
usemultiplicity=define
use64bitint=define
use64bitall=define
uselongdouble=define
usemymalloc=n
default_inc_excludes_dot=define
Compiler:
cc='cc'
ccflags ='-D_REENTRANT -D_GNU_SOURCE -fwrapv -DDEBUGGING -fno-strict-aliasing -pipe -fstack-protector-strong -I/usr/local/include -D_LARGEFILE_SOURCE -D_FILE_OFFSET_BITS=64'
optimize='-O2 -g'
cppflags='-D_REENTRANT -D_GNU_SOURCE -fwrapv -DDEBUGGING -fno-strict-aliasing -pipe -fstack-protector-strong -I/usr/local/include'
ccversion=''
gccversion='9.4.0'
gccosandvers=''
intsize=4
longsize=8
ptrsize=8
doublesize=8
byteorder=12345678
doublekind=3
d_longlong=define
longlongsize=8
d_longdbl=define
longdblsize=16
longdblkind=3
ivtype='long'
ivsize=8
nvtype='long double'
nvsize=16
Off_t='off_t'
lseeksize=8
alignbytes=16
prototype=define
Linker and Libraries:
ld='cc'
ldflags =' -fstack-protector-strong -L/usr/local/lib'
libpth=/usr/local/lib /usr/lib/x86_64-linux-gnu /usr/lib /usr/lib64
libs=-lpthread -lnsl -ldl -lm -lcrypt -lutil -lc
perllibs=-lpthread -lnsl -ldl -lm -lcrypt -lutil -lc
libc=libc-2.31.so
so=so
useshrplib=false
libperl=libperl.a
gnulibc_version='2.31'
Dynamic Linking:
dlsrc=dl_dlopen.xs
dlext=so
d_dlsymun=undef
ccdlflags='-Wl,-E'
cccdlflags='-fPIC'
lddlflags='-shared -O2 -g -L/usr/local/lib -fstack-protector-strong'
Characteristics of this binary (from libperl):
Compile-time options:
DEBUGGING
HAS_TIMES
MULTIPLICITY
PERLIO_LAYERS
PERL_COPY_ON_WRITE
PERL_DONT_CREATE_GVSV
PERL_MALLOC_WRAP
PERL_OP_PARENT
PERL_PRESERVE_IVUV
PERL_TRACK_MEMPOOL
PERL_USE_DEVEL
USE_64_BIT_ALL
USE_64_BIT_INT
USE_ITHREADS
USE_LARGE_FILES
USE_LOCALE
USE_LOCALE_COLLATE
USE_LOCALE_CTYPE
USE_LOCALE_NUMERIC
USE_LOCALE_TIME
USE_LONG_DOUBLE
USE_PERLIO
USE_PERL_ATOF
USE_REENTRANT_API
USE_THREAD_SAFE_LOCALE
Locally applied patches:
RC3
Built under linux
Compiled at Apr 16 2023 18:04:31
%ENV:
PERL5LIB="/tmp/loop_over_bdir-997863-RF52Fh/Net-Async-WebService-lxd-0.03-0/blib/arch:/tmp/loop_over_bdir-997863-RF52Fh/Net-Async-WebService-lxd-0.03-0/blib/lib:/tmp/loop_over_bdir-997863-RF52Fh/Dpkg-1.21.19-0/blib/arch:/tmp/loop_over_bdir-997863-RF52Fh/Dpkg-1.21.19-0/blib/lib:/tmp/loop_over_bdir-997863-RF52Fh/Linux-InitFS-0.2-0/blib/arch:/tmp/loop_over_bdir-997863-RF52Fh/Linux-InitFS-0.2-0/blib/lib:/tmp/loop_over_bdir-997863-RF52Fh/Business-Shipping-DataFiles-1.02-0/blib/arch:/tmp/loop_over_bdir-997863-RF52Fh/Business-Shipping-DataFiles-1.02-0/blib/lib:/tmp/loop_over_bdir-997863-RF52Fh/Lemonldap-NG-Cli-0.2-0/blib/arch:/tmp/loop_over_bdir-997863-RF52Fh/Lemonldap-NG-Cli-0.2-0/blib/lib:/tmp/loop_over_bdir-997863-RF52Fh/App-rmcd-0.280-0/blib/arch:/tmp/loop_over_bdir-997863-RF52Fh/App-rmcd-0.280-0/blib/lib:/tmp/loop_over_bdir-997863-RF52Fh/Lingua-YaTeA-0.626-0/blib/arch:/tmp/loop_over_bdir-997863-RF52Fh/Lingua-YaTeA-0.626-0/blib/lib"
PERL5OPT=""
PERL5_CPANPLUS_IS_RUNNING="997871"
PERL5_CPAN_IS_RUNNING="997871"
PERL_CANARY_STABILITY_NOPROMPT="1"
PERL_MM_USE_DEFAULT="1"
PERL_USE_UNSAFE_INC="1"
@INC:
/tmp/loop_over_bdir-997863-RF52Fh/Net-Async-WebService-lxd-0.03-0/blib/arch
/tmp/loop_over_bdir-997863-RF52Fh/Net-Async-WebService-lxd-0.03-0/blib/lib
/tmp/loop_over_bdir-997863-RF52Fh/Dpkg-1.21.19-0/blib/arch
/tmp/loop_over_bdir-997863-RF52Fh/Dpkg-1.21.19-0/blib/lib
/tmp/loop_over_bdir-997863-RF52Fh/Linux-InitFS-0.2-0/blib/arch
/tmp/loop_over_bdir-997863-RF52Fh/Linux-InitFS-0.2-0/blib/lib
/tmp/loop_over_bdir-997863-RF52Fh/Business-Shipping-DataFiles-1.02-0/blib/arch
/tmp/loop_over_bdir-997863-RF52Fh/Business-Shipping-DataFiles-1.02-0/blib/lib
/tmp/loop_over_bdir-997863-RF52Fh/Lemonldap-NG-Cli-0.2-0/blib/arch
/tmp/loop_over_bdir-997863-RF52Fh/Lemonldap-NG-Cli-0.2-0/blib/lib
/tmp/loop_over_bdir-997863-RF52Fh/App-rmcd-0.280-0/blib/arch
/tmp/loop_over_bdir-997863-RF52Fh/App-rmcd-0.280-0/blib/lib
/tmp/loop_over_bdir-997863-RF52Fh/Lingua-YaTeA-0.626-0/blib/arch
/tmp/loop_over_bdir-997863-RF52Fh/Lingua-YaTeA-0.626-0/blib/lib
/home/sand/src/perl/repoperls/installed-perls/host/k93focal/v5.36.1-RC3/e463/lib/site_perl/5.36.1/x86_64-linux-thread-multi-ld
/home/sand/src/perl/repoperls/installed-perls/host/k93focal/v5.36.1-RC3/e463/lib/site_perl/5.36.1
/home/sand/src/perl/repoperls/installed-perls/host/k93focal/v5.36.1-RC3/e463/lib/5.36.1/x86_64-linux-thread-multi-ld
/home/sand/src/perl/repoperls/installed-perls/host/k93focal/v5.36.1-RC3/e463/lib/5.36.1
.