Report for HTML-Scrubber-0.15

Back
From: metabase:user:30977d10-2aae-11df-837a-5e0a49663a4f
Subject: PASS HTML-Scrubber-0.15 v5.23.4 GNU/Linux
Date: 2016-01-17T07:16:47Z

This distribution has been tested as part of the CPAN Testers
project, supporting the Perl programming language.  See
http://wiki.cpantesters.org/ for more information or email
questions to cpan-testers-discuss@perl.org


--
Dear Nigel Metheringham,

This is a computer-generated report for HTML-Scrubber-0.15
on perl 5.23.4, created by CPAN-Reporter-1.2015.

Thank you for uploading your work to CPAN.  Congratulations!
All tests were successful.

Sections of this report:

    * Tester comments
    * Program output
    * Prerequisites
    * Environment and other context

------------------------------
TESTER COMMENTS
------------------------------

Additional comments from tester:

this report is from an automated smoke testing program
and was not reviewed by a human for accuracy

------------------------------
PROGRAM OUTPUT
------------------------------

Output from './Build test':

t/00-compile.t ............... ok
# Testing with Perl 5.023004, /home/stro/perl/5.23.4/bin/perl
#     Carp version is 1.38
#     File::Spec version is 3.62
#     File::Temp version is 0.2304
#     HTML::Entities version is 3.69
#     HTML::Parser version is 3.71
#     IO::Handle version is 1.35
#     IPC::Open3 version is 1.19
#     Module::Build version is 0.4214
#     Scalar::Util version is 1.4201
#     Test version is 1.27
#     Test::CPAN::Meta version is 0.25
#     Test::EOL version is 1.6
#     Test::Memory::Cycle version is 1.04
#     Test::More version is 1.001014
#     Test::NoTabs version is 1.4
#     blib version is 1.06
#     strict version is 1.09
#     utf8 version is 1.17
#     warnings version is 1.35
t/000-report-versions.t ...... ok
# Testing HTML::Scrubber 0.15, Perl 5.023004, /home/stro/perl/5.23.4/bin/perl
t/01_use.t ................... ok
t/02_basic.t ................. ok
t/03_more.t .................. ok
t/04_style_script.t .......... ok
t/05_pi_comment.t ............ ok
t/06_scrub_file.t ............ ok
t/07_booleans.t .............. ok
t/08_cb_attrs.t .............. ok
t/09_memory_cycle.t .......... ok
t/09_no_scrub_warnings.t ..... ok
t/author-critic.t ............ skipped: these tests are for testing by the author
t/author-eol.t ............... skipped: these tests are for testing by the author
t/author-no-tabs.t ........... skipped: these tests are for testing by the author
t/author-pod-spell.t ......... skipped: these tests are for testing by the author
t/jvn53973084.t .............. ok
t/release-dist-manifest.t .... skipped: these tests are for release candidate testing
t/release-distmeta.t ......... skipped: these tests are for release candidate testing
t/release-has-version.t ...... skipped: these tests are for release candidate testing
t/release-minimum-version.t .. skipped: these tests are for release candidate testing
t/release-pod-syntax.t ....... skipped: these tests are for release candidate testing
t/release-portability.t ...... skipped: these tests are for release candidate testing
t/release-synopsis.t ......... skipped: these tests are for release candidate testing
t/release-unused-vars.t ...... skipped: these tests are for release candidate testing
t/rt19063_xhtml.t ............ ok
t/rt25477_self_closing.t ..... ok
t/rt72659_utf8.t ............. ok
t/rt79044_multiple.t ......... ok
All tests successful.
Files=29, Tests=177,  1 wallclock secs ( 0.05 usr  0.03 sys +  0.46 cusr  0.03 csys =  0.57 CPU)
Result: PASS

------------------------------
PREREQUISITES
------------------------------

Prerequisite modules loaded:

requires:

    Module              Need  Have    
    ------------------- ----- --------
    HTML::Entities      0     3.69    
    HTML::Parser        3.47  3.71    
    perl                5.008 5.023004
    Scalar::Util        0     1.42_01 
    strict              0     1.09    
    warnings            0     1.35    

build_requires:

    Module              Need  Have    
    ------------------- ----- --------
    blib                1.01  1.06    
    Carp                0     1.38    
    File::Spec          0     3.62    
    File::Temp          0     0.2304  
    IO::Handle          0     1.35    
    IPC::Open3          0     1.19    
    Module::Build       0.28  0.4214  
    Test                0     1.27    
    Test::CPAN::Meta    0     0.25    
    Test::EOL           0     1.6     
    Test::Memory::Cycle 0     1.04    
    Test::More          0.94  1.001014
    Test::NoTabs        0     1.4     
    utf8                0     1.17    

configure_requires:

    Module              Need  Have    
    ------------------- ----- --------
    Module::Build       0.28  0.4214  


------------------------------
ENVIRONMENT AND OTHER CONTEXT
------------------------------

Environment variables:

    AUTOMATED_TESTING = 1
    LANG = en_US.UTF-8
    PATH = /usr/local/bin:/usr/bin:/bin:/usr/local/games:/usr/games
    PERL5LIB = 
    PERL5OPT = 
    PERL5_CPANPLUS_IS_RUNNING = 24019
    PERL5_CPAN_IS_RUNNING = 24019
    PERL5_CPAN_IS_RUNNING_IN_RECURSION = 19127,24019
    PERL_CR_SMOKER_CURRENT = Strehler-1.6.7
    PERL_EXTUTILS_AUTOINSTALL = --defaultdeps
    PERL_MM_USE_DEFAULT = 1
    SHELL = /bin/bash
    TERM = xterm

Perl special variables (and OS-specific diagnostics, for MSWin32):

    $^X = /home/stro/perl/5.23.4/bin/perl
    $UID/$EUID = 1000 / 1000
    $GID = 1000 24 25 29 30 44 46 108 114 1000
    $EGID = 1000 24 25 29 30 44 46 108 114 1000

Perl module toolchain versions installed:

    Module              Have    
    ------------------- --------
    CPAN                2.12    
    CPAN::Meta          2.150005
    Cwd                 3.62    
    ExtUtils::CBuilder  0.280224
    ExtUtils::Command   7.10    
    ExtUtils::Install   2.04    
    ExtUtils::MakeMaker 7.10    
    ExtUtils::Manifest  1.70    
    ExtUtils::ParseXS   3.30    
    File::Spec          3.62    
    JSON                2.90    
    JSON::PP            2.27300 
    Module::Build       0.4214  
    Module::Signature   0.79    
    Parse::CPAN::Meta   1.4417  
    Test::Harness       3.35    
    Test::More          1.001014
    YAML                1.15    
    YAML::Syck          1.29    
    version             0.9912  


--

Summary of my perl5 (revision 5 version 23 subversion 4) configuration:
   
  Platform:
    osname=linux, osvers=3.16.0-4-amd64, archname=x86_64-linux
    uname='linux vm-debian-001 3.16.0-4-amd64 #1 smp debian 3.16.7-ckt11-1 (2015-05-24) x86_64 gnulinux '
    config_args=''
    hint=recommended, useposix=true, d_sigaction=define
    useithreads=undef, usemultiplicity=undef
    use64bitint=define, use64bitall=define, uselongdouble=undef
    usemymalloc=n, bincompat5005=undef
  Compiler:
    cc='cc', ccflags ='-fwrapv -fno-strict-aliasing -pipe -fstack-protector-strong -I/usr/local/include -D_LARGEFILE_SOURCE -D_FILE_OFFSET_BITS=64 -D_FORTIFY_SOURCE=2',
    optimize='-O2',
    cppflags='-fwrapv -fno-strict-aliasing -pipe -fstack-protector-strong -I/usr/local/include'
    ccversion='', gccversion='4.9.2', gccosandvers=''
    intsize=4, longsize=8, ptrsize=8, doublesize=8, byteorder=12345678, doublekind=3
    d_longlong=define, longlongsize=8, d_longdbl=define, longdblsize=16, longdblkind=3
    ivtype='long', ivsize=8, nvtype='double', nvsize=8, Off_t='off_t', lseeksize=8
    alignbytes=8, prototype=define
  Linker and Libraries:
    ld='cc', ldflags =' -fstack-protector-strong -L/usr/local/lib'
    libpth=/usr/local/lib /usr/lib/gcc/x86_64-linux-gnu/4.9/include-fixed /usr/include/x86_64-linux-gnu /usr/lib /lib/x86_64-linux-gnu /lib/../lib /usr/lib/x86_64-linux-gnu /usr/lib/../lib /lib
    libs=-lpthread -lnsl -ldl -lm -lcrypt -lutil -lc
    perllibs=-lpthread -lnsl -ldl -lm -lcrypt -lutil -lc
    libc=libc-2.19.so, so=so, useshrplib=false, libperl=libperl.a
    gnulibc_version='2.19'
  Dynamic Linking:
    dlsrc=dl_dlopen.xs, dlext=so, d_dlsymun=undef, ccdlflags='-Wl,-E'
    cccdlflags='-fPIC', lddlflags='-shared -O2 -L/usr/local/lib -fstack-protector-strong'


Characteristics of this binary (from libperl): 
  Compile-time options: HAS_TIMES PERLIO_LAYERS PERL_COPY_ON_WRITE
                        PERL_DONT_CREATE_GVSV
                        PERL_HASH_FUNC_ONE_AT_A_TIME_HARD PERL_MALLOC_WRAP
                        PERL_PRESERVE_IVUV USE_64_BIT_ALL USE_64_BIT_INT
                        USE_LARGE_FILES USE_LOCALE USE_LOCALE_COLLATE
                        USE_LOCALE_CTYPE USE_LOCALE_NUMERIC USE_LOCALE_TIME
                        USE_PERLIO USE_PERL_ATOF
  Built under linux
  Compiled at Nov 11 2015 15:23:00
  %ENV:
    PERL5LIB=""
    PERL5OPT=""
    PERL5_CPANPLUS_IS_RUNNING="24019"
    PERL5_CPAN_IS_RUNNING="24019"
    PERL5_CPAN_IS_RUNNING_IN_RECURSION="19127,24019"
    PERL_CR_SMOKER_CURRENT="Strehler-1.6.7"
    PERL_EXTUTILS_AUTOINSTALL="--defaultdeps"
    PERL_MM_USE_DEFAULT="1"
  @INC:
    /home/stro/perl/5.23.4/lib/site_perl/5.23.4/x86_64-linux
    /home/stro/perl/5.23.4/lib/site_perl/5.23.4
    /home/stro/perl/5.23.4/lib/5.23.4/x86_64-linux
    /home/stro/perl/5.23.4/lib/5.23.4
    .