Back
From: metabase:user:9820532a-708b-1014-9a05-b18a96298da1
Subject: PASS Test-Kit-2.14 v5.23.8 GNU/Linux
Date: 2016-03-11T10:59:05Z
This distribution has been tested as part of the CPAN Testers
project, supporting the Perl programming language. See
http://wiki.cpantesters.org/ for more information or email
questions to cpan-testers-discuss@perl.org
--
Dear Alex Balhatchet,
This is a computer-generated report for Test-Kit-2.14
on perl 5.23.8, created by CPAN-Reporter-1.2017.
Thank you for uploading your work to CPAN. Congratulations!
All tests were successful.
Sections of this report:
* Tester comments
* Program output
* Prerequisites
* Environment and other context
------------------------------
TESTER COMMENTS
------------------------------
Additional comments from tester:
this report is from an automated smoke testing program
and was not reviewed by a human for accuracy
------------------------------
PROGRAM OUTPUT
------------------------------
Output from '/usr/bin/make test':
PERL_DL_NONLAZY=1 "/home/smoker/perl5/perlbrew/perls/perl-5.23.8-thread-multi/bin/perl5.23.8" "-MExtUtils::Command::MM" "-MTest::Harness" "-e" "undef *Test::Harness::Switches; test_harness(0, 'blib/lib', 'blib/arch')" t/*.t t/09-test-aggregate/*.t
t/00-compile.t .................................. ok
t/01-basic.t .................................... ok
t/02-simple.t ................................... ok
t/03-exclude.t .................................. ok
t/04-rename.t ................................... ok
t/05-put-it-all-together.t ...................... ok
t/06-sub-name-collide.t ......................... ok
t/07-from-module.t .............................. ok
t/08-double-use-same-process.t .................. ok
t/09-test-aggregate/09-test-aggregate-nested.t .. ok
t/09-test-aggregate/09-test-aggregate.t ......... ok
t/10-import-check.t ............................. ok
t/11-test-nowarnings.t .......................... ok
t/12-data-dumper.t .............................. ok
t/13-list-util.t ................................ ok
t/14-todo-var.t ................................. ok
t/15-test-builder-io-layer-utf8.t ............... ok
t/16-test-more-import.t ......................... ok
t/17-include-list.t ............................. ok
t/18-extra-exports.t ............................ ok
t/19-sub-class.t ................................ ok
t/20-test-kit-including-test-kit.t .............. ok
t/21-test-kit-with-strict.t ..................... ok
t/22-test-kit-with-warnings.t ................... ok
t/23-use-multiple-kits-in-one-test.t ............ ok
t/release-cpan-changes.t ........................ skipped: these tests are for release candidate testing
t/release-pod-syntax.t .......................... skipped: these tests are for release candidate testing
All tests successful.
Files=27, Tests=79, 1 wallclock secs ( 0.05 usr 0.04 sys + 0.80 cusr 0.08 csys = 0.97 CPU)
Result: PASS
------------------------------
PREREQUISITES
------------------------------
Prerequisite modules loaded:
requires:
Module Need Have
----------------------- ----- --------
Exporter 0 5.72
Hook::LexWrap 0 0.25
Import::Into 0 1.002005
Module::Runtime 0 0.014
perl 5.010 5.023008
Scalar::Util 0 1.42_01
Sub::Delete 0 1.00002
Test::Builder 0 1.001014
build_requires:
Module Need Have
----------------------- ----- --------
ExtUtils::MakeMaker 0 7.10_01
Test::Aggregate 0 0.373
Test::Aggregate::Nested 0 0.373
Test::Exception 0 0.43
Test::More 0.92 1.001014
Test::NoWarnings 0 1.04
Test::Output 0 1.03
Test::Pod 0 1.51
Test::Warn 0 0.30
configure_requires:
Module Need Have
----------------------- ----- --------
ExtUtils::MakeMaker 0 7.10_01
perl 5.010 5.023008
------------------------------
ENVIRONMENT AND OTHER CONTEXT
------------------------------
Environment variables:
AUTOMATED_TESTING = 1
LANG = en_GB.UTF-8
LANGUAGE = en_GB:en
PATH = /home/smoker/perl5/perlbrew/bin:/home/smoker/perl5/perlbrew/perls/perl-5.23.8-thread-multi/bin:/home/smoker/bin:/usr/local/sbin:/usr/local/bin:/usr/sbin:/usr/bin:/sbin:/bin:/usr/games:/usr/local/games:/home/smoker/.rvm/bin
PERL5LIB = /home/smoker/.cpan/build/Sub-Delete-1.00002-s6u_5m/blib/arch:/home/smoker/.cpan/build/Sub-Delete-1.00002-s6u_5m/blib/lib:/home/smoker/.cpan/build/Test-Aggregate-0.373-yPJ0_r/blib/arch:/home/smoker/.cpan/build/Test-Aggregate-0.373-yPJ0_r/blib/lib
PERL5OPT =
PERL5_CPANPLUS_IS_RUNNING = 26549
PERL5_CPAN_IS_RUNNING = 26549
PERL5_CPAN_IS_RUNNING_IN_RECURSION = 2573,26549
PERLBREW_BASHRC_VERSION = 0.74
PERLBREW_HOME = /home/smoker/.perlbrew
PERLBREW_MANPATH = /home/smoker/perl5/perlbrew/perls/perl-5.23.8-thread-multi/man
PERLBREW_PATH = /home/smoker/perl5/perlbrew/bin:/home/smoker/perl5/perlbrew/perls/perl-5.23.8-thread-multi/bin
PERLBREW_PERL = perl-5.23.8-thread-multi
PERLBREW_ROOT = /home/smoker/perl5/perlbrew
PERLBREW_VERSION = 0.74
PERL_CPANM_OPT = --mirror http://cpan.cpantesters.org
PERL_CR_SMOKER_CURRENT = Test-Kit-2.14
PERL_EXTUTILS_AUTOINSTALL = --defaultdeps
PERL_MM_USE_DEFAULT = 1
SHELL = /bin/bash
TERM = xterm
Perl special variables (and OS-specific diagnostics, for MSWin32):
$^X = /home/smoker/perl5/perlbrew/perls/perl-5.23.8-thread-multi/bin/perl5.23.8
$UID/$EUID = 1003 / 1003
$GID = 1003 27 1003
$EGID = 1003 27 1003
Perl module toolchain versions installed:
Module Have
------------------- --------
CPAN 2.11
CPAN::Meta 2.150005
Cwd 3.63
ExtUtils::CBuilder 0.280225
ExtUtils::Command 7.10
ExtUtils::Install 2.04
ExtUtils::MakeMaker 7.10_01
ExtUtils::Manifest 1.70
ExtUtils::ParseXS 3.31
File::Spec 3.63
JSON 2.90
JSON::PP 2.27300
Module::Build 0.4216
Module::Signature n/a
Parse::CPAN::Meta 1.4417
Test::Harness 3.36
Test::More 1.001014
YAML 1.15
YAML::Syck n/a
version 0.9915
--
Summary of my perl5 (revision 5 version 23 subversion 8) configuration:
Platform:
osname=linux, osvers=4.2.0-30-generic, archname=x86_64-linux-thread-multi
uname='linux ubuntu 4.2.0-30-generic #36~14.04.1-ubuntu smp fri feb 26 18:49:23 utc 2016 x86_64 x86_64 x86_64 gnulinux '
config_args='-de -Dprefix=/home/smoker/perl5/perlbrew/perls/perl-5.23.8-thread-multi -Dman1dir=none -Dman3dir=none -Dusethreads -Dusemultiplicity -Dusedevel -Aeval:scriptdir=/home/smoker/perl5/perlbrew/perls/perl-5.23.8-thread-multi/bin'
hint=recommended, useposix=true, d_sigaction=define
useithreads=define, usemultiplicity=define
use64bitint=define, use64bitall=define, uselongdouble=undef
usemymalloc=n, bincompat5005=undef
Compiler:
cc='cc', ccflags ='-D_REENTRANT -D_GNU_SOURCE -fwrapv -fno-strict-aliasing -pipe -fstack-protector -I/usr/local/include -D_LARGEFILE_SOURCE -D_FILE_OFFSET_BITS=64',
optimize='-O2',
cppflags='-D_REENTRANT -D_GNU_SOURCE -fwrapv -fno-strict-aliasing -pipe -fstack-protector -I/usr/local/include'
ccversion='', gccversion='4.8.4', gccosandvers=''
intsize=4, longsize=8, ptrsize=8, doublesize=8, byteorder=12345678, doublekind=3
d_longlong=define, longlongsize=8, d_longdbl=define, longdblsize=16, longdblkind=3
ivtype='long', ivsize=8, nvtype='double', nvsize=8, Off_t='off_t', lseeksize=8
alignbytes=8, prototype=define
Linker and Libraries:
ld='cc', ldflags =' -fstack-protector -L/usr/local/lib'
libpth=/usr/local/lib /usr/lib/gcc/x86_64-linux-gnu/4.8/include-fixed /usr/include/x86_64-linux-gnu /usr/lib /lib/x86_64-linux-gnu /lib/../lib /usr/lib/x86_64-linux-gnu /usr/lib/../lib /lib
libs=-lpthread -lnsl -lgdbm -ldl -lm -lcrypt -lutil -lc -lgdbm_compat
perllibs=-lpthread -lnsl -ldl -lm -lcrypt -lutil -lc
libc=libc-2.19.so, so=so, useshrplib=false, libperl=libperl.a
gnulibc_version='2.19'
Dynamic Linking:
dlsrc=dl_dlopen.xs, dlext=so, d_dlsymun=undef, ccdlflags='-Wl,-E'
cccdlflags='-fPIC', lddlflags='-shared -O2 -L/usr/local/lib -fstack-protector'
Characteristics of this binary (from libperl):
Compile-time options: HAS_TIMES MULTIPLICITY PERLIO_LAYERS
PERL_COPY_ON_WRITE PERL_DONT_CREATE_GVSV
PERL_HASH_FUNC_ONE_AT_A_TIME_HARD
PERL_IMPLICIT_CONTEXT PERL_MALLOC_WRAP
PERL_PRESERVE_IVUV PERL_USE_DEVEL USE_64_BIT_ALL
USE_64_BIT_INT USE_ITHREADS USE_LARGE_FILES
USE_LOCALE USE_LOCALE_COLLATE USE_LOCALE_CTYPE
USE_LOCALE_NUMERIC USE_LOCALE_TIME USE_PERLIO
USE_PERL_ATOF USE_REENTRANT_API
Locally applied patches:
Devel::PatchPerl 1.38
Built under linux
Compiled at Mar 7 2016 14:11:08
%ENV:
PERL5LIB="/home/smoker/.cpan/build/Sub-Delete-1.00002-s6u_5m/blib/arch:/home/smoker/.cpan/build/Sub-Delete-1.00002-s6u_5m/blib/lib:/home/smoker/.cpan/build/Test-Aggregate-0.373-yPJ0_r/blib/arch:/home/smoker/.cpan/build/Test-Aggregate-0.373-yPJ0_r/blib/lib"
PERL5OPT=""
PERL5_CPANPLUS_IS_RUNNING="26549"
PERL5_CPAN_IS_RUNNING="26549"
PERL5_CPAN_IS_RUNNING_IN_RECURSION="2573,26549"
PERLBREW_BASHRC_VERSION="0.74"
PERLBREW_HOME="/home/smoker/.perlbrew"
PERLBREW_MANPATH="/home/smoker/perl5/perlbrew/perls/perl-5.23.8-thread-multi/man"
PERLBREW_PATH="/home/smoker/perl5/perlbrew/bin:/home/smoker/perl5/perlbrew/perls/perl-5.23.8-thread-multi/bin"
PERLBREW_PERL="perl-5.23.8-thread-multi"
PERLBREW_ROOT="/home/smoker/perl5/perlbrew"
PERLBREW_VERSION="0.74"
PERL_CPANM_OPT="--mirror http://cpan.cpantesters.org"
PERL_CR_SMOKER_CURRENT="Test-Kit-2.14"
PERL_EXTUTILS_AUTOINSTALL="--defaultdeps"
PERL_MM_USE_DEFAULT="1"
@INC:
/home/smoker/.cpan/build/Sub-Delete-1.00002-s6u_5m/blib/arch
/home/smoker/.cpan/build/Sub-Delete-1.00002-s6u_5m/blib/lib
/home/smoker/.cpan/build/Test-Aggregate-0.373-yPJ0_r/blib/arch
/home/smoker/.cpan/build/Test-Aggregate-0.373-yPJ0_r/blib/lib
/home/smoker/perl5/perlbrew/perls/perl-5.23.8-thread-multi/lib/site_perl/5.23.8/x86_64-linux-thread-multi
/home/smoker/perl5/perlbrew/perls/perl-5.23.8-thread-multi/lib/site_perl/5.23.8
/home/smoker/perl5/perlbrew/perls/perl-5.23.8-thread-multi/lib/5.23.8/x86_64-linux-thread-multi
/home/smoker/perl5/perlbrew/perls/perl-5.23.8-thread-multi/lib/5.23.8
.