Filter-Crypto v2.10 Perl 5 v5.8.9 amd64-freebsd-thread-multi
- Status
- Pass
- From
- Chris Williams (BINGOS)
- Dist
-
Filter-Crypto v2.10
- Platform
- Perl 5 v5.8.9 amd64-freebsd-thread-multi
- Date
- 2023-07-05 06:22:09
- ID
- 45bc25d6-1afc-11ee-98b0-b3c3213a625c
This distribution has been tested as part of the CPAN Testers
project, supporting the Perl programming language. See
http://wiki.cpantesters.org/ for more information or email
questions to cpan-testers-discuss@perl.org
--
Dear SHAY,
This is a computer-generated error report created automatically by
CPANPLUS, version 0.9914. Testers personal comments may appear
at the end of this report.
Thank you for uploading your work to CPAN. Congratulations!
All tests were successful.
TEST RESULTS:
Below is the error stack from stage 'make test':
"/usr/home/cpan/pit/thr/perl-5.8.9/bin/perl" -MExtUtils::Command::MM -e 'cp_nonempty' -- CryptFile.bs ../blib/arch/auto/Filter/Crypto/CryptFile/CryptFile.bs 644
Manifying 1 pod document
"/usr/home/cpan/pit/thr/perl-5.8.9/bin/perl" -MExtUtils::Command::MM -e 'cp_nonempty' -- Decrypt.bs ../blib/arch/auto/Filter/Crypto/Decrypt/Decrypt.bs 644
Manifying 1 pod document
PERL_DL_NONLAZY=1 "/usr/home/cpan/pit/thr/perl-5.8.9/bin/perl" "-MExtUtils::Command::MM" "-MTest::Harness" "-e" "undef *Test::Harness::Switches; test_harness(0, 'blib/lib', 'blib/arch')" t/*.t
t/01_imports_01.t .... ok
t/01_imports_02.t .... ok
t/01_imports_03.t .... ok
t/01_imports_04.t .... ok
t/02_function.t ...... ok
t/03_script.t ........ ok
t/04_par.t ........... skipped: PAR::Filter required to test PAR::Filter::Crypto
t/05_errstr.t ........ ok
t/06_changes.t ....... skipped: Author testing only
t/07_critic.t ........ skipped: Author testing only
t/08_pod.t ........... skipped: Author testing only
t/09_pod_coverage.t .. skipped: Author testing only
All tests successful.
Files=12, Tests=432, 32 wallclock secs ( 0.34 usr 0.16 sys + 23.45 cusr 7.52 csys = 31.47 CPU)
Result: PASS
PREREQUISITES:
Here is a list of prerequisites you specified and versions we
managed to load:
Module Name Have Want
Carp 1.10 0
Cwd 3.75 0
Exporter 5.63 0
ExtUtils::MakeMaker 7.70 6.66
Fcntl 1.06 0
File::Basename 2.77 0
File::Copy 2.13 0
File::Find 1.13 0
File::Path 2.18 0
File::Spec::Functions 3.75 0
File::Temp 0.2311 0
FindBin 1.49 0
Getopt::Long 2.37 0
Pod::Usage 1.35 1.15
Scalar::Util 1.19 0
Test::More 1.302194 0
Text::ParseWords 3.27 0
Text::Wrap 2006.1117 0
XSLoader 0.10 0
blib 1.04 0
constant 1.17 0
strict 1.03 0
warnings 1.05_01 0
Perl module toolchain versions installed:
Module Name Have
CPANPLUS 0.9914
CPANPLUS::Dist::Build 0.90
Cwd 3.75
ExtUtils::CBuilder 0.280236
ExtUtils::Command 7.70
ExtUtils::Install 2.22
ExtUtils::MakeMaker 7.70
ExtUtils::Manifest 1.73
ExtUtils::ParseXS 3.44
File::Spec 3.75
Module::Build 0.4232
Pod::Parser 1.35
Pod::Simple 0
Test2 1.302194
Test::Harness 3.44
Test::More 1.302194
version 0.9929
******************************** NOTE ********************************
The comments above are created mechanically, possibly without manual
checking by the sender. As there are many people performing automatic
tests on each upload to CPAN, it is likely that you will receive
identical messages about the same problem.
If you believe that the message is mistaken, please reply to the first
one with correction and/or additional informations, and do not take
it personally. We appreciate your patience. :)
**********************************************************************
Additional comments:
This report was machine-generated by CPANPLUS::Dist::YACSmoke 1.08.
Powered by minismokebox version 0.68
CPANPLUS is prefering Build.PL
------------------------------
ENVIRONMENT AND OTHER CONTEXT
------------------------------
Environment variables:
AUTOMATED_TESTING = 1
LANG = C.UTF-8
NONINTERACTIVE_TESTING = 1
PATH = /usr/home/cpan/pit/thr/conf/perl-5.8.9/.cpanplus/5.8.9/build/tMG_RbaIRi/Filter-Crypto-2.10/blib/script:/usr/home/cpan/pit/jail/ig99ZDhdCl/bin:/sbin:/bin:/usr/sbin:/usr/bin:/usr/local/sbin:/usr/local/bin:/home/cpan/bin
PERL5LIB = /usr/home/cpan/pit/jail/ig99ZDhdCl/lib/perl5:/usr/home/cpan/pit/thr/conf/perl-5.8.9/.cpanplus/5.8.9/build/tMG_RbaIRi/Filter-Crypto-2.10/blib/lib:/usr/home/cpan/pit/thr/conf/perl-5.8.9/.cpanplus/5.8.9/build/tMG_RbaIRi/Filter-Crypto-2.10/blib/arch
PERL5_CPANPLUS_IS_RUNNING = 28465
PERL5_CPANPLUS_IS_VERSION = 0.9914
PERL5_MINISMOKEBOX = 0.68
PERL5_YACSMOKE_BASE = /usr/home/cpan/pit/thr/conf/perl-5.8.9
PERL_EXTUTILS_AUTOINSTALL = --defaultdeps
PERL_LOCAL_LIB_ROOT = /usr/home/cpan/pit/jail/ig99ZDhdCl
PERL_MB_OPT = --install_base "/usr/home/cpan/pit/jail/ig99ZDhdCl"
PERL_MM_OPT = INSTALL_BASE=/usr/home/cpan/pit/jail/ig99ZDhdCl
PERL_MM_USE_DEFAULT = 1
SHELL = /usr/local/bin/bash
TERM = screen
Perl special variables (and OS-specific diagnostics, for MSWin32):
Perl: $^X = /usr/home/cpan/pit/thr/perl-5.8.9/bin/perl
UID: $< = 1002
EUID: $> = 1002
GID: $( = 1002 1002
EGID: $) = 1002 1002
-------------------------------
--
Summary of my perl5 (revision 5 version 8 subversion 9) configuration:
Platform:
osname=freebsd, osvers=13.2-release, archname=amd64-freebsd-thread-multi
uname='freebsd fever 13.2-release freebsd 13.2-release releng13.2-n254617-525ecfdad597 generic amd64 '
config_args='-des -Dprefix=/usr/home/cpan/pit/thr/perl-5.8.9 -Dusethreads'
hint=recommended, useposix=true, d_sigaction=define
usethreads=define use5005threads=undef useithreads=define usemultiplicity=define
useperlio=define d_sfio=undef uselargefiles=define usesocks=undef
use64bitint=define use64bitall=define uselongdouble=undef
usemymalloc=n, bincompat5005=undef
Compiler:
cc='cc', ccflags ='-DHAS_FPSETMASK -DHAS_FLOATINGPOINT_H -fno-strict-aliasing -pipe -I/usr/local/include',
optimize='-O2',
cppflags='-DHAS_FPSETMASK -DHAS_FLOATINGPOINT_H -fno-strict-aliasing -pipe -I/usr/local/include'
ccversion='', gccversion='FreeBSD Clang 14.0.5 (https://github.com/llvm/llvm-project.git llvmorg-14.0.5-0-gc12386ae247c)', gccosandvers=''
intsize=4, longsize=8, ptrsize=8, doublesize=8, byteorder=12345678
d_longlong=define, longlongsize=8, d_longdbl=define, longdblsize=16
ivtype='long', ivsize=8, nvtype='double', nvsize=8, Off_t='off_t', lseeksize=8
alignbytes=8, prototype=define
Linker and Libraries:
ld='cc', ldflags ='-pthread -Wl,-E -L/usr/local/lib'
libpth=/usr/lib /usr/local/lib
libs=-lgdbm -ldl -lm -lcrypt -lutil
perllibs=-ldl -lm -lcrypt -lutil
libc=, so=so, useshrplib=false, libperl=libperl.a
gnulibc_version=''
Dynamic Linking:
dlsrc=dl_dlopen.xs, dlext=so, d_dlsymun=undef, ccdlflags=' '
cccdlflags='-DPIC -fPIC', lddlflags='-shared -L/usr/local/lib'
Characteristics of this binary (from libperl):
Compile-time options: MULTIPLICITY PERL_IMPLICIT_CONTEXT PERL_MALLOC_WRAP
USE_64_BIT_ALL USE_64_BIT_INT USE_FAST_STDIO
USE_ITHREADS USE_LARGE_FILES USE_PERLIO
USE_REENTRANT_API
Locally applied patches:
Devel::PatchPerl 2.08
Built under freebsd
Compiled at Apr 25 2023 11:15:09
%ENV:
PERL5LIB="/usr/home/cpan/pit/jail/ig99ZDhdCl/lib/perl5:/usr/home/cpan/pit/thr/conf/perl-5.8.9/.cpanplus/5.8.9/build/tMG_RbaIRi/Filter-Crypto-2.10/blib/lib:/usr/home/cpan/pit/thr/conf/perl-5.8.9/.cpanplus/5.8.9/build/tMG_RbaIRi/Filter-Crypto-2.10/blib/arch"
PERL5_CPANPLUS_IS_RUNNING="28465"
PERL5_CPANPLUS_IS_VERSION="0.9914"
PERL5_MINISMOKEBOX="0.68"
PERL5_YACSMOKE_BASE="/usr/home/cpan/pit/thr/conf/perl-5.8.9"
PERL_EXTUTILS_AUTOINSTALL="--defaultdeps"
PERL_LOCAL_LIB_ROOT="/usr/home/cpan/pit/jail/ig99ZDhdCl"
PERL_MB_OPT="--install_base "/usr/home/cpan/pit/jail/ig99ZDhdCl""
PERL_MM_OPT="INSTALL_BASE=/usr/home/cpan/pit/jail/ig99ZDhdCl"
PERL_MM_USE_DEFAULT="1"
@INC:
/usr/home/cpan/pit/jail/ig99ZDhdCl/lib/perl5/5.8.9/amd64-freebsd-thread-multi
/usr/home/cpan/pit/jail/ig99ZDhdCl/lib/perl5/5.8.9
/usr/home/cpan/pit/jail/ig99ZDhdCl/lib/perl5/amd64-freebsd-thread-multi
/usr/home/cpan/pit/jail/ig99ZDhdCl/lib/perl5
/usr/home/cpan/pit/thr/conf/perl-5.8.9/.cpanplus/5.8.9/build/tMG_RbaIRi/Filter-Crypto-2.10/blib/lib
/usr/home/cpan/pit/thr/conf/perl-5.8.9/.cpanplus/5.8.9/build/tMG_RbaIRi/Filter-Crypto-2.10/blib/arch
/usr/home/cpan/pit/thr/perl-5.8.9/lib/5.8.9/amd64-freebsd-thread-multi
/usr/home/cpan/pit/thr/perl-5.8.9/lib/5.8.9
/usr/home/cpan/pit/thr/perl-5.8.9/lib/site_perl/5.8.9/amd64-freebsd-thread-multi
/usr/home/cpan/pit/thr/perl-5.8.9/lib/site_perl/5.8.9
.