Report for Dist-Zilla-Plugin-ChangeStats-Dependencies-Git-0.0200

Back
From: metabase:user:320bfe00-2aae-11df-837a-5e0a49663a4f
Subject: PASS Dist-Zilla-Plugin-ChangeStats-Dependencies-Git-0.0200 v5.24.1 RC3 GNU/Linux
Date: 2016-09-20T13:08:07Z

This distribution has been tested as part of the CPAN Testers
project, supporting the Perl programming language.  See
http://wiki.cpantesters.org/ for more information or email
questions to cpan-testers-discuss@perl.org


--
Dear Erik Carlsson,

This is a computer-generated report for Dist-Zilla-Plugin-ChangeStats-Dependencies-Git-0.0200
on perl 5.24.1, created by CPAN-Reporter-1.2018.

Thank you for uploading your work to CPAN.  Congratulations!
All tests were successful.

Sections of this report:

    * Tester comments
    * Program output
    * Prerequisites
    * Environment and other context

------------------------------
TESTER COMMENTS
------------------------------

Additional comments from tester:

this report is from an automated smoke testing program
and was not reviewed by a human for accuracy

------------------------------
PROGRAM OUTPUT
------------------------------

Output from '/usr/bin/make test':

PERL_DL_NONLAZY=1 "/home/sand/src/perl/repoperls/installed-perls/perl/v5.24.1-RC3/8942/bin/perl" "-MExtUtils::Command::MM" "-MTest::Harness" "-e" "undef *Test::Harness::Switches; test_harness(0, 'blib/lib', 'blib/arch')" t/*.t
t/00-compile.t ......... ok
# 
# Versions for all modules listed in MYMETA.json (including optional ones):
# 
# === Configure Requires ===
# 
#     Module              Want Have
#     ------------------- ---- ----
#     ExtUtils::MakeMaker  any 7.24
# 
# === Build Requires ===
# 
#     Module              Want Have
#     ------------------- ---- ----
#     ExtUtils::MakeMaker  any 7.24
# 
# === Test Requires ===
# 
#     Module                                       Want     Have
#     ------------------------------------------ ------ --------
#     Dist::Zilla::Plugin::Prereqs::FromCPANfile    any     0.08
#     ExtUtils::MakeMaker                           any     7.24
#     File::Spec                                    any  3.63_01
#     IO::Handle                                    any     1.36
#     IPC::Open3                                    any     1.20
#     Syntax::Feature::Qi                        1.0000   1.0000
#     Test::DZil                                  5.000    6.007
#     Test::More                                   0.96 1.302057
# 
# === Test Recommends ===
# 
#     Module         Want     Have
#     ---------- -------- --------
#     CPAN::Meta 2.120900 2.150010
# 
# === Runtime Requires ===
# 
#     Module                            Want     Have
#     ----------------------------- -------- --------
#     CPAN::Changes                 0.400002 0.400002
#     CPAN::Changes::Group               any    undef
#     Dist::Zilla::Role::FileMunger    5.000    6.007
#     Dist::Zilla::Role::Plugin        5.000    6.007
#     Git::Repository                    any    1.320
#     JSON::MaybeXS                 1.003003 1.003007
#     Module::CPANfile                   any   1.1002
#     Moose                           2.1400   2.1805
#     Path::Tiny                       0.072    0.096
#     Try::Tiny                         0.24     0.27
#     Types::Standard               1.000000 1.000005
#     namespace::autoclean              0.18     0.28
# 
t/00-report-prereqs.t .. ok
t/01-basic.t ........... ok
All tests successful.
Files=3, Tests=5,  3 wallclock secs ( 0.02 usr  0.00 sys +  1.13 cusr  0.10 csys =  1.25 CPU)
Result: PASS

------------------------------
PREREQUISITES
------------------------------

Prerequisite modules loaded:

requires:

    Module                                     Need     Have    
    ------------------------------------------ -------- --------
    CPAN::Changes                              0.400002 0.400002
    CPAN::Changes::Group                       0        0       
    Dist::Zilla::Role::FileMunger              5.000    6.007   
    Dist::Zilla::Role::Plugin                  5.000    6.007   
    Git::Repository                            0        1.320   
    JSON::MaybeXS                              1.003003 1.003007
    Module::CPANfile                           0        1.1002  
    Moose                                      2.1400   2.1805  
    namespace::autoclean                       0.18     0.28    
    Path::Tiny                                 0.072    0.096   
    perl                                       5.010000 5.024001
    Try::Tiny                                  0.24     0.27    
    Types::Standard                            1.000000 1.000005

build_requires:

    Module                                     Need     Have    
    ------------------------------------------ -------- --------
    Dist::Zilla::Plugin::Prereqs::FromCPANfile 0        0.08    
    ExtUtils::MakeMaker                        0        7.24    
    File::Spec                                 0        3.63_01 
    IO::Handle                                 0        1.36    
    IPC::Open3                                 0        1.20    
    Syntax::Feature::Qi                        1.0000   1.0000  
    Test::DZil                                 5.000    6.007   
    Test::More                                 0.96     1.302057

configure_requires:

    Module                                     Need     Have    
    ------------------------------------------ -------- --------
    ExtUtils::MakeMaker                        0        7.24    


------------------------------
ENVIRONMENT AND OTHER CONTEXT
------------------------------

Environment variables:

    AUTOMATED_TESTING = 1
    LANG = en_US.UTF-8
    LANGUAGE = en_US:en
    PATH = /home/sand/bin:/usr/local/bin:/usr/bin:/bin:/usr/games:/usr/local/perl/bin:/usr/X11/bin:/sbin:/usr/sbin
    PERL5LIB = 
    PERL5OPT = 
    PERL5_CPANPLUS_IS_RUNNING = 22335
    PERL5_CPAN_IS_RUNNING = 22335
    PERL_CANARY_STABILITY_NOPROMPT = 1
    PERL_MM_USE_DEFAULT = 1
    SHELL = /usr/bin/zsh
    TERM = screen

Perl special variables (and OS-specific diagnostics, for MSWin32):

    $^X = /home/sand/src/perl/repoperls/installed-perls/perl/v5.24.1-RC3/8942/bin/perl
    $UID/$EUID = 1005 / 1005
    $GID = 1005 1005
    $EGID = 1005 1005

Perl module toolchain versions installed:

    Module              Have      
    ------------------- ----------
    CPAN                2.15      
    CPAN::Meta          2.150010  
    Cwd                 3.63_01   
    ExtUtils::CBuilder  0.280225  
    ExtUtils::Command   7.24      
    ExtUtils::Install   2.04      
    ExtUtils::MakeMaker 7.24      
    ExtUtils::Manifest  1.70      
    ExtUtils::ParseXS   3.31      
    File::Spec          3.63_01   
    JSON                2.90      
    JSON::PP            2.27300_01
    Module::Build       0.4220    
    Module::Signature   0.81      
    Parse::CPAN::Meta   2.150010  
    Test::Harness       3.36_01   
    Test::More          1.302057  
    YAML                1.18      
    YAML::Syck          1.29      
    version             0.9917    


--

Summary of my perl5 (revision 5 version 24 subversion 1) configuration:
  Commit id: 1b7abe20fcdca479e5720538eb76c42f71a979c3
  Platform:
    osname=linux, osvers=4.7.0-1-amd64, archname=x86_64-linux-ld
    uname='linux k83 4.7.0-1-amd64 #1 smp debian 4.7.2-1 (2016-08-28) x86_64 gnulinux '
    config_args='-Dprefix=/home/sand/src/perl/repoperls/installed-perls/perl/v5.24.1-RC3/8942 -Dmyhostname=k83 -Dinstallusrbinperl=n -Uversiononly -Dusedevel -des -Ui_db -Dlibswanted=cl pthread socket inet nsl gdbm dbm malloc dl ld sun m crypt sec util c cposix posix ucb BSD gdbm_compat -Uuseithreads -Duselongdouble -DDEBUGGING=-g'
    hint=recommended, useposix=true, d_sigaction=define
    useithreads=undef, usemultiplicity=undef
    use64bitint=define, use64bitall=define, uselongdouble=define
    usemymalloc=n, bincompat5005=undef
  Compiler:
    cc='cc', ccflags ='-fwrapv -fno-strict-aliasing -pipe -fstack-protector-strong -I/usr/local/include -D_LARGEFILE_SOURCE -D_FILE_OFFSET_BITS=64',
    optimize='-O2 -g',
    cppflags='-fwrapv -fno-strict-aliasing -pipe -fstack-protector-strong -I/usr/local/include'
    ccversion='', gccversion='6.2.0 20160830', gccosandvers=''
    intsize=4, longsize=8, ptrsize=8, doublesize=8, byteorder=12345678, doublekind=3
    d_longlong=define, longlongsize=8, d_longdbl=define, longdblsize=16, longdblkind=3
    ivtype='long', ivsize=8, nvtype='long double', nvsize=16, Off_t='off_t', lseeksize=8
    alignbytes=16, prototype=define
  Linker and Libraries:
    ld='cc', ldflags =' -fstack-protector-strong -L/usr/local/lib'
    libpth=/usr/local/lib /usr/lib/gcc/x86_64-linux-gnu/6/include-fixed /usr/include/x86_64-linux-gnu /usr/lib /lib/x86_64-linux-gnu /lib/../lib /usr/lib/x86_64-linux-gnu /usr/lib/../lib /lib
    libs=-lpthread -lnsl -lgdbm -ldl -lm -lcrypt -lutil -lc -lgdbm_compat
    perllibs=-lpthread -lnsl -ldl -lm -lcrypt -lutil -lc
    libc=libc-2.24.so, so=so, useshrplib=false, libperl=libperl.a
    gnulibc_version='2.24'
  Dynamic Linking:
    dlsrc=dl_dlopen.xs, dlext=so, d_dlsymun=undef, ccdlflags='-Wl,-E'
    cccdlflags='-fPIC', lddlflags='-shared -O2 -g -L/usr/local/lib -fstack-protector-strong'


Characteristics of this binary (from libperl): 
  Compile-time options: HAS_TIMES PERLIO_LAYERS PERL_COPY_ON_WRITE
                        PERL_DONT_CREATE_GVSV
                        PERL_HASH_FUNC_ONE_AT_A_TIME_HARD PERL_MALLOC_WRAP
                        PERL_PRESERVE_IVUV PERL_USE_DEVEL USE_64_BIT_ALL
                        USE_64_BIT_INT USE_LARGE_FILES USE_LOCALE
                        USE_LOCALE_COLLATE USE_LOCALE_CTYPE
                        USE_LOCALE_NUMERIC USE_LOCALE_TIME USE_LONG_DOUBLE
                        USE_PERLIO USE_PERL_ATOF
  Locally applied patches:
	RC3
  Built under linux
  Compiled at Sep  4 2016 14:02:26
  %ENV:
    PERL5LIB=""
    PERL5OPT=""
    PERL5_CPANPLUS_IS_RUNNING="22335"
    PERL5_CPAN_IS_RUNNING="22335"
    PERL_CANARY_STABILITY_NOPROMPT="1"
    PERL_MM_USE_DEFAULT="1"
  @INC:
    /home/sand/src/perl/repoperls/installed-perls/perl/v5.24.1-RC3/8942/lib/site_perl/5.24.1/x86_64-linux-ld
    /home/sand/src/perl/repoperls/installed-perls/perl/v5.24.1-RC3/8942/lib/site_perl/5.24.1
    /home/sand/src/perl/repoperls/installed-perls/perl/v5.24.1-RC3/8942/lib/5.24.1/x86_64-linux-ld
    /home/sand/src/perl/repoperls/installed-perls/perl/v5.24.1-RC3/8942/lib/5.24.1
    .