MarpaX-Languages-C-AST v0.48 Perl 5 v5.28.1 OpenBSD.amd64-openbsd-multi
- Status
- Pass
- From
- Alceu Rodrigues de Freitas Junior
- Dist
-
MarpaX-Languages-C-AST v0.48
- Platform
- Perl 5 v5.28.1 OpenBSD.amd64-openbsd-multi
- Date
- 2019-04-04 11:03:27
- ID
- 45c2f628-56c9-11e9-a8a9-f4ad58d6f68a
This distribution has been tested as part of the CPAN Testers
project, supporting the Perl programming language. See
http://wiki.cpantesters.org/ for more information or email
questions to cpan-testers-discuss@perl.org
--
Dear Jean-Damien Durand,
This is a computer-generated report for MarpaX-Languages-C-AST-0.48
on perl 5.28.1, created by CPAN-Reporter-1.2018.
Thank you for uploading your work to CPAN. Congratulations!
All tests were successful.
Sections of this report:
* Tester comments
* Program output
* Prerequisites
* Environment and other context
------------------------------
TESTER COMMENTS
------------------------------
Additional comments from tester:
this report is from an automated smoke testing program
and was not reviewed by a human for accuracy
------------------------------
PROGRAM OUTPUT
------------------------------
Output from '/usr/bin/make test':
Skip blib/lib/auto/share/dist/MarpaX-Languages-C-AST/xpath/structOrUnionSpecifier2structDeclaration.xpath (unchanged)
Skip blib/lib/auto/share/dist/MarpaX-Languages-C-AST/xpath/fdecl2args.xpath (unchanged)
Skip blib/lib/auto/share/dist/MarpaX-Languages-C-AST/xslt/csl.xsl (unchanged)
Skip blib/lib/auto/share/dist/MarpaX-Languages-C-AST/xslt/cdissect.xsl (unchanged)
Skip blib/lib/auto/share/dist/MarpaX-Languages-C-AST/xpath/deepestStructDeclarationList.xpath (unchanged)
Skip blib/lib/auto/share/dist/MarpaX-Languages-C-AST/xpath/allEnumeratorLists.xpath (unchanged)
Skip blib/lib/auto/share/dist/MarpaX-Languages-C-AST/xpath/declaration2Declarator.xpath (unchanged)
Skip blib/lib/auto/share/dist/MarpaX-Languages-C-AST/xpath/declarationSpecifiers2structOrUnionSpecifier.xpath (unchanged)
Skip blib/lib/auto/share/dist/MarpaX-Languages-C-AST/xpath/fdecls.xpath (unchanged)
Skip blib/lib/auto/share/dist/MarpaX-Languages-C-AST/xpath/inlines.xpath (unchanged)
Skip blib/lib/auto/share/dist/MarpaX-Languages-C-AST/xpath/firstLexeme.xpath (unchanged)
Skip blib/lib/auto/share/dist/MarpaX-Languages-C-AST/xpath/structDeclaration2structDeclarator.xpath (unchanged)
Skip blib/lib/auto/share/dist/MarpaX-Languages-C-AST/xpath/missingIdentifier.xpath (unchanged)
Skip blib/lib/auto/share/dist/MarpaX-Languages-C-AST/xpath/declarator2IDENTIFIER.xpath (unchanged)
Skip blib/lib/auto/share/dist/MarpaX-Languages-C-AST/xpath/structOrUnionSpecifier2IDENTIFIER.xpath (unchanged)
Skip blib/lib/auto/share/dist/MarpaX-Languages-C-AST/xpath/topDeclarations.xpath (unchanged)
Skip blib/lib/auto/share/dist/MarpaX-Languages-C-AST/xpath/missingComma.xpath (unchanged)
Skip blib/lib/auto/share/dist/MarpaX-Languages-C-AST/xpath/structDeclaration2specifierQualifierList.xpath (unchanged)
Skip blib/lib/auto/share/dist/MarpaX-Languages-C-AST/xpath/structDeclarator2IDENTIFIER.xpath (unchanged)
Skip blib/lib/auto/share/dist/MarpaX-Languages-C-AST/tmpl/perl5/ifce (unchanged)
Skip blib/lib/auto/share/dist/MarpaX-Languages-C-AST/xpath/typedef.xpath (unchanged)
Skip blib/lib/auto/share/dist/MarpaX-Languages-C-AST/xpath/vdecl.xpath (unchanged)
Skip blib/lib/auto/share/dist/MarpaX-Languages-C-AST/xslt/h2decl.xsl (unchanged)
Skip blib/lib/auto/share/dist/MarpaX-Languages-C-AST/tmpl/perl5/bottom (unchanged)
Skip blib/lib/auto/share/dist/MarpaX-Languages-C-AST/xslt/perl5.xsl (unchanged)
Skip blib/lib/auto/share/dist/MarpaX-Languages-C-AST/xslt/cslTemplate.xsl (unchanged)
Skip blib/lib/auto/share/dist/MarpaX-Languages-C-AST/xpath/lastLexeme.xpath (unchanged)
Skip blib/lib/auto/share/dist/MarpaX-Languages-C-AST/xpath/allNodes.xpath (unchanged)
Skip blib/lib/auto/share/dist/MarpaX-Languages-C-AST/xpath/emptyStructDeclaration.xpath (unchanged)
Skip blib/lib/auto/share/dist/MarpaX-Languages-C-AST/tmpl/perl5/lang (unchanged)
Skip blib/lib/auto/share/dist/MarpaX-Languages-C-AST/xpath/firstDeclarationSpecifiers.xpath (unchanged)
Skip blib/lib/auto/share/dist/MarpaX-Languages-C-AST/xpath/enumerators.xpath (unchanged)
Skip blib/lib/auto/share/dist/MarpaX-Languages-C-AST/xpath/arg2mod.xpath (unchanged)
Skip blib/lib/auto/share/dist/MarpaX-Languages-C-AST/xpath/arg2nm.xpath (unchanged)
Skip blib/lib/auto/share/dist/MarpaX-Languages-C-AST/xpath/initDeclarators.xpath (unchanged)
Skip blib/lib/auto/share/dist/MarpaX-Languages-C-AST/tmpl/perl5/content (unchanged)
Skip blib/lib/auto/share/dist/MarpaX-Languages-C-AST/tmpl/perl5/top (unchanged)
PERL_DL_NONLAZY=1 "/home/goku/perl5/perlbrew/perls/perl-5.28.1-no-ithreads/bin/perl" "-MExtUtils::Command::MM" "-MTest::Harness" "-e" "undef *Test::Harness::Switches; test_harness(0, 'blib/lib', 'blib/arch')" t/*.t
t/00-compile.t ............................................. ok
#
# Versions for all modules listed in MYMETA.json (including optional ones):
#
# === Configure Requires ===
#
# Module Want Have
# ----------------------- ---- ----
# ExtUtils::MakeMaker any 7.34
# File::ShareDir::Install 0.06 0.13
#
# === Build Requires ===
#
# Module Want Have
# ------------------- ---- ----
# ExtUtils::MakeMaker any 7.34
#
# === Test Requires ===
#
# Module Want Have
# ------------------- ---- --------
# Clone any 0.41
# ExtUtils::MakeMaker any 7.34
# File::Spec any 3.75
# File::Temp any 0.2306
# IO::Handle any 1.39
# IPC::Open3 any 1.20
# Test::Differences any 0.67
# Test::More any 1.302162
# Test::Trap any 0.3.4
#
# === Test Recommends ===
#
# Module Want Have
# ---------- -------- --------
# CPAN::Meta 2.120900 2.150010
#
# === Runtime Requires ===
#
# Module Want Have
# ----------------- -------- ----------
# Carp any 1.50
# Class::Struct any 0.65
# Data::Dumper any 2.173
# Env any 1.04
# Exporter any 5.73
# File::Basename any 2.85
# File::Copy any 2.33
# File::Find any 1.34
# File::ShareDir any 1.116
# File::Slurp any 9999.26
# File::Spec any 3.75
# File::Temp any 0.2306
# Getopt::Long any 2.5
# IO::CaptureOutput any 1.1104
# IO::File any 1.39
# IO::Handle any 1.39
# IO::String any 1.08
# IPC::Cmd any 1.02
# IPC::Run any 20180523.0
# Log::Any any 1.707
# Log::Any::Adapter any 1.707
# Log::Log4perl any 1.49
# Marpa::R2 2.081001 8.000000
# POSIX any 1.84
# Pod::Usage any 1.69
# Regexp::Common any 2017060201
# SUPER any 1.20141117
# Scalar::Util any 1.50
# Term::ProgressBar any 2.22
# Try::Tiny any 0.30
# Unicode::CaseFold any 1.01
# XML::LibXML any 2.0134
# XML::LibXSLT any 1.96
# constant any 1.33
# diagnostics any 1.36
# filetest any 1.03
# parent any 0.237
# strict any 1.11
# warnings any 1.42
#
t/00-report-prereqs.t ...................................... ok
t/asm-opaque.t ............................................. ok
t/cdecl.t .................................................. ok
t/complex_declarations.t ................................... ok
t/delayed_directDeclaratorIdentifier.t ..................... ok
t/directAbstractDeclarator.t ............................... ok
t/discard_GCC_attribute.t .................................. ok
t/discard_MSVS_declspec.t .................................. ok
t/discard_MSVS_pragma.t .................................... ok
t/empty_externalDeclaration.t .............................. ok
t/failure-function-definition-declaration-list-02.t ........ ok
t/failure-function-definition-declaration-list.t ........... ok
t/failure-function-definition-declaration-specifiers-02.t .. ok
t/failure-function-definition-declaration-specifiers.t ..... ok
t/failure-parameter-declaration-02.t ....................... ok
t/failure-parameter-declaration.t .......................... ok
t/gcc-asm.t ................................................ ok
t/gcc_case_range.t ......................................... ok
t/gcc_escape_ESC.t ......................................... ok
t/gcc_extension.t .......................................... ok
t/if-if-else.t ............................................. ok
t/no_translation_unit.t .................................... ok
t/obscure_typedef_newstyle.t ............................... ok
t/obscure_typedef_oldstyle.t ............................... ok
t/scan.t ................................................... ok
t/struct.t ................................................. ok
t/syntax-error.t ........................................... ok
t/wikipedia-01.t ........................................... ok
t/wikipedia-02.t ........................................... ok
t/wikipedia-03.t ........................................... ok
t/wikipedia-04.t ........................................... ok
t/wikipedia-05.t ........................................... ok
t/wikipedia-06.t ........................................... ok
t/wikipedia-07.t ........................................... ok
t/wikipedia-08.t ........................................... ok
t/wikipedia-09.t ........................................... ok
t/wikipedia-10.t ........................................... ok
t/wikipedia-11.t ........................................... ok
t/wikipedia-12.t ........................................... ok
t/wikipedia-13.t ........................................... ok
t/wikipedia-14.t ........................................... ok
t/wikipedia-15.t ........................................... ok
t/wikipedia-16.t ........................................... ok
t/wikipedia-17.t ........................................... ok
t/wikipedia-18.t ........................................... ok
t/wikipedia-19.t ........................................... ok
t/wikipedia-20.t ........................................... ok
t/wikipedia-21.t ........................................... ok
t/wikipedia-22.t ........................................... ok
t/wikipedia-23.t ........................................... ok
t/wikipedia-24.t ........................................... ok
t/wikipedia-25.t ........................................... ok
t/wikipedia-26.t ........................................... ok
t/wikipedia-27.t ........................................... ok
t/wikipedia-28.t ........................................... ok
t/wikipedia-29.t ........................................... ok
t/wikipedia-30.t ........................................... ok
All tests successful.
Files=58, Tests=145, 114 wallclock secs ( 0.09 usr 0.47 sys + 80.41 cusr 25.60 csys = 106.57 CPU)
Result: PASS
------------------------------
PREREQUISITES
------------------------------
Prerequisite modules loaded:
requires:
Module Need Have
----------------------- -------- ----------
Carp 0 1.50
Class::Struct 0 0.65
constant 0 1.33
Data::Dumper 0 2.173
diagnostics 0 1.36
Env 0 1.04
Exporter 0 5.73
File::Basename 0 2.85
File::Copy 0 2.33
File::Find 0 1.34
File::ShareDir 0 1.116
File::Slurp 0 9999.26
File::Spec 0 3.75
File::Temp 0 0.2306
filetest 0 1.03
Getopt::Long 0 2.5
IO::CaptureOutput 0 1.1104
IO::File 0 1.39
IO::Handle 0 1.39
IO::String 0 1.08
IPC::Cmd 0 1.02
IPC::Run 0 20180523.0
Log::Any 0 1.707
Log::Any::Adapter 0 1.707
Log::Log4perl 0 1.49
Marpa::R2 2.081001 8.000000
parent 0 0.237
perl 5.010 5.028001
Pod::Usage 0 1.69
POSIX 0 1.84
Regexp::Common 0 2017060201
Scalar::Util 0 1.50
strict 0 1.11
SUPER 0 1.20141117
Term::ProgressBar 0 2.22
Try::Tiny 0 0.30
Unicode::CaseFold 0 1.01
warnings 0 1.42
XML::LibXML 0 2.0134
XML::LibXSLT 0 1.96
build_requires:
Module Need Have
----------------------- -------- ----------
Clone 0 0.41
ExtUtils::MakeMaker 0 7.34
File::Spec 0 3.75
File::Temp 0 0.2306
IO::Handle 0 1.39
IPC::Open3 0 1.20
Test::Differences 0 0.67
Test::More 0 1.302162
Test::Trap 0 0.3.4
configure_requires:
Module Need Have
----------------------- -------- ----------
ExtUtils::MakeMaker 0 7.34
File::ShareDir::Install 0.06 0.13
perl 5.006 5.028001
opt_build_requires:
Module Need Have
----------------------- -------- ----------
CPAN::Meta 2.120900 2.150010
------------------------------
ENVIRONMENT AND OTHER CONTEXT
------------------------------
Environment variables:
AUTOMATED_TESTING = 1
DBD_MYSQL_TESTDB = test
DBD_MYSQL_TESTHOST = localhost
DBD_MYSQL_TESTPASSWORD =
DBD_MYSQL_TESTPORT = 3306
DBD_MYSQL_TESTUSER = goku
EXTENDED_TESTING = 1
PATH = /home/goku/perl5/perlbrew/bin:/home/goku/perl5/perlbrew/perls/perl-5.28.1-no-ithreads/bin:/home/goku/bin:/usr/bin:/bin:/usr/sbin:/sbin:/usr/X11R6/bin:/usr/local/bin:/usr/local/sbin
PERL5LIB =
PERL5OPT =
PERL5_CPANPLUS_IS_RUNNING = 82421
PERL5_CPAN_IS_RUNNING = 82421
PERL5_CPAN_IS_RUNNING_IN_RECURSION = 8380,82421
PERLBREW_HOME = /home/goku/.perlbrew
PERLBREW_MANPATH = /home/goku/perl5/perlbrew/perls/perl-5.28.1-no-ithreads/man
PERLBREW_PATH = /home/goku/perl5/perlbrew/bin:/home/goku/perl5/perlbrew/perls/perl-5.28.1-no-ithreads/bin
PERLBREW_PERL = perl-5.28.1-no-ithreads
PERLBREW_ROOT = /home/goku/perl5/perlbrew
PERLBREW_SHELLRC_VERSION = 0.86
PERLBREW_VERSION = 0.86
PERL_CR_SMOKER_CURRENT = MarpaX-Languages-C-AST-0.48
PERL_EXTUTILS_AUTOINSTALL = --defaultdeps
PERL_MM_USE_DEFAULT = 1
PERL_USE_UNSAFE_INC = 1
SHELL = /usr/local/bin/bash
TERM = xterm
Perl special variables (and OS-specific diagnostics, for MSWin32):
$^X = /home/goku/perl5/perlbrew/perls/perl-5.28.1-no-ithreads/bin/perl
$UID/$EUID = 1001 / 1001
$GID = 999 999 1001
$EGID = 999 999 1001
Perl module toolchain versions installed:
Module Have
------------------- --------
CPAN 2.26
CPAN::Meta 2.150010
Cwd 3.75
ExtUtils::CBuilder 0.280231
ExtUtils::Command 7.34
ExtUtils::Install 2.14
ExtUtils::MakeMaker 7.34
ExtUtils::Manifest 1.72
ExtUtils::ParseXS 3.39
File::Spec 3.75
JSON 4.02
JSON::PP 4.02
Module::Build 0.42_28
Module::Signature n/a
Parse::CPAN::Meta 2.150010
Test::Harness 3.42
Test::More 1.302162
YAML 1.27
YAML::Syck n/a
version 0.9924
--
Summary of my perl5 (revision 5 version 28 subversion 1) configuration:
Platform:
osname=openbsd
osvers=6.4
archname=OpenBSD.amd64-openbsd-multi
uname='openbsd cpan-smoker-openbsd 6.4 generic.mp#364 amd64 '
config_args='-de -Dprefix=/home/goku/perl5/perlbrew/perls/perl-5.28.1-no-ithreads -Dman1dir=none -Dman3dir=none -Dusemultiplicity -Duse64bitint -Duse64bitall -Aeval:scriptdir=/home/goku/perl5/perlbrew/perls/perl-5.28.1-no-ithreads/bin'
hint=recommended
useposix=true
d_sigaction=define
useithreads=undef
usemultiplicity=define
use64bitint=define
use64bitall=define
uselongdouble=undef
usemymalloc=n
default_inc_excludes_dot=define
bincompat5005=undef
Compiler:
cc='cc'
ccflags ='-fno-strict-aliasing -pipe -fstack-protector-strong -I/usr/local/include -D_FORTIFY_SOURCE=2'
optimize='-O2'
cppflags='-fno-strict-aliasing -pipe -fstack-protector-strong -I/usr/local/include'
ccversion=''
gccversion='4.2.1 Compatible OpenBSD Clang 6.0.0 (tags/RELEASE_600/final)'
gccosandvers=''
intsize=4
longsize=8
ptrsize=8
doublesize=8
byteorder=12345678
doublekind=3
d_longlong=define
longlongsize=8
d_longdbl=define
longdblsize=16
longdblkind=3
ivtype='long'
ivsize=8
nvtype='double'
nvsize=8
Off_t='off_t'
lseeksize=8
alignbytes=8
prototype=define
Linker and Libraries:
ld='cc'
ldflags ='-Wl,-E -fstack-protector-strong -L/usr/local/lib'
libpth=/usr/lib /usr/local/lib
libs=-lpthread -lm -lutil -lc
perllibs=-lpthread -lm -lutil -lc
libc=/usr/lib/libc.so.92.5
so=so
useshrplib=false
libperl=libperl.a
gnulibc_version=''
Dynamic Linking:
dlsrc=dl_dlopen.xs
dlext=so
d_dlsymun=undef
ccdlflags=' '
cccdlflags='-DPIC -fPIC '
lddlflags='-shared -fPIC -L/usr/local/lib -fstack-protector-strong'
Characteristics of this binary (from libperl):
Compile-time options:
HAS_TIMES
MULTIPLICITY
PERLIO_LAYERS
PERL_COPY_ON_WRITE
PERL_DONT_CREATE_GVSV
PERL_IMPLICIT_CONTEXT
PERL_MALLOC_WRAP
PERL_OP_PARENT
PERL_PRESERVE_IVUV
USE_64_BIT_ALL
USE_64_BIT_INT
USE_LARGE_FILES
USE_LOCALE
USE_LOCALE_COLLATE
USE_LOCALE_CTYPE
USE_LOCALE_NUMERIC
USE_LOCALE_TIME
USE_PERLIO
USE_PERL_ATOF
Locally applied patches:
Devel::PatchPerl 1.52
Built under openbsd
Compiled at Mar 22 2019 12:28:09
%ENV:
PERL5LIB=""
PERL5OPT=""
PERL5_CPANPLUS_IS_RUNNING="82421"
PERL5_CPAN_IS_RUNNING="82421"
PERL5_CPAN_IS_RUNNING_IN_RECURSION="8380,82421"
PERLBREW_HOME="/home/goku/.perlbrew"
PERLBREW_MANPATH="/home/goku/perl5/perlbrew/perls/perl-5.28.1-no-ithreads/man"
PERLBREW_PATH="/home/goku/perl5/perlbrew/bin:/home/goku/perl5/perlbrew/perls/perl-5.28.1-no-ithreads/bin"
PERLBREW_PERL="perl-5.28.1-no-ithreads"
PERLBREW_ROOT="/home/goku/perl5/perlbrew"
PERLBREW_SHELLRC_VERSION="0.86"
PERLBREW_VERSION="0.86"
PERL_CR_SMOKER_CURRENT="MarpaX-Languages-C-AST-0.48"
PERL_EXTUTILS_AUTOINSTALL="--defaultdeps"
PERL_MM_USE_DEFAULT="1"
PERL_USE_UNSAFE_INC="1"
@INC:
/home/goku/perl5/perlbrew/perls/perl-5.28.1-no-ithreads/lib/site_perl/5.28.1/OpenBSD.amd64-openbsd-multi
/home/goku/perl5/perlbrew/perls/perl-5.28.1-no-ithreads/lib/site_perl/5.28.1
/home/goku/perl5/perlbrew/perls/perl-5.28.1-no-ithreads/lib/5.28.1/OpenBSD.amd64-openbsd-multi
/home/goku/perl5/perlbrew/perls/perl-5.28.1-no-ithreads/lib/5.28.1
.