Test-WWW-Mechanize v1.49_01 Perl 5 v5.26.2 darwin-2level
- Status
- Pass
- From
- Karen Etheridge
- Dist
-
Test-WWW-Mechanize v1.49_01
- Platform
- Perl 5 v5.26.2 darwin-2level
- Date
- 2018-04-14 23:48:03
- ID
- 45ce048e-403e-11e8-82a4-6f9dff1906a6
This distribution has been tested as part of the CPAN Testers
project, supporting the Perl programming language. See
http://wiki.cpantesters.org/ for more information or email
questions to cpan-testers-discuss@perl.org
--
Dear PETDANCE,
This is a computer-generated report for Test-WWW-Mechanize-1.49_01
on perl 5.26.2, created by App::cpanminus::reporter 0.17 (1.7043).
Thank you for uploading your work to CPAN. Congratulations!
All tests were successful.
Sections of this report:
* Tester comments
* Program output
* Prerequisites
* Environment and other context
------------------------------
TESTER COMMENTS
------------------------------
Additional comments from tester:
none provided
------------------------------
PROGRAM OUTPUT
------------------------------
Output from '':
Building and testing Test-WWW-Mechanize-1.49_01
Manifying 1 pod document
PERL_DL_NONLAZY=1 "/Volumes/amaretto/Users/ether/perl5/perlbrew/perls/26.2/bin/perl" "-MExtUtils::Command::MM" "-MTest::Harness" "-e" "undef *Test::Harness::Switches; test_harness(0, 'blib/lib', 'blib/arch')" t/*.t
# Testing Test::WWW::Mechanize 1.49_01, with WWW::Mechanize 1.88, LWP 6.33, Test::More 1.302135, Perl 5.026002, /Volumes/amaretto/Users/ether/perl5/perlbrew/perls/26.2/bin/perl
# No HTML::Lint found.
# No HTML::Tidy found.
t/00-load.t ................ ok
t/autolint.t ............... skipped: HTML::Lint 2.20 is not installed, cannot test autolint
t/autotidy.t ............... skipped: HTML::Tidy5 1.00 is not installed, cannot test autotidy.
t/content_contains.t ....... ok
t/content_lacks.t .......... ok
t/follow_link_ok.t ......... ok
t/followable_links.t ....... ok
t/get_ok-parms.t ........... ok
t/get_ok.t ................. ok
t/has_tag.t ................ ok
t/head_ok-parms.t .......... ok
t/head_ok.t ................ ok
t/html_lint_ok.t ........... skipped: HTML::Lint is not installed, cannot test autolint
t/lacks_uncapped_inputs.t .. ok
# Test server http://127.0.0.1:37055 as PID 99520
t/link_content.t ........... ok
t/click_ok.t ............... ok
# Test server http://127.0.0.1:37687 as PID 99525
t/link_status.t ............ ok
t/new.t .................... ok
t/links_ok.t ............... ok
t/delete_ok.t .............. ok
t/pod.t .................... ok
t/page_links_content.t ..... ok
t/pod-coverage.t ........... ok
t/page_links_ok.t .......... ok
# Test server http://127.0.0.1:24898 as PID 99546
t/stuff_inputs.t ........... ok
t/scrape_text_by_id.t ...... ok
t/headers.t ................ ok
t/title_is.t ............... ok
t/text_contains.t .......... ok
# Test server http://127.0.0.1:24834 as PID 99570
# Test server http://127.0.0.1:30896 as PID 99574
t/put_ok.t ................. ok
t/submit_form_ok.t ......... ok
All tests successful.
Files=31, Tests=257, 4 wallclock secs ( 0.15 usr 0.09 sys + 6.87 cusr 1.06 csys = 8.17 CPU)
Result: PASS
------------------------------
PREREQUISITES
------------------------------
Prerequisite modules loaded:
No requirements found
------------------------------
ENVIRONMENT AND OTHER CONTEXT
------------------------------
Environment variables:
HARNESS_OPTIONS = j5:c
LANG = en_CA.UTF-8
NO_NETWORK_TESTING = 1
PATH = /Volumes/amaretto/Users/ether/.perlbrew/libs/26.2@std/bin:/Volumes/amaretto/Users/ether/perl5/perlbrew/bin:/Volumes/amaretto/Users/ether/perl5/perlbrew/perls/26.2/bin:/Volumes/amaretto/Users/ether/bin:/Volumes/amaretto/Users/ether/git/misc/install/jaeger/bin:/Volumes/amaretto/Users/ether/git/misc/install/generic/bin:/opt/local/bin:/opt/local/sbin:/Volumes/amaretto/Users/ether/git/git-hub/lib:/usr/local/bin:/usr/bin:/bin:/usr/sbin:/sbin:/opt/local/share/git-core/contrib/workdir
PERL5LIB = /Volumes/amaretto/Users/ether/.perlbrew/libs/26.2@std/lib/perl5
PERLBREW_HOME = /Volumes/amaretto/Users/ether/.perlbrew
PERLBREW_LIB = std
PERLBREW_MANPATH = /Volumes/amaretto/Users/ether/.perlbrew/libs/26.2@std/man:/Volumes/amaretto/Users/ether/perl5/perlbrew/perls/26.2/man
PERLBREW_PATH = /Volumes/amaretto/Users/ether/.perlbrew/libs/26.2@std/bin:/Volumes/amaretto/Users/ether/perl5/perlbrew/bin:/Volumes/amaretto/Users/ether/perl5/perlbrew/perls/26.2/bin
PERLBREW_PERL = 26.2
PERLBREW_ROOT = /Volumes/amaretto/Users/ether/perl5/perlbrew
PERLBREW_SHELLRC_VERSION = 0.82
PERLBREW_VERSION = 0.82
PERLDOC = -oman
PERLDOC_PAGER = less -sicMr
PERL_AUTOINSTALL_PREFER_CPAN = 1
PERL_INSTALL_QUIET = 1
PERL_LOCAL_LIB_ROOT = /Volumes/amaretto/Users/ether/.perlbrew/libs/26.2@std
PERL_MB_OPT = --install_base /Volumes/amaretto/Users/ether/.perlbrew/libs/26.2@std
PERL_MM_OPT = INSTALL_BASE=/Volumes/amaretto/Users/ether/.perlbrew/libs/26.2@std
PERL_USE_UNSAFE_INC = 0
SHELL = /bin/bash
TERM = xterm-color
TMPDIR = /var/folders/4f/y458q_3n2g75w6m_k19nn8kr0000gp/T/
Perl special variables (and OS-specific diagnostics, for MSWin32):
EGID = 20 20 12 61 79 80 81 98 701 33 100 204 395 398 399
EUID = 502
EXECUTABLE_NAME = /Volumes/amaretto/Users/ether/perl5/perlbrew/perls/26.2/bin/perl
GID = 20 20 12 61 79 80 81 98 701 33 100 204 395 398 399
UID = 502
Perl module toolchain versions installed:
Module Have
------------------- --------
CPAN 2.18
CPAN::Meta 2.150010
Cwd 3.67
ExtUtils::CBuilder 0.280230
ExtUtils::Command 7.34
ExtUtils::Install 2.06
ExtUtils::MakeMaker 7.34
ExtUtils::Manifest 1.70
ExtUtils::ParseXS 3.34
File::Spec 3.67
JSON 2.97001
JSON::PP 2.97001
Module::Build 0.4224
Module::Signature n/a
Parse::CPAN::Meta 2.150010
Test::Harness 3.38
Test::More 1.302135
YAML 1.24
YAML::Syck 1.30
version 0.9917
--
Summary of my perl5 (revision 5 version 26 subversion 2) configuration:
Platform:
osname=darwin
osvers=16.7.0
archname=darwin-2level
uname='darwin jaeger 16.7.0 darwin kernel version 16.7.0: tue jan 30 11:27:06 pst 2018; root:xnu-3789.73.11~1release_x86_64 x86_64 '
config_args='-de -Dprefix=/Volumes/amaretto/Users/ether/perl5/perlbrew/perls/26.2 -Dman1dir=none -Dman3dir=none -Aeval:scriptdir=/Volumes/amaretto/Users/ether/perl5/perlbrew/perls/26.2/bin'
hint=recommended
useposix=true
d_sigaction=define
useithreads=undef
usemultiplicity=undef
use64bitint=define
use64bitall=define
uselongdouble=undef
usemymalloc=n
default_inc_excludes_dot=define
bincompat5005=undef
Compiler:
cc='cc'
ccflags ='-fno-common -DPERL_DARWIN -mmacosx-version-min=10.12 -fno-strict-aliasing -pipe -fstack-protector-strong -I/opt/local/include -DPERL_USE_SAFE_PUTENV'
optimize='-O3'
cppflags='-fno-common -DPERL_DARWIN -mmacosx-version-min=10.12 -fno-strict-aliasing -pipe -fstack-protector-strong -I/opt/local/include'
ccversion=''
gccversion='4.2.1 Compatible Apple LLVM 9.0.0 (clang-900.0.39.2)'
gccosandvers=''
intsize=4
longsize=8
ptrsize=8
doublesize=8
byteorder=12345678
doublekind=3
d_longlong=define
longlongsize=8
d_longdbl=define
longdblsize=16
longdblkind=3
ivtype='long'
ivsize=8
nvtype='double'
nvsize=8
Off_t='off_t'
lseeksize=8
alignbytes=8
prototype=define
Linker and Libraries:
ld='cc'
ldflags =' -mmacosx-version-min=10.12 -fstack-protector-strong -L/opt/local/lib'
libpth=/Applications/Xcode.app/Contents/Developer/Toolchains/XcodeDefault.xctoolchain/usr/lib/clang/9.0.0/lib /Applications/Xcode.app/Contents/Developer/Toolchains/XcodeDefault.xctoolchain/usr/lib /usr/lib /opt/local/lib
libs=-lpthread -lgdbm -ldbm -ldl -lm -lutil -lc
perllibs=-lpthread -ldl -lm -lutil -lc
libc=
so=dylib
useshrplib=false
libperl=libperl.a
gnulibc_version=''
Dynamic Linking:
dlsrc=dl_dlopen.xs
dlext=bundle
d_dlsymun=undef
ccdlflags=' '
cccdlflags=' '
lddlflags=' -mmacosx-version-min=10.12 -bundle -undefined dynamic_lookup -L/opt/local/lib -fstack-protector-strong'
Characteristics of this binary (from libperl):
Compile-time options:
HAS_TIMES
PERLIO_LAYERS
PERL_COPY_ON_WRITE
PERL_DONT_CREATE_GVSV
PERL_MALLOC_WRAP
PERL_OP_PARENT
PERL_PRESERVE_IVUV
PERL_USE_SAFE_PUTENV
USE_64_BIT_ALL
USE_64_BIT_INT
USE_LARGE_FILES
USE_LOCALE
USE_LOCALE_COLLATE
USE_LOCALE_CTYPE
USE_LOCALE_NUMERIC
USE_LOCALE_TIME
USE_PERLIO
USE_PERL_ATOF
Locally applied patches:
Devel::PatchPerl 1.48
Built under darwin
Compiled at Apr 14 2018 14:47:48
%ENV:
PERL5LIB="/Volumes/amaretto/Users/ether/.perlbrew/libs/26.2@std/lib/perl5"
PERLBREW_HOME="/Volumes/amaretto/Users/ether/.perlbrew"
PERLBREW_LIB="std"
PERLBREW_MANPATH="/Volumes/amaretto/Users/ether/.perlbrew/libs/26.2@std/man:/Volumes/amaretto/Users/ether/perl5/perlbrew/perls/26.2/man"
PERLBREW_PATH="/Volumes/amaretto/Users/ether/.perlbrew/libs/26.2@std/bin:/Volumes/amaretto/Users/ether/perl5/perlbrew/bin:/Volumes/amaretto/Users/ether/perl5/perlbrew/perls/26.2/bin"
PERLBREW_PERL="26.2"
PERLBREW_ROOT="/Volumes/amaretto/Users/ether/perl5/perlbrew"
PERLBREW_SHELLRC_VERSION="0.82"
PERLBREW_VERSION="0.82"
PERLDOC="-oman"
PERLDOC_PAGER="less -sicMr"
PERL_AUTOINSTALL_PREFER_CPAN="1"
PERL_INSTALL_QUIET="1"
PERL_LOCAL_LIB_ROOT="/Volumes/amaretto/Users/ether/.perlbrew/libs/26.2@std"
PERL_MB_OPT="--install_base /Volumes/amaretto/Users/ether/.perlbrew/libs/26.2@std"
PERL_MM_OPT="INSTALL_BASE=/Volumes/amaretto/Users/ether/.perlbrew/libs/26.2@std"
PERL_USE_UNSAFE_INC="0"
@INC:
/Volumes/amaretto/Users/ether/.perlbrew/libs/26.2@std/lib/perl5/darwin-2level
/Volumes/amaretto/Users/ether/.perlbrew/libs/26.2@std/lib/perl5
/Volumes/amaretto/Users/ether/perl5/perlbrew/perls/26.2/lib/site_perl/5.26.2/darwin-2level
/Volumes/amaretto/Users/ether/perl5/perlbrew/perls/26.2/lib/site_perl/5.26.2
/Volumes/amaretto/Users/ether/perl5/perlbrew/perls/26.2/lib/5.26.2/darwin-2level
/Volumes/amaretto/Users/ether/perl5/perlbrew/perls/26.2/lib/5.26.2