lib-filter v0.281 Perl 5 v5.35.12 darwin-2level

Status
Pass
From
David Cantrell (DCANTRELL)
Dist
lib-filter v0.281
Platform
Perl 5 v5.35.12 darwin-2level
Date
2022-05-24 12:23:09
ID
45d4cf22-db5c-11ec-9892-c6b98602a329
This distribution has been tested as part of the CPAN Testers
project, supporting the Perl programming language.  See
http://wiki.cpantesters.org/ for more information or email
questions to cpan-testers-discuss@perl.org


--
Dear perlancar,

This is a computer-generated report for lib-filter-0.281
on perl 5.35.12, created by CPAN-Reporter-1.2018.

Thank you for uploading your work to CPAN.  Congratulations!
All tests were successful.

Sections of this report:

    * Tester comments
    * Program output
    * Prerequisites
    * Environment and other context

------------------------------
TESTER COMMENTS
------------------------------

Additional comments from tester:

this report is from an automated smoke testing program
and was not reviewed by a human for accuracy

------------------------------
PROGRAM OUTPUT
------------------------------

Output from '/usr/bin/make test':

PERL_DL_NONLAZY=1 "/Users/cpantesting/cpantesting/perl-blead/bin/perl5.35.12" "-MExtUtils::Command::MM" "-MTest::Harness" "-e" "undef *Test::Harness::Switches; test_harness(0, 'blib/lib', 'blib/arch')" t/*.t
t/00-compile.t ........... ok
Can't locate Bar.pm in @INC (you may need to install the Bar module) (@INC contains: lib::filter=CODE(0x7f96d4830a98)) at -e line 1.
BEGIN failed--compilation aborted at -e line 1.
t/allow.t ................ ok
t/author-critic.t ........ skipped: these tests are for testing by the author
t/author-pod-coverage.t .. skipped: these tests are for testing by the author
t/author-pod-syntax.t .... skipped: these tests are for testing by the author
Can't locate Foo.pm (module 'Foo' is disallowed (disallow)) at /Users/cpantesting/cpantesting/perl-blead/.cpan/build/lib-filter-0.281-0/t/../lib/lib/filter.pm line 148.
BEGIN failed--compilation aborted at -e line 1.
t/disallow.t ............. ok
Can't locate Foo.pm (module 'Foo' is disallowed (filter)) at /Users/cpantesting/cpantesting/perl-blead/.cpan/build/lib-filter-0.281-0/t/../lib/lib/filter.pm line 141.
BEGIN failed--compilation aborted at -e line 1.
Can't locate Foo.pm (module 'Foo' is disallowed (disallow)) at /Users/cpantesting/cpantesting/perl-blead/.cpan/build/lib-filter-0.281-0/t/../lib/lib/filter.pm line 148.
BEGIN failed--compilation aborted at -e line 1.
Can't locate Bar.pm (module 'Bar' is disallowed (disallow)) at /Users/cpantesting/cpantesting/perl-blead/.cpan/build/lib-filter-0.281-0/t/../lib/lib/filter.pm line 148.
BEGIN failed--compilation aborted at -e line 1.
Can't locate Bar.pm (module 'Bar' is disallowed (disallow_re)) at /Users/cpantesting/cpantesting/perl-blead/.cpan/build/lib-filter-0.281-0/t/../lib/lib/filter.pm line 145.
BEGIN failed--compilation aborted at -e line 1.
Can't locate Baz.pm (module 'Baz' is disallowed (disallow_re)) at /Users/cpantesting/cpantesting/perl-blead/.cpan/build/lib-filter-0.281-0/t/../lib/lib/filter.pm line 145.
BEGIN failed--compilation aborted at -e line 1.
Can't locate Foo.pm (module 'Foo' is disallowed (disallow_list)) at /Users/cpantesting/cpantesting/perl-blead/.cpan/build/lib-filter-0.281-0/t/../lib/lib/filter.pm line 148.
BEGIN failed--compilation aborted at -e line 1.
Can't locate Baz.pm (module 'Baz' is disallowed (disallow_list)) at /Users/cpantesting/cpantesting/perl-blead/.cpan/build/lib-filter-0.281-0/t/../lib/lib/filter.pm line 148.
BEGIN failed--compilation aborted at -e line 1.
Can't locate Bar.pm in @INC (you may need to install the Bar module) (@INC contains: lib::filter=CODE(0x7fa10b010418)) at -e line 1.
BEGIN failed--compilation aborted at -e line 1.
Can't locate Baz.pm in @INC (you may need to install the Baz module) (@INC contains: lib::filter=CODE(0x7fbec6040218)) at -e line 1.
BEGIN failed--compilation aborted at -e line 1.
Can't locate Foo.pm in @INC (you may need to install the Foo module) (@INC contains: lib::filter=CODE(0x7ff28c82a418)) at -e line 1.
BEGIN failed--compilation aborted at -e line 1.
Can't locate Baz.pm in @INC (you may need to install the Baz module) (@INC contains: lib::filter=CODE(0x7f94f3823218)) at -e line 1.
BEGIN failed--compilation aborted at -e line 1.
Can't locate Moo/_Utils.pm in @INC (you may need to install the Moo::_Utils module) (@INC contains: lib::filter=CODE(0x7fd923820f60) /Users/cpantesting/cpantesting/perl-blead/lib/5.35.12/darwin-2level /Users/cpantesting/cpantesting/perl-blead/lib/5.35.12) at /Users/cpantesting/cpantesting/perl-blead/lib/site_perl/5.35.12/Moo.pm line 6.
BEGIN failed--compilation aborted at /Users/cpantesting/cpantesting/perl-blead/lib/site_perl/5.35.12/Moo.pm line 17.
Compilation failed in require at -e line 1.
BEGIN failed--compilation aborted at -e line 1.
Can't locate Foo.pm in @INC (you may need to install the Foo module) (@INC contains: lib::filter=CODE(0x7fba92040618) /Users/cpantesting/cpantesting/perl-blead/lib/5.35.12/darwin-2level /Users/cpantesting/cpantesting/perl-blead/lib/5.35.12) at -e line 1.
BEGIN failed--compilation aborted at -e line 1.
Can't locate Foo.pm (module 'Foo' is disallowed (disallow)) at /Users/cpantesting/cpantesting/perl-blead/.cpan/build/lib-filter-0.281-0/t/../lib/lib/filter.pm line 148.
BEGIN failed--compilation aborted at -e line 1.
t/filter.t ............... ok
All tests successful.
Files=7, Tests=18,  2 wallclock secs ( 0.07 usr  0.03 sys +  1.36 cusr  0.43 csys =  1.89 CPU)
Result: PASS

------------------------------
PREREQUISITES
------------------------------

Prerequisite modules loaded:

requires:

    Module              Need   Have      
    ------------------- ------ ----------
    Config              0      5.035012  
    Module::CoreList    0      5.20220520
    strict              0      1.12      
    warnings            0      1.58      

build_requires:

    Module              Need   Have      
    ------------------- ------ ----------
    ExtUtils::MakeMaker 0      7.64      
    File::Spec          0      3.84      
    File::Temp          0.2307 0.2311    
    FindBin             0      1.53      
    IO::Handle          0      1.48      
    IPC::Open3          0      1.22      
    lib                 0      0.65      
    Module::Path::More  0.32   0.340     
    Test::More          0.98   1.302190  
    Test::Needs         0      0.002009  

configure_requires:

    Module              Need   Have      
    ------------------- ------ ----------
    ExtUtils::MakeMaker 0      7.64      


------------------------------
ENVIRONMENT AND OTHER CONTEXT
------------------------------

Environment variables:

    AUTOMATED_TESTING = 1
    NONINTERACTIVE_TESTING = 1
    PATH = /Users/cpantesting/perl5/perlbrew/bin:/Users/cpantesting/perl5/perlbrew/perls/perl-5.32.0/bin:/usr/local/bin:/usr/bin:/bin:/usr/sbin:/sbin:/Library/Apple/usr/bin
    PERL = blead
    PERL5LIB = 
    PERL5OPT = 
    PERL5_CPANPLUS_IS_RUNNING = 96686
    PERL5_CPAN_IS_RUNNING = 96686
    PERLBREW_HOME = /Users/cpantesting/.perlbrew
    PERLBREW_MANPATH = /Users/cpantesting/perl5/perlbrew/perls/perl-5.32.0/man
    PERLBREW_PATH = /Users/cpantesting/perl5/perlbrew/bin:/Users/cpantesting/perl5/perlbrew/perls/perl-5.32.0/bin
    PERLBREW_PERL = perl-5.32.0
    PERLBREW_ROOT = /Users/cpantesting/perl5/perlbrew
    PERLBREW_SHELLRC_VERSION = 0.94
    PERLBREW_VERSION = 0.94
    PERLVER = blead
    PERL_INLINE_DIRECTORY = /Users/cpantesting/.Inline-blead
    PERL_MM_USE_DEFAULT = 1
    PERL_USE_UNSAFE_INC = 0
    SHELL = /bin/bash
    TERM = screen

Perl special variables (and OS-specific diagnostics, for MSWin32):

    $^X = /Users/cpantesting/cpantesting/perl-blead/bin/perl5.35.12
    $UID/$EUID = 503 / 503
    $GID = 20 20 12 61 703 702 701 100
    $EGID = 20 20 12 61 703 702 701 100

Perl module toolchain versions installed:

    Module              Have    
    ------------------- --------
    CPAN                2.34    
    CPAN::Meta          2.150010
    Cwd                 3.84    
    ExtUtils::CBuilder  0.280236
    ExtUtils::Command   7.64    
    ExtUtils::Install   2.20    
    ExtUtils::MakeMaker 7.64    
    ExtUtils::Manifest  1.73    
    ExtUtils::ParseXS   3.45    
    File::Spec          3.84    
    JSON                4.06    
    JSON::PP            4.08    
    Module::Build       0.4231  
    Module::Signature   n/a     
    Parse::CPAN::Meta   2.150010
    Test::Harness       3.44    
    Test::More          1.302190
    YAML                1.30    
    YAML::Syck          n/a     
    version             0.9929  


--

Summary of my perl5 (revision 5 version 35 subversion 12) configuration:
  Commit id: 1960dc32f246285ac9ce07ece6af9c0bc0a720fd
  Platform:
    osname=darwin
    osvers=20.6.0
    archname=darwin-2level
    uname='darwin harrow.local 20.6.0 darwin kernel version 20.6.0: tue feb 22 21:10:41 pst 2022; root:xnu-7195.141.26~1release_x86_64 x86_64 '
    config_args='-de -Dprefix=/Users/cpantesting/cpantesting/perl-blead -Dusedevel'
    hint=recommended
    useposix=true
    d_sigaction=define
    useithreads=undef
    usemultiplicity=undef
    use64bitint=define
    use64bitall=define
    uselongdouble=undef
    usemymalloc=n
    default_inc_excludes_dot=define
  Compiler:
    cc='cc'
    ccflags ='-fno-common -DPERL_DARWIN -mmacosx-version-min=11.6 -fno-strict-aliasing -pipe -fstack-protector-strong -I/usr/local/include -DPERL_USE_SAFE_PUTENV'
    optimize='-O3'
    cppflags='-fno-common -DPERL_DARWIN -mmacosx-version-min=11.6 -fno-strict-aliasing -pipe -fstack-protector-strong -I/usr/local/include'
    ccversion=''
    gccversion='Apple LLVM 13.0.0 (clang-1300.0.29.30)'
    gccosandvers=''
    intsize=4
    longsize=8
    ptrsize=8
    doublesize=8
    byteorder=12345678
    doublekind=3
    d_longlong=define
    longlongsize=8
    d_longdbl=define
    longdblsize=16
    longdblkind=3
    ivtype='long'
    ivsize=8
    nvtype='double'
    nvsize=8
    Off_t='off_t'
    lseeksize=8
    alignbytes=8
    prototype=define
  Linker and Libraries:
    ld='cc'
    ldflags =' -mmacosx-version-min=11.6 -fstack-protector-strong -L/usr/local/lib'
    libpth=/usr/local/lib /Applications/Xcode.app/Contents/Developer/Toolchains/XcodeDefault.xctoolchain/usr/lib/clang/13.0.0/lib /Applications/Xcode.app/Contents/Developer/Platforms/MacOSX.platform/Developer/SDKs/MacOSX.sdk/usr/lib /Applications/Xcode.app/Contents/Developer/Toolchains/XcodeDefault.xctoolchain/usr/lib /usr/lib
    libs=-lgdbm
    perllibs=
    libc=
    so=dylib
    useshrplib=false
    libperl=libperl.a
    gnulibc_version=''
  Dynamic Linking:
    dlsrc=dl_dlopen.xs
    dlext=bundle
    d_dlsymun=undef
    ccdlflags=' '
    cccdlflags=' '
    lddlflags=' -mmacosx-version-min=11.6 -bundle -undefined dynamic_lookup -L/usr/local/lib -fstack-protector-strong'


Characteristics of this binary (from libperl): 
  Compile-time options:
    HAS_TIMES
    PERLIO_LAYERS
    PERL_COPY_ON_WRITE
    PERL_DONT_CREATE_GVSV
    PERL_MALLOC_WRAP
    PERL_OP_PARENT
    PERL_PRESERVE_IVUV
    PERL_USE_DEVEL
    PERL_USE_SAFE_PUTENV
    USE_64_BIT_ALL
    USE_64_BIT_INT
    USE_LARGE_FILES
    USE_LOCALE
    USE_LOCALE_COLLATE
    USE_LOCALE_CTYPE
    USE_LOCALE_NUMERIC
    USE_LOCALE_TIME
    USE_PERLIO
    USE_PERL_ATOF
  Built under darwin
  Compiled at May 22 2022 15:29:15
  %ENV:
    PERL="blead"
    PERL5LIB=""
    PERL5OPT=""
    PERL5_CPANPLUS_IS_RUNNING="96686"
    PERL5_CPAN_IS_RUNNING="96686"
    PERLBREW_HOME="/Users/cpantesting/.perlbrew"
    PERLBREW_MANPATH="/Users/cpantesting/perl5/perlbrew/perls/perl-5.32.0/man"
    PERLBREW_PATH="/Users/cpantesting/perl5/perlbrew/bin:/Users/cpantesting/perl5/perlbrew/perls/perl-5.32.0/bin"
    PERLBREW_PERL="perl-5.32.0"
    PERLBREW_ROOT="/Users/cpantesting/perl5/perlbrew"
    PERLBREW_SHELLRC_VERSION="0.94"
    PERLBREW_VERSION="0.94"
    PERLVER="blead"
    PERL_INLINE_DIRECTORY="/Users/cpantesting/.Inline-blead"
    PERL_MM_USE_DEFAULT="1"
    PERL_USE_UNSAFE_INC="0"
  @INC:
    /Users/cpantesting/cpantesting/perl-blead/lib/site_perl/5.35.12/darwin-2level
    /Users/cpantesting/cpantesting/perl-blead/lib/site_perl/5.35.12
    /Users/cpantesting/cpantesting/perl-blead/lib/5.35.12/darwin-2level
    /Users/cpantesting/cpantesting/perl-blead/lib/5.35.12