HTTP-Request-Generator v0.06 Perl 5 v5.26.2 x86_64-linux-ld
        
            - Status
- Pass
- From
- Andreas J. König (ANDK)
- Dist
- 
                HTTP-Request-Generator v0.06
            
- Platform
- Perl 5 v5.26.2 x86_64-linux-ld
- Date
- 2018-12-22 12:22:39
- ID
- 46060e3a-05e4-11e9-8df6-2c8a15a7449f
This distribution has been tested as part of the CPAN Testers
project, supporting the Perl programming language.  See
http://wiki.cpantesters.org/ for more information or email
questions to cpan-testers-discuss@perl.org
--
Dear Max Maischein,
This is a computer-generated report for HTTP-Request-Generator-0.06
on perl 5.26.2, created by CPAN-Reporter-1.2018.
Thank you for uploading your work to CPAN.  Congratulations!
All tests were successful.
Sections of this report:
    * Tester comments
    * Program output
    * Prerequisites
    * Environment and other context
------------------------------
TESTER COMMENTS
------------------------------
Additional comments from tester:
this report is from an automated smoke testing program
and was not reviewed by a human for accuracy
------------------------------
PROGRAM OUTPUT
------------------------------
Output from '/usr/bin/make test':
PERL_DL_NONLAZY=1 "/home/sand/src/perl/repoperls/installed-perls/host/k93msid/v5.26.2/fc43/bin/perl" "-MExtUtils::Command::MM" "-MTest::Harness" "-e" "undef *Test::Harness::Switches; test_harness(0, 'blib/lib', 'blib/arch')" t/00-load.t t/02-http-generator.t t/03-wrap-http-request.t t/03-wrap-plack.t t/03-wrap.t t/04-url-expansion.t
# Testing HTTP::Request::Generator 0.06, Perl 5.026002
# Algorithm::Loops 1.032
# Carp 1.42
# Config 5.026002
# Cwd 3.75
# DynaLoader 1.42
# Encode 2.88
# Encode::Alias 2.21
# Encode::Config 2.05
# Encode::Encoding 2.07
# Exporter 5.72
# Exporter::Heavy 5.72
# Exporter::Tiny 1.002001
# ExtUtils::Liblist 7.3507
# ExtUtils::Liblist::Kid 7.3507
# ExtUtils::MM 7.3507
# ExtUtils::MM_Any 7.3507
# ExtUtils::MM_Unix 7.3507
# ExtUtils::MY 7.3507
# ExtUtils::MakeMaker 7.3507
# ExtUtils::MakeMaker::Config 7.3507
# ExtUtils::MakeMaker::Locale 7.3507
# ExtUtils::MakeMaker::version 7.3507
# Fcntl 1.13
# File::Basename 2.85
# File::Glob 1.28
# File::Path 2.1201
# File::Spec 3.75
# File::Spec::Unix 3.75
# Filter::Simple 0.93
# Filter::Util::Call 1.55
# Filter::signatures 0.15
# HTTP::Request::Generator 0.06
# I18N::Langinfo 0.13
# IO 1.38
# IO::Handle 1.36
# List::MoreUtils 0.428
# List::MoreUtils::PP 0.428
# List::MoreUtils::XS 0.428
# List::Util 1.5
# POSIX 1.76
# PerlIO 1.10
# Scalar::Util 1.5
# SelectSaver 1.02
# SelfLoader 1.23
# Symbol 1.08
# Test::Builder 1.302148
# Test::Builder::Formatter 1.302148
# Test::Builder::Module 1.302148
# Test::Builder::TodoDiag 1.302148
# Test::More 1.302148
# Test2::API 1.302148
# Test2::API::Context 1.302148
# Test2::API::Instance 1.302148
# Test2::API::Stack 1.302148
# Test2::Event 1.302148
# Test2::Event::Bail 1.302148
# Test2::Event::Diag 1.302148
# Test2::Event::Exception 1.302148
# Test2::Event::Fail 1.302148
# Test2::Event::Note 1.302148
# Test2::Event::Ok 1.302148
# Test2::Event::Pass 1.302148
# Test2::Event::Plan 1.302148
# Test2::Event::Skip 1.302148
# Test2::Event::Subtest 1.302148
# Test2::Event::V2 1.302148
# Test2::Event::Waiting 1.302148
# Test2::EventFacet 1.302148
# Test2::EventFacet::About 1.302148
# Test2::EventFacet::Amnesty 1.302148
# Test2::EventFacet::Assert 1.302148
# Test2::EventFacet::Control 1.302148
# Test2::EventFacet::Error 1.302148
# Test2::EventFacet::Hub 1.302148
# Test2::EventFacet::Info 1.302148
# Test2::EventFacet::Meta 1.302148
# Test2::EventFacet::Parent 1.302148
# Test2::EventFacet::Plan 1.302148
# Test2::EventFacet::Trace 1.302148
# Test2::Formatter 1.302148
# Test2::Formatter::TAP 1.302148
# Test2::Hub 1.302148
# Test2::Hub::Interceptor 1.302148
# Test2::Hub::Interceptor::Terminator 1.302148
# Test2::Hub::Subtest 1.302148
# Test2::Util 1.302148
# Test2::Util::ExternalMeta 1.302148
# Test2::Util::Facets2Legacy 1.302148
# Test2::Util::HashBase 1.302148
# Test2::Util::Trace 1.302148
# Text::Balanced 2.03
# Tie::Hash 1.05
# URI 1.74
# URI::Escape 3.31
# XSLoader 0.27
# base 2.26
# bytes 1.05
# constant 1.33
# feature 1.47
# mro 1.20
# overload 1.28
# overloading 0.02
# re 0.34
# strict 1.11
# vars 1.03
# version 0.9917
# version::regex 0.9917
# warnings 1.37
# warnings::register 1.04
t/00-load.t ............... ok
t/02-http-generator.t ..... ok
t/03-wrap-http-request.t .. ok
t/03-wrap-plack.t ......... ok
t/03-wrap.t ............... skipped: Couldn't load test prerequiste modules: Can't locate Dancer/Request.pm in @INC (you may need to install the Dancer::Request module) (@INC contains: /tmp/loop_over_bdir-12427-pyIvfJ/HTTP-Request-Generator-0.06-0/blib/lib /tmp/loop_over_bdir-12427-pyIvfJ/HTTP-Request-Generator-0.06-0/blib/arch /home/sand/src/perl/repoperls/installed-perls/host/k93msid/v5.26.2/fc43/lib/site_perl/5.26.2/x86_64-linux-ld /home/sand/src/perl/repoperls/installed-perls/host/k93msid/v5.26.2/fc43/lib/site_perl/5.26.2 /home/sand/src/perl/repoperls/installed-perls/host/k93msid/v5.26.2/fc43/lib/5.26.2/x86_64-linux-ld /home/sand/src/perl/repoperls/installed-perls/host/k93msid/v5.26.2/fc43/lib/5.26.2 .) at t/03-wrap.t line 11.
t/04-url-expansion.t ...... ok
All tests successful.
Files=6, Tests=54,  2 wallclock secs ( 0.04 usr  0.04 sys +  0.71 cusr  0.15 csys =  0.94 CPU)
Result: PASS
------------------------------
PREREQUISITES
------------------------------
Prerequisite modules loaded:
requires:
    Module              Need  Have    
    ------------------- ----- --------
    Algorithm::Loops    0     1.032   
    Carp                0     1.42    
    Exporter            5     5.72    
    Filter::signatures  0     0.15    
    List::MoreUtils     0     0.428   
    perl                5.006 5.026002
    URI                 0     1.74    
    URI::Escape         0     3.31    
build_requires:
    Module              Need  Have    
    ------------------- ----- --------
    Data::Dumper        0     2.172   
    ExtUtils::MakeMaker 0     7.35_07 
    Test::More          0     1.302148
configure_requires:
    Module              Need  Have    
    ------------------- ----- --------
    ExtUtils::MakeMaker 0     7.35_07 
------------------------------
ENVIRONMENT AND OTHER CONTEXT
------------------------------
Environment variables:
    AUTOMATED_TESTING = 1
    LANG = en_US.UTF-8
    PATH = /home/sand/bin:/usr/local/bin:/usr/bin:/bin:/usr/games:/usr/local/perl/bin:/usr/X11/bin:/sbin:/usr/sbin
    PERL5LIB = 
    PERL5OPT = 
    PERL5_CPANPLUS_IS_RUNNING = 12428
    PERL5_CPAN_IS_RUNNING = 12428
    PERL5_CPAN_IS_RUNNING_IN_RECURSION = 5756,12428
    PERL_CANARY_STABILITY_NOPROMPT = 1
    PERL_MM_USE_DEFAULT = 1
    PERL_USE_UNSAFE_INC = 1
    SHELL = /usr/bin/zsh
    TERM = screen
Perl special variables (and OS-specific diagnostics, for MSWin32):
    $^X = /home/sand/src/perl/repoperls/installed-perls/host/k93msid/v5.26.2/fc43/bin/perl
    $UID/$EUID = 1005 / 1005
    $GID = 1005 1005
    $EGID = 1005 1005
Perl module toolchain versions installed:
    Module              Have    
    ------------------- --------
    CPAN                2.21    
    CPAN::Meta          2.150010
    Cwd                 3.75    
    ExtUtils::CBuilder  0.280230
    ExtUtils::Command   7.35_07 
    ExtUtils::Install   2.06    
    ExtUtils::MakeMaker 7.35_07 
    ExtUtils::Manifest  1.70    
    ExtUtils::ParseXS   3.34    
    File::Spec          3.75    
    JSON                4.00    
    JSON::PP            4.00    
    Module::Build       0.4224  
    Module::Signature   0.83    
    Parse::CPAN::Meta   2.150010
    Test::Harness       3.42    
    Test::More          1.302148
    YAML                1.26    
    YAML::Syck          1.31    
    version             0.9917  
--
Summary of my perl5 (revision 5 version 26 subversion 2) configuration:
  Commit id: c5b1997939178730653db9e80f90cd53d722fe8d
  Platform:
    osname=linux
    osvers=4.18.0-2-amd64
    archname=x86_64-linux-ld
    uname='linux k93msid 4.18.0-2-amd64 #1 smp debian 4.18.10-2 (2018-10-07) x86_64 gnulinux '
    config_args='-Dprefix=/home/sand/src/perl/repoperls/installed-perls/host/k93msid/v5.26.2/fc43 -Dmyhostname=k93msid -Dinstallusrbinperl=n -Uversiononly -Dusedevel -des -Ui_db -Dlibswanted=cl pthread socket inet nsl gdbm dbm malloc dl ld sun m crypt sec util c cposix posix ucb BSD gdbm_compat -Uuseithreads -Duselongdouble -DEBUGGING=both'
    hint=recommended
    useposix=true
    d_sigaction=define
    useithreads=undef
    usemultiplicity=undef
    use64bitint=define
    use64bitall=define
    uselongdouble=define
    usemymalloc=n
    default_inc_excludes_dot=define
    bincompat5005=undef
  Compiler:
    cc='cc'
    ccflags ='-fwrapv -DDEBUGGING -fno-strict-aliasing -pipe -fstack-protector-strong -I/usr/local/include -D_LARGEFILE_SOURCE -D_FILE_OFFSET_BITS=64'
    optimize='-O2 -g'
    cppflags='-fwrapv -DDEBUGGING -fno-strict-aliasing -pipe -fstack-protector-strong -I/usr/local/include'
    ccversion=''
    gccversion='8.2.0'
    gccosandvers=''
    intsize=4
    longsize=8
    ptrsize=8
    doublesize=8
    byteorder=12345678
    doublekind=3
    d_longlong=define
    longlongsize=8
    d_longdbl=define
    longdblsize=16
    longdblkind=3
    ivtype='long'
    ivsize=8
    nvtype='long double'
    nvsize=16
    Off_t='off_t'
    lseeksize=8
    alignbytes=16
    prototype=define
  Linker and Libraries:
    ld='cc'
    ldflags =' -fstack-protector-strong -L/usr/local/lib'
    libpth=/usr/local/lib /usr/lib/gcc/x86_64-linux-gnu/8/include-fixed /usr/include/x86_64-linux-gnu /usr/lib /lib/x86_64-linux-gnu /lib/../lib /usr/lib/x86_64-linux-gnu /usr/lib/../lib /lib
    libs=-lpthread -lnsl -ldl -lm -lcrypt -lutil -lc
    perllibs=-lpthread -lnsl -ldl -lm -lcrypt -lutil -lc
    libc=libc-2.27.so
    so=so
    useshrplib=false
    libperl=libperl.a
    gnulibc_version='2.27'
  Dynamic Linking:
    dlsrc=dl_dlopen.xs
    dlext=so
    d_dlsymun=undef
    ccdlflags='-Wl,-E'
    cccdlflags='-fPIC'
    lddlflags='-shared -O2 -g -L/usr/local/lib -fstack-protector-strong'
Characteristics of this binary (from libperl): 
  Compile-time options:
    DEBUGGING
    HAS_TIMES
    PERLIO_LAYERS
    PERL_COPY_ON_WRITE
    PERL_DONT_CREATE_GVSV
    PERL_MALLOC_WRAP
    PERL_OP_PARENT
    PERL_PRESERVE_IVUV
    PERL_USE_DEVEL
    USE_64_BIT_ALL
    USE_64_BIT_INT
    USE_LARGE_FILES
    USE_LOCALE
    USE_LOCALE_COLLATE
    USE_LOCALE_CTYPE
    USE_LOCALE_NUMERIC
    USE_LOCALE_TIME
    USE_LONG_DOUBLE
    USE_PERLIO
    USE_PERL_ATOF
  Built under linux
  Compiled at Oct 28 2018 18:39:38
  %ENV:
    PERL5LIB=""
    PERL5OPT=""
    PERL5_CPANPLUS_IS_RUNNING="12428"
    PERL5_CPAN_IS_RUNNING="12428"
    PERL5_CPAN_IS_RUNNING_IN_RECURSION="5756,12428"
    PERL_CANARY_STABILITY_NOPROMPT="1"
    PERL_MM_USE_DEFAULT="1"
    PERL_USE_UNSAFE_INC="1"
  @INC:
    /home/sand/src/perl/repoperls/installed-perls/host/k93msid/v5.26.2/fc43/lib/site_perl/5.26.2/x86_64-linux-ld
    /home/sand/src/perl/repoperls/installed-perls/host/k93msid/v5.26.2/fc43/lib/site_perl/5.26.2
    /home/sand/src/perl/repoperls/installed-perls/host/k93msid/v5.26.2/fc43/lib/5.26.2/x86_64-linux-ld
    /home/sand/src/perl/repoperls/installed-perls/host/k93msid/v5.26.2/fc43/lib/5.26.2
    .