Bio-ViennaNGS vv0.18 Perl 5 v5.28.0 darwin-thread-multi-2level
- Status
- Pass
- From
- NONAME
- Dist
-
Bio-ViennaNGS vv0.18
- Platform
- Perl 5 v5.28.0 darwin-thread-multi-2level
- Date
- 2018-06-30 21:12:19
- ID
- 460a365e-7caa-11e8-8f13-6413f5afa38c
This distribution has been tested as part of the CPAN Testers
project, supporting the Perl programming language. See
http://wiki.cpantesters.org/ for more information or email
questions to cpan-testers-discuss@perl.org
--
Dear MTW,
This is a computer-generated report for Bio-ViennaNGS-v0.18
on perl 5.28.0, created by App::cpanminus::reporter 0.17 (1.7025).
Thank you for uploading your work to CPAN. Congratulations!
All tests were successful.
Sections of this report:
* Tester comments
* Program output
* Prerequisites
* Environment and other context
------------------------------
TESTER COMMENTS
------------------------------
Additional comments from tester:
none provided
------------------------------
PROGRAM OUTPUT
------------------------------
Output from '':
Building and testing Bio-ViennaNGS-v0.18.0
cp share/data1/NC_000913.3.30k.gff blib/lib/auto/share/dist/Bio-ViennaNGS/data1/NC_000913.3.30k.gff
cp share/template-AssemblyHub/groups.txt blib/lib/auto/share/dist/Bio-ViennaNGS/template-AssemblyHub/groups.txt
cp share/template-TrackHub/trackDb.txt blib/lib/auto/share/dist/Bio-ViennaNGS/template-TrackHub/trackDb.txt
cp share/data1/SRR794848.8k.bam blib/lib/auto/share/dist/Bio-ViennaNGS/data1/SRR794848.8k.bam
cp share/template-TrackHub/description.html blib/lib/auto/share/dist/Bio-ViennaNGS/template-TrackHub/description.html
cp share/template-AssemblyHub/hub.txt blib/lib/auto/share/dist/Bio-ViennaNGS/template-AssemblyHub/hub.txt
cp share/template-AssemblyHub/trackDb.txt blib/lib/auto/share/dist/Bio-ViennaNGS/template-AssemblyHub/trackDb.txt
cp share/template-TrackHub/hub.txt blib/lib/auto/share/dist/Bio-ViennaNGS/template-TrackHub/hub.txt
cp share/data2/MIOS.bed12 blib/lib/auto/share/dist/Bio-ViennaNGS/data2/MIOS.bed12
cp share/data3/all_DENVG_5UTR.fa blib/lib/auto/share/dist/Bio-ViennaNGS/data3/all_DENVG_5UTR.fa
cp share/template-AssemblyHub/description.html blib/lib/auto/share/dist/Bio-ViennaNGS/template-AssemblyHub/description.html
cp share/template-TrackHub/genome.txt blib/lib/auto/share/dist/Bio-ViennaNGS/template-TrackHub/genome.txt
cp share/data1/NC_000913.CDS.bed6 blib/lib/auto/share/dist/Bio-ViennaNGS/data1/NC_000913.CDS.bed6
cp share/data1/NC_000913.CDS.bed blib/lib/auto/share/dist/Bio-ViennaNGS/data1/NC_000913.CDS.bed
cp share/template-AssemblyHub/genome.txt blib/lib/auto/share/dist/Bio-ViennaNGS/template-AssemblyHub/genome.txt
cp share/data1/NC_000913.3.30k.fa blib/lib/auto/share/dist/Bio-ViennaNGS/data1/NC_000913.3.30k.fa
cp share/data2/MIOS_sj.bed blib/lib/auto/share/dist/Bio-ViennaNGS/data2/MIOS_sj.bed
cp share/data1/NC_000913.3.chrom.sizes blib/lib/auto/share/dist/Bio-ViennaNGS/data1/NC_000913.3.chrom.sizes
cp lib/Bio/ViennaNGS/FeatureChain.pm blib/lib/Bio/ViennaNGS/FeatureChain.pm
cp lib/Bio/ViennaNGS.pm blib/lib/Bio/ViennaNGS.pm
cp lib/Bio/ViennaNGS/FeatureLine.pm blib/lib/Bio/ViennaNGS/FeatureLine.pm
cp lib/Bio/ViennaNGS/Peak.pm blib/lib/Bio/ViennaNGS/Peak.pm
cp lib/Bio/ViennaNGS/Bam.pm blib/lib/Bio/ViennaNGS/Bam.pm
cp lib/Bio/ViennaNGS/Feature.pm blib/lib/Bio/ViennaNGS/Feature.pm
cp lib/Bio/ViennaNGS/ExtFeature.pm blib/lib/Bio/ViennaNGS/ExtFeature.pm
cp lib/Bio/ViennaNGS/FeatureInterval.pm blib/lib/Bio/ViennaNGS/FeatureInterval.pm
cp lib/Bio/ViennaNGS/MinimalFeature.pm blib/lib/Bio/ViennaNGS/MinimalFeature.pm
cp lib/Bio/ViennaNGS/Bed.pm blib/lib/Bio/ViennaNGS/Bed.pm
cp lib/Bio/ViennaNGS/Expression.pm blib/lib/Bio/ViennaNGS/Expression.pm
cp lib/Bio/ViennaNGS/Tutorial.pm blib/lib/Bio/ViennaNGS/Tutorial.pm
cp lib/Bio/ViennaNGS/UCSC.pm blib/lib/Bio/ViennaNGS/UCSC.pm
cp lib/Bio/ViennaNGS/SpliceJunc.pm blib/lib/Bio/ViennaNGS/SpliceJunc.pm
cp lib/Bio/ViennaNGS/Util.pm blib/lib/Bio/ViennaNGS/Util.pm
cp lib/Bio/ViennaNGS/Fasta.pm blib/lib/Bio/ViennaNGS/Fasta.pm
cp lib/Bio/ViennaNGS/Subtypes.pm blib/lib/Bio/ViennaNGS/Subtypes.pm
cp lib/Bio/ViennaNGS/BedGraphEntry.pm blib/lib/Bio/ViennaNGS/BedGraphEntry.pm
cp lib/Bio/ViennaNGS/FeatureIO.pm blib/lib/Bio/ViennaNGS/FeatureIO.pm
cp lib/Bio/ViennaNGS/AnnoC.pm blib/lib/Bio/ViennaNGS/AnnoC.pm
cp scripts/Tutorial_pipeline03.pl blib/script/Tutorial_pipeline03.pl
"/usr/local/Cellar/perl/5.28.0/bin/perl" -MExtUtils::MY -e 'MY->fixin(shift)' -- blib/script/Tutorial_pipeline03.pl
cp scripts/assembly_hub_constructor.pl blib/script/assembly_hub_constructor.pl
"/usr/local/Cellar/perl/5.28.0/bin/perl" -MExtUtils::MY -e 'MY->fixin(shift)' -- blib/script/assembly_hub_constructor.pl
cp scripts/bam_split.pl blib/script/bam_split.pl
"/usr/local/Cellar/perl/5.28.0/bin/perl" -MExtUtils::MY -e 'MY->fixin(shift)' -- blib/script/bam_split.pl
cp scripts/bam_to_bigwig.pl blib/script/bam_to_bigwig.pl
"/usr/local/Cellar/perl/5.28.0/bin/perl" -MExtUtils::MY -e 'MY->fixin(shift)' -- blib/script/bam_to_bigwig.pl
cp scripts/bam_uniq.pl blib/script/bam_uniq.pl
"/usr/local/Cellar/perl/5.28.0/bin/perl" -MExtUtils::MY -e 'MY->fixin(shift)' -- blib/script/bam_uniq.pl
cp scripts/bed2bedGraph.pl blib/script/bed2bedGraph.pl
"/usr/local/Cellar/perl/5.28.0/bin/perl" -MExtUtils::MY -e 'MY->fixin(shift)' -- blib/script/bed2bedGraph.pl
cp scripts/bed2nt2aa.pl blib/script/bed2nt2aa.pl
"/usr/local/Cellar/perl/5.28.0/bin/perl" -MExtUtils::MY -e 'MY->fixin(shift)' -- blib/script/bed2nt2aa.pl
cp scripts/bed62bed12.pl blib/script/bed62bed12.pl
"/usr/local/Cellar/perl/5.28.0/bin/perl" -MExtUtils::MY -e 'MY->fixin(shift)' -- blib/script/bed62bed12.pl
cp scripts/fasta_multigrep.pl blib/script/fasta_multigrep.pl
"/usr/local/Cellar/perl/5.28.0/bin/perl" -MExtUtils::MY -e 'MY->fixin(shift)' -- blib/script/fasta_multigrep.pl
cp scripts/fasta_regex.pl blib/script/fasta_regex.pl
"/usr/local/Cellar/perl/5.28.0/bin/perl" -MExtUtils::MY -e 'MY->fixin(shift)' -- blib/script/fasta_regex.pl
cp scripts/fasta_subgrep.pl blib/script/fasta_subgrep.pl
"/usr/local/Cellar/perl/5.28.0/bin/perl" -MExtUtils::MY -e 'MY->fixin(shift)' -- blib/script/fasta_subgrep.pl
cp scripts/gff2bed.pl blib/script/gff2bed.pl
"/usr/local/Cellar/perl/5.28.0/bin/perl" -MExtUtils::MY -e 'MY->fixin(shift)' -- blib/script/gff2bed.pl
cp scripts/kmer_analysis.pl blib/script/kmer_analysis.pl
"/usr/local/Cellar/perl/5.28.0/bin/perl" -MExtUtils::MY -e 'MY->fixin(shift)' -- blib/script/kmer_analysis.pl
cp scripts/newUCSCdb.pl blib/script/newUCSCdb.pl
"/usr/local/Cellar/perl/5.28.0/bin/perl" -MExtUtils::MY -e 'MY->fixin(shift)' -- blib/script/newUCSCdb.pl
cp scripts/normalize_multicov.pl blib/script/normalize_multicov.pl
"/usr/local/Cellar/perl/5.28.0/bin/perl" -MExtUtils::MY -e 'MY->fixin(shift)' -- blib/script/normalize_multicov.pl
cp scripts/rnaseq_peakfinder.pl blib/script/rnaseq_peakfinder.pl
"/usr/local/Cellar/perl/5.28.0/bin/perl" -MExtUtils::MY -e 'MY->fixin(shift)' -- blib/script/rnaseq_peakfinder.pl
cp scripts/sj_visualizer.pl blib/script/sj_visualizer.pl
"/usr/local/Cellar/perl/5.28.0/bin/perl" -MExtUtils::MY -e 'MY->fixin(shift)' -- blib/script/sj_visualizer.pl
cp scripts/splice_site_summary.pl blib/script/splice_site_summary.pl
"/usr/local/Cellar/perl/5.28.0/bin/perl" -MExtUtils::MY -e 'MY->fixin(shift)' -- blib/script/splice_site_summary.pl
cp scripts/track_hub_constructor.pl blib/script/track_hub_constructor.pl
"/usr/local/Cellar/perl/5.28.0/bin/perl" -MExtUtils::MY -e 'MY->fixin(shift)' -- blib/script/track_hub_constructor.pl
cp scripts/trim_fastq.pl blib/script/trim_fastq.pl
"/usr/local/Cellar/perl/5.28.0/bin/perl" -MExtUtils::MY -e 'MY->fixin(shift)' -- blib/script/trim_fastq.pl
Manifying 19 pod documents
Manifying 17 pod documents
Skip blib/lib/auto/share/dist/Bio-ViennaNGS/template-AssemblyHub/trackDb.txt (unchanged)
Skip blib/lib/auto/share/dist/Bio-ViennaNGS/template-AssemblyHub/genome.txt (unchanged)
Skip blib/lib/auto/share/dist/Bio-ViennaNGS/template-TrackHub/description.html (unchanged)
Skip blib/lib/auto/share/dist/Bio-ViennaNGS/data3/all_DENVG_5UTR.fa (unchanged)
Skip blib/lib/auto/share/dist/Bio-ViennaNGS/template-TrackHub/hub.txt (unchanged)
Skip blib/lib/auto/share/dist/Bio-ViennaNGS/data2/MIOS_sj.bed (unchanged)
Skip blib/lib/auto/share/dist/Bio-ViennaNGS/template-TrackHub/genome.txt (unchanged)
Skip blib/lib/auto/share/dist/Bio-ViennaNGS/template-TrackHub/trackDb.txt (unchanged)
Skip blib/lib/auto/share/dist/Bio-ViennaNGS/data1/NC_000913.CDS.bed (unchanged)
Skip blib/lib/auto/share/dist/Bio-ViennaNGS/data2/MIOS.bed12 (unchanged)
Skip blib/lib/auto/share/dist/Bio-ViennaNGS/data1/NC_000913.3.30k.gff (unchanged)
Skip blib/lib/auto/share/dist/Bio-ViennaNGS/template-AssemblyHub/hub.txt (unchanged)
Skip blib/lib/auto/share/dist/Bio-ViennaNGS/template-AssemblyHub/groups.txt (unchanged)
Skip blib/lib/auto/share/dist/Bio-ViennaNGS/data1/NC_000913.CDS.bed6 (unchanged)
Skip blib/lib/auto/share/dist/Bio-ViennaNGS/data1/SRR794848.8k.bam (unchanged)
Skip blib/lib/auto/share/dist/Bio-ViennaNGS/data1/NC_000913.3.chrom.sizes (unchanged)
Skip blib/lib/auto/share/dist/Bio-ViennaNGS/data1/NC_000913.3.30k.fa (unchanged)
Skip blib/lib/auto/share/dist/Bio-ViennaNGS/template-AssemblyHub/description.html (unchanged)
PERL_DL_NONLAZY=1 "/usr/local/Cellar/perl/5.28.0/bin/perl" "-MExtUtils::Command::MM" "-MTest::Harness" "-e" "undef *Test::Harness::Switches; test_harness(0, 'blib/lib', 'blib/arch')" t/*.t
t/00-prereq.t ............ ok
Possible precedence issue with control flow operator at /Users/mtw/perl5/lib/perl5/Bio/DB/IndexedBase.pm line 845.
# Test Bio::ViennaNGS v0.18, Perl 5.028000, /usr/local/Cellar/perl/5.28.0/bin/perl
# Test Bio::ViennaNGS::AnnoC v0.18, Perl 5.028000, /usr/local/Cellar/perl/5.28.0/bin/perl
# Test Bio::ViennaNGS::Bam v0.18, Perl 5.028000, /usr/local/Cellar/perl/5.28.0/bin/perl
# Test Bio::ViennaNGS::Bed v0.18, Perl 5.028000, /usr/local/Cellar/perl/5.28.0/bin/perl
# Test Bio::ViennaNGS::BedGraphEntry v0.18, Perl 5.028000, /usr/local/Cellar/perl/5.28.0/bin/perl
# Test Bio::ViennaNGS::Expression v0.18, Perl 5.028000, /usr/local/Cellar/perl/5.28.0/bin/perl
# Test Bio::ViennaNGS::ExtFeature v0.18, Perl 5.028000, /usr/local/Cellar/perl/5.28.0/bin/perl
# Test Bio::ViennaNGS::Fasta v0.18, Perl 5.028000, /usr/local/Cellar/perl/5.28.0/bin/perl
# Test Bio::ViennaNGS::Feature v0.18, Perl 5.028000, /usr/local/Cellar/perl/5.28.0/bin/perl
# Test Bio::ViennaNGS::FeatureChain v0.18, Perl 5.028000, /usr/local/Cellar/perl/5.28.0/bin/perl
# Test Bio::ViennaNGS::FeatureLine v0.18, Perl 5.028000, /usr/local/Cellar/perl/5.28.0/bin/perl
# Test Bio::ViennaNGS::FeatureInterval v0.18, Perl 5.028000, /usr/local/Cellar/perl/5.28.0/bin/perl
# Test Bio::ViennaNGS::FeatureIO v0.18, Perl 5.028000, /usr/local/Cellar/perl/5.28.0/bin/perl
# Test Bio::ViennaNGS::MinimalFeature v0.18, Perl 5.028000, /usr/local/Cellar/perl/5.28.0/bin/perl
# Test Bio::ViennaNGS::Peak v0.18, Perl 5.028000, /usr/local/Cellar/perl/5.28.0/bin/perl
# Test Bio::ViennaNGS::SpliceJunc v0.18, Perl 5.028000, /usr/local/Cellar/perl/5.28.0/bin/perl
# Test Bio::ViennaNGS::Subtypes v0.18, Perl 5.028000, /usr/local/Cellar/perl/5.28.0/bin/perl
# Test Bio::ViennaNGS::Tutorial v0.18, Perl 5.028000, /usr/local/Cellar/perl/5.28.0/bin/perl
# Test Bio::ViennaNGS::UCSC v0.18, Perl 5.028000, /usr/local/Cellar/perl/5.28.0/bin/perl
# Test Bio::ViennaNGS::Util v0.18, Perl 5.028000, /usr/local/Cellar/perl/5.28.0/bin/perl
t/01-load.t .............. ok
t/02-thirdparty.t ........ ok
t/04-UCSC-TrackHub.t ..... ok
t/05-UCSC-AssemblyHub.t .. ok
Possible precedence issue with control flow operator at /Users/mtw/perl5/lib/perl5/Bio/DB/IndexedBase.pm line 845.
t/06-SpliceJunc.t ........ ok
Possible precedence issue with control flow operator at /Users/mtw/perl5/lib/perl5/Bio/DB/IndexedBase.pm line 845.
t/07-FeatureIO.t ......... ok
t/08-FeatureInterval.t ... ok
Possible precedence issue with control flow operator at /Users/mtw/perl5/lib/perl5/Bio/DB/IndexedBase.pm line 845.
t/09-MinimalFeature.t .... ok
Possible precedence issue with control flow operator at /Users/mtw/perl5/lib/perl5/Bio/DB/IndexedBase.pm line 845.
t/10-Features.t .......... ok
t/11-BedGraphEntry.t ..... ok
All tests successful.
Files=11, Tests=180, 7 wallclock secs ( 0.07 usr 0.02 sys + 6.51 cusr 0.57 csys = 7.17 CPU)
Result: PASS
------------------------------
PREREQUISITES
------------------------------
Prerequisite modules loaded:
No requirements found
------------------------------
ENVIRONMENT AND OTHER CONTEXT
------------------------------
Environment variables:
LC_CTYPE = UTF-8
LD_LIBRARY_PATH = /Users/mtw/.local/lib:/usr/local/lib/pkgconfig
PATH = /usr/local/bin:/usr/local/sbin:/usr/local/opt/python/libexec/bin:/Users/mtw/Perl/Scripts-Work:/Users/mtw/Perl/Scripts-Work/aln:/Users/mtw/perl5/bin/:/Users/mtw/.cabal/bin:/Users/mtw/bin:/usr/local/texlive/2017/bin/x86_64-darwin:.:/usr/bin:/bin:/usr/sbin:/sbin:/Users/mtw/.local/bin:/Users/mtw/.Scripts:/usr/local/bin
PERL5LIB = /Users/mtw/Perl/MyModules/Bio-RNA-RNAaliSplit/lib:/Users/mtw/Perl/MyModules/Bio-ViennaNGS/lib:/Users/mtw/perl5/lib/perl5:/Users/mtw/.local/lib/perl5/site_perl/5.24:/Users/mtw/.local/lib/perl5/site_perl/5.24/darwin-thread-multi-2level/auto/RNA:/Users/mtw/Work-TBI/zika-data/scripts
PERL6LIB = /Users/mtw/Perl6,/Users/mtw/Perl6/Baustelle/ViennaNGS6/lib,/Users/mtw/Perl6/Baustelle/Barriers/lib
PERL_LOCAL_LIB_ROOT = /Users/mtw/perl5
PERL_MB_OPT = --install_base /Users/mtw/perl5
PERL_MM_OPT = INSTALL_BASE=/Users/mtw/perl5
SHELL = /bin/tcsh
TERM = xterm-256color
TMPDIR = /var/folders/3g/zrpm8s3x71g2qzry1_lz0b600000gp/T/
Perl special variables (and OS-specific diagnostics, for MSWin32):
EGID = 20 20 403 503 404 12 61 66 79 80 81 98 399 701 33 100 204
EUID = 502
EXECUTABLE_NAME = /usr/local/Cellar/perl/5.28.0/bin/perl
GID = 20 20 403 503 404 12 61 66 79 80 81 98 399 701 33 100 204
UID = 502
Perl module toolchain versions installed:
Module Have
------------------- --------
CPAN 2.20
CPAN::Meta 2.150010
Cwd 3.74
ExtUtils::CBuilder 0.280230
ExtUtils::Command 7.34
ExtUtils::Install 2.14
ExtUtils::MakeMaker 7.34
ExtUtils::Manifest 1.70
ExtUtils::ParseXS 3.39
File::Spec 3.74
JSON n/a
JSON::PP 2.97001
Module::Build 0.4224
Module::Signature n/a
Parse::CPAN::Meta 2.150010
Test::Harness 3.42
Test::More 1.302133
YAML n/a
YAML::Syck n/a
version 0.9923
--
Summary of my perl5 (revision 5 version 28 subversion 0) configuration:
Platform:
osname=darwin
osvers=17.6.0
archname=darwin-thread-multi-2level
uname='darwin highsierra-2.local 17.6.0 darwin kernel version 17.6.0: tue may 8 15:22:16 pdt 2018; root:xnu-4570.61.1~1release_x86_64 x86_64 '
config_args='-des -Dprefix=/usr/local/Cellar/perl/5.28.0 -Dprivlib=/usr/local/Cellar/perl/5.28.0/lib/perl5/5.28.0 -Dsitelib=/usr/local/Cellar/perl/5.28.0/lib/perl5/site_perl/5.28.0 -Dotherlibdirs=/usr/local/lib/perl5/site_perl/5.28.0 -Dperlpath=/usr/local/opt/perl/bin/perl -Dstartperl=#!/usr/local/opt/perl/bin/perl -Dman1dir=/usr/local/Cellar/perl/5.28.0/share/man/man1 -Dman3dir=/usr/local/Cellar/perl/5.28.0/share/man/man3 -Duseshrplib -Duselargefiles -Dusethreads'
hint=recommended
useposix=true
d_sigaction=define
useithreads=define
usemultiplicity=define
use64bitint=define
use64bitall=define
uselongdouble=undef
usemymalloc=n
default_inc_excludes_dot=define
bincompat5005=undef
Compiler:
cc='cc'
ccflags ='-fno-common -DPERL_DARWIN -mmacosx-version-min=10.13 -fno-strict-aliasing -pipe -fstack-protector-strong -I/usr/local/include -DPERL_USE_SAFE_PUTENV'
optimize='-O3'
cppflags='-fno-common -DPERL_DARWIN -mmacosx-version-min=10.13 -fno-strict-aliasing -pipe -fstack-protector-strong -I/usr/local/include'
ccversion=''
gccversion='4.2.1 Compatible Apple LLVM 9.1.0 (clang-902.0.39.2)'
gccosandvers=''
intsize=4
longsize=8
ptrsize=8
doublesize=8
byteorder=12345678
doublekind=3
d_longlong=define
longlongsize=8
d_longdbl=define
longdblsize=16
longdblkind=3
ivtype='long'
ivsize=8
nvtype='double'
nvsize=8
Off_t='off_t'
lseeksize=8
alignbytes=8
prototype=define
Linker and Libraries:
ld='cc'
ldflags =' -mmacosx-version-min=10.13 -fstack-protector-strong -L/usr/local/lib'
libpth=/usr/local/lib /usr/include/libxml2 /Applications/Xcode.app/Contents/Developer/Toolchains/XcodeDefault.xctoolchain/usr/lib/clang/9.1.0/lib /Applications/Xcode.app/Contents/Developer/Toolchains/XcodeDefault.xctoolchain/usr/lib /usr/lib
libs=-lpthread -ldbm -ldl -lm -lutil -lc
perllibs=-lpthread -ldl -lm -lutil -lc
libc=
so=dylib
useshrplib=true
libperl=libperl.dylib
gnulibc_version=''
Dynamic Linking:
dlsrc=dl_dlopen.xs
dlext=bundle
d_dlsymun=undef
ccdlflags=' '
cccdlflags=' '
lddlflags=' -mmacosx-version-min=10.13 -bundle -undefined dynamic_lookup -L/usr/local/lib -fstack-protector-strong'
Characteristics of this binary (from libperl):
Compile-time options:
HAS_TIMES
MULTIPLICITY
PERLIO_LAYERS
PERL_COPY_ON_WRITE
PERL_DONT_CREATE_GVSV
PERL_IMPLICIT_CONTEXT
PERL_MALLOC_WRAP
PERL_OP_PARENT
PERL_PRESERVE_IVUV
PERL_USE_SAFE_PUTENV
USE_64_BIT_ALL
USE_64_BIT_INT
USE_ITHREADS
USE_LARGE_FILES
USE_LOCALE
USE_LOCALE_COLLATE
USE_LOCALE_CTYPE
USE_LOCALE_NUMERIC
USE_LOCALE_TIME
USE_PERLIO
USE_PERL_ATOF
USE_REENTRANT_API
Built under darwin
Compiled at Jun 26 2018 16:26:00
%ENV:
PERL5LIB="/Users/mtw/Perl/MyModules/Bio-RNA-RNAaliSplit/lib:/Users/mtw/Perl/MyModules/Bio-ViennaNGS/lib:/Users/mtw/perl5/lib/perl5:/Users/mtw/.local/lib/perl5/site_perl/5.24:/Users/mtw/.local/lib/perl5/site_perl/5.24/darwin-thread-multi-2level/auto/RNA:/Users/mtw/Work-TBI/zika-data/scripts"
PERL6LIB="/Users/mtw/Perl6,/Users/mtw/Perl6/Baustelle/ViennaNGS6/lib,/Users/mtw/Perl6/Baustelle/Barriers/lib"
PERL_LOCAL_LIB_ROOT="/Users/mtw/perl5"
PERL_MB_OPT="--install_base /Users/mtw/perl5"
PERL_MM_OPT="INSTALL_BASE=/Users/mtw/perl5"
@INC:
/Users/mtw/Perl/MyModules/Bio-RNA-RNAaliSplit/lib
/Users/mtw/Perl/MyModules/Bio-ViennaNGS/lib
/Users/mtw/perl5/lib/perl5/darwin-thread-multi-2level
/Users/mtw/perl5/lib/perl5
/Users/mtw/.local/lib/perl5/site_perl/5.24
/Users/mtw/.local/lib/perl5/site_perl/5.24/darwin-thread-multi-2level/auto/RNA
/Users/mtw/Work-TBI/zika-data/scripts
/usr/local/Cellar/perl/5.28.0/lib/perl5/site_perl/5.28.0/darwin-thread-multi-2level
/usr/local/Cellar/perl/5.28.0/lib/perl5/site_perl/5.28.0
/usr/local/Cellar/perl/5.28.0/lib/perl5/5.28.0/darwin-thread-multi-2level
/usr/local/Cellar/perl/5.28.0/lib/perl5/5.28.0
/usr/local/lib/perl5/site_perl/5.28.0/darwin-thread-multi-2level
/usr/local/lib/perl5/site_perl/5.28.0