Report for Dist-Zilla-Plugin-Test-EOL-0.19

Back
From: metabase:user:9c36dc84-a30f-11e0-a9fc-0a18abbd4f2f
Subject: PASS Dist-Zilla-Plugin-Test-EOL-0.19 v5.24.1 OpenBSD
Date: 2017-04-02T19:55:08Z

This distribution has been tested as part of the CPAN Testers
project, supporting the Perl programming language.  See
http://wiki.cpantesters.org/ for more information or email
questions to cpan-testers-discuss@perl.org


--
Dear Karen Etheridge,

This is a computer-generated report for Dist-Zilla-Plugin-Test-EOL-0.19
on perl 5.24.1, created by CPAN-Reporter-1.2018.

Thank you for uploading your work to CPAN.  Congratulations!
All tests were successful.

Sections of this report:

    * Tester comments
    * Program output
    * Prerequisites
    * Environment and other context

------------------------------
TESTER COMMENTS
------------------------------

Additional comments from tester:

this report is from an automated smoke testing program
and was not reviewed by a human for accuracy

------------------------------
PROGRAM OUTPUT
------------------------------

Output from './Build test':

# 
# Versions for all modules listed in MYMETA.json (including optional ones):
# 
# === Configure Requires ===
# 
#     Module               Want  Have
#     ------------------- ----- -----
#     Module::Build::Tiny 0.034 0.039
# 
# === Test Requires ===
# 
#     Module            Want     Have
#     ---------------- ----- --------
#     File::Spec         any  3.63_01
#     File::pushd        any    1.014
#     FindBin            any     1.51
#     Module::Metadata   any 1.000033
#     Test::DZil         any    6.009
#     Test::Deep         any    1.126
#     Test::EOL          any      1.6
#     Test::More        0.88 1.302078
#     Test::Warnings   0.009    0.026
#     if                 any   0.0606
# 
# === Test Recommends ===
# 
#     Module         Want     Have
#     ---------- -------- --------
#     CPAN::Meta 2.120900 2.150010
# 
# === Runtime Requires ===
# 
#     Module                             Want     Have
#     --------------------------------- ----- --------
#     Data::Section                     0.004 0.200006
#     Dist::Zilla::File::InMemory         any    6.009
#     Dist::Zilla::Role::FileFinderUser   any    6.009
#     Dist::Zilla::Role::FileGatherer     any    6.009
#     Dist::Zilla::Role::FileMunger       any    6.009
#     Dist::Zilla::Role::PrereqSource     any    6.009
#     Dist::Zilla::Role::TextTemplate     any    6.009
#     Moose                               any   2.2004
#     Moose::Util::TypeConstraints        any   2.2004
#     Path::Tiny                          any    0.104
#     Sub::Exporter::ForMethods           any 0.100052
#     namespace::autoclean                any     0.28
#     strict                              any     1.11
#     warnings                            any     1.36
# 
# === Other Modules ===
# 
#     Module                    Have
#     --------------------- --------
#     CPAN::Meta::Validator 2.150010
#     Pod::Coverage             0.23
# 
t/00-report-prereqs.t .. ok
t/01-basic.t ........... ok
t/02-eoltests.t ........ ok
t/03-finder.t .......... ok
t/04-filename.t ........ ok
t/eol.t ................ ok
t/prereqs.t ............ ok
t/zzz-check-breaks.t ... ok
All tests successful.
Files=8, Tests=66,  8 wallclock secs ( 0.03 usr  0.08 sys +  5.88 cusr  1.19 csys =  7.18 CPU)
Result: PASS

------------------------------
PREREQUISITES
------------------------------

Prerequisite modules loaded:

requires:

    Module                            Need     Have    
    --------------------------------- -------- --------
    Data::Section                     0.004    0.200006
    Dist::Zilla::File::InMemory       0        6.009   
    Dist::Zilla::Role::FileFinderUser 0        6.009   
    Dist::Zilla::Role::FileGatherer   0        6.009   
    Dist::Zilla::Role::FileMunger     0        6.009   
    Dist::Zilla::Role::PrereqSource   0        6.009   
    Dist::Zilla::Role::TextTemplate   0        6.009   
    Moose                             0        2.2004  
    Moose::Util::TypeConstraints      0        2.2004  
    namespace::autoclean              0        0.28    
    Path::Tiny                        0        0.104   
    perl                              5.006    5.024001
    strict                            0        1.11    
    Sub::Exporter::ForMethods         0        0.100052
    warnings                          0        1.36    

build_requires:

    Module                            Need     Have    
    --------------------------------- -------- --------
    File::pushd                       0        1.014   
    File::Spec                        0        3.63_01 
    FindBin                           0        1.51    
    if                                0        0.0606  
    Module::Metadata                  0        1.000033
    perl                              5.006    5.024001
    Test::Deep                        0        1.126   
    Test::DZil                        0        6.009   
    Test::EOL                         0        1.6     
    Test::More                        0.88     1.302078
    Test::Warnings                    0.009    0.026   

configure_requires:

    Module                            Need     Have    
    --------------------------------- -------- --------
    Module::Build::Tiny               0.034    0.039   
    perl                              5.006    5.024001

opt_build_requires:

    Module                            Need     Have    
    --------------------------------- -------- --------
    CPAN::Meta                        2.120900 2.150010


------------------------------
ENVIRONMENT AND OTHER CONTEXT
------------------------------

Environment variables:

    AUTOMATED_TESTING = 1
    PATH = /home/bar/perl5/perlbrew/bin:/home/bar/perl5/perlbrew/perls/perl-5.24.1/bin:/home/bar/bin:/sbin:/usr/sbin:/bin:/usr/bin:/usr/X11R6/bin:/usr/local/sbin:/usr/local/bin
    PERL5LIB = 
    PERL5OPT = 
    PERL5_CPANPLUS_IS_RUNNING = 82069
    PERL5_CPAN_IS_RUNNING = 82069
    PERL5_CPAN_IS_RUNNING_IN_RECURSION = 57681,82069
    PERLBREW_BASHRC_VERSION = 0.78
    PERLBREW_HOME = /home/bar/.perlbrew
    PERLBREW_MANPATH = /home/bar/perl5/perlbrew/perls/perl-5.24.1/man
    PERLBREW_PATH = /home/bar/perl5/perlbrew/bin:/home/bar/perl5/perlbrew/perls/perl-5.24.1/bin
    PERLBREW_PERL = perl-5.24.1
    PERLBREW_ROOT = /home/bar/perl5/perlbrew
    PERLBREW_VERSION = 0.78
    PERL_CR_SMOKER_CURRENT = Dist-Zilla-PluginBundle-DROLSKY-0.85
    PERL_EXTUTILS_AUTOINSTALL = --defaultdeps
    PERL_MM_USE_DEFAULT = 1
    SHELL = /usr/local/bin/bash
    TERM = vt220

Perl special variables (and OS-specific diagnostics, for MSWin32):

    $^X = /home/bar/perl5/perlbrew/perls/perl-5.24.1/bin/perl
    $UID/$EUID = 1002 / 1002
    $GID = 1002 1002
    $EGID = 1002 1002

Perl module toolchain versions installed:

    Module              Have    
    ------------------- --------
    CPAN                2.16    
    CPAN::Meta          2.150010
    Cwd                 3.63_01 
    ExtUtils::CBuilder  0.280225
    ExtUtils::Command   7.24    
    ExtUtils::Install   2.04    
    ExtUtils::MakeMaker 7.24    
    ExtUtils::Manifest  1.70    
    ExtUtils::ParseXS   3.31    
    File::Spec          3.63_01 
    JSON                2.90    
    JSON::PP            2.27400 
    Module::Build       0.4220  
    Module::Signature   n/a     
    Parse::CPAN::Meta   2.150010
    Test::Harness       3.38    
    Test::More          1.302078
    YAML                1.23    
    YAML::Syck          1.29    
    version             0.9916  


--

Summary of my perl5 (revision 5 version 24 subversion 1) configuration:
   
  Platform:
    osname=openbsd, osvers=6.0, archname=OpenBSD.amd64-openbsd
    uname='openbsd salompas.spo.virtua.com.br 6.0 generic.mp#2319 amd64 '
    config_args='-de -Dprefix=/home/bar/perl5/perlbrew/perls/perl-5.24.1 -Aeval:scriptdir=/home/bar/perl5/perlbrew/perls/perl-5.24.1/bin'
    hint=recommended, useposix=true, d_sigaction=define
    useithreads=undef, usemultiplicity=undef
    use64bitint=define, use64bitall=define, uselongdouble=undef
    usemymalloc=n, bincompat5005=undef
  Compiler:
    cc='cc', ccflags ='-fno-strict-aliasing -pipe -fstack-protector-strong -I/usr/local/include -D_FORTIFY_SOURCE=2',
    optimize='-O2',
    cppflags='-fno-strict-aliasing -pipe -fstack-protector-strong -I/usr/local/include'
    ccversion='', gccversion='4.2.1 20070719 ', gccosandvers='openbsd6.0'
    intsize=4, longsize=8, ptrsize=8, doublesize=8, byteorder=12345678, doublekind=3
    d_longlong=define, longlongsize=8, d_longdbl=define, longdblsize=16, longdblkind=3
    ivtype='long', ivsize=8, nvtype='double', nvsize=8, Off_t='off_t', lseeksize=8
    alignbytes=8, prototype=define
  Linker and Libraries:
    ld='cc', ldflags ='-Wl,-E  -fstack-protector-strong -L/usr/local/lib'
    libpth=/usr/lib /usr/local/lib
    libs=-lpthread -lm -lutil -lc
    perllibs=-lpthread -lm -lutil -lc
    libc=/usr/lib/libc.so.88.0, so=so, useshrplib=false, libperl=libperl.a
    gnulibc_version=''
  Dynamic Linking:
    dlsrc=dl_dlopen.xs, dlext=so, d_dlsymun=undef, ccdlflags=' '
    cccdlflags='-DPIC -fPIC ', lddlflags='-shared -fPIC  -L/usr/local/lib -fstack-protector-strong'


Characteristics of this binary (from libperl): 
  Compile-time options: HAS_TIMES PERLIO_LAYERS PERL_COPY_ON_WRITE
                        PERL_DONT_CREATE_GVSV
                        PERL_HASH_FUNC_ONE_AT_A_TIME_HARD PERL_MALLOC_WRAP
                        PERL_PRESERVE_IVUV USE_64_BIT_ALL USE_64_BIT_INT
                        USE_LARGE_FILES USE_LOCALE USE_LOCALE_COLLATE
                        USE_LOCALE_CTYPE USE_LOCALE_NUMERIC USE_LOCALE_TIME
                        USE_PERLIO USE_PERL_ATOF
  Locally applied patches:
	Devel::PatchPerl 1.38
  Built under openbsd
  Compiled at Mar 31 2017 10:51:57
  %ENV:
    PERL5LIB=""
    PERL5OPT=""
    PERL5_CPANPLUS_IS_RUNNING="82069"
    PERL5_CPAN_IS_RUNNING="82069"
    PERL5_CPAN_IS_RUNNING_IN_RECURSION="57681,82069"
    PERLBREW_BASHRC_VERSION="0.78"
    PERLBREW_HOME="/home/bar/.perlbrew"
    PERLBREW_MANPATH="/home/bar/perl5/perlbrew/perls/perl-5.24.1/man"
    PERLBREW_PATH="/home/bar/perl5/perlbrew/bin:/home/bar/perl5/perlbrew/perls/perl-5.24.1/bin"
    PERLBREW_PERL="perl-5.24.1"
    PERLBREW_ROOT="/home/bar/perl5/perlbrew"
    PERLBREW_VERSION="0.78"
    PERL_CR_SMOKER_CURRENT="Dist-Zilla-PluginBundle-DROLSKY-0.85"
    PERL_EXTUTILS_AUTOINSTALL="--defaultdeps"
    PERL_MM_USE_DEFAULT="1"
  @INC:
    /home/bar/perl5/perlbrew/perls/perl-5.24.1/lib/site_perl/5.24.1/OpenBSD.amd64-openbsd
    /home/bar/perl5/perlbrew/perls/perl-5.24.1/lib/site_perl/5.24.1
    /home/bar/perl5/perlbrew/perls/perl-5.24.1/lib/5.24.1/OpenBSD.amd64-openbsd
    /home/bar/perl5/perlbrew/perls/perl-5.24.1/lib/5.24.1
    .