XML-Rabbit v0.4.1 Perl 5 v5.28.3 darwin-2level
- Status
- Pass
- From
- Stanislaw Pusep
- Dist
-
XML-Rabbit v0.4.1
- Platform
- Perl 5 v5.28.3 darwin-2level
- Date
- 2021-06-20 15:50:45
- ID
- 462f4cfe-d1df-11eb-a4d1-a59fac5234e0
This distribution has been tested as part of the CPAN Testers
project, supporting the Perl programming language. See
http://wiki.cpantesters.org/ for more information or email
questions to cpan-testers-discuss@perl.org
--
Dear ROBINS,
This is a computer-generated report for XML-Rabbit-0.4.1
on perl 5.28.3, created by App::cpanminus::reporter 0.17 (1.7044).
Thank you for uploading your work to CPAN. Congratulations!
All tests were successful.
Sections of this report:
* Tester comments
* Program output
* Prerequisites
* Environment and other context
------------------------------
TESTER COMMENTS
------------------------------
Additional comments from tester:
none provided
------------------------------
PROGRAM OUTPUT
------------------------------
Output from '':
Building and testing XML-Rabbit-0.4.1
cp lib/XML/Rabbit.pm blib/lib/XML/Rabbit.pm
cp lib/XML/Rabbit/Trait/XPath.pm blib/lib/XML/Rabbit/Trait/XPath.pm
cp lib/XML/Rabbit/Trait/XPathObject.pm blib/lib/XML/Rabbit/Trait/XPathObject.pm
cp lib/XML/Rabbit/Root.pm blib/lib/XML/Rabbit/Root.pm
cp lib/XML/Rabbit/RootNode.pm blib/lib/XML/Rabbit/RootNode.pm
cp lib/XML/Rabbit/Role/Document.pm blib/lib/XML/Rabbit/Role/Document.pm
cp lib/XML/Rabbit/Trait/XPathObjectList.pm blib/lib/XML/Rabbit/Trait/XPathObjectList.pm
cp lib/XML/Rabbit/Role/Node.pm blib/lib/XML/Rabbit/Role/Node.pm
cp lib/XML/Rabbit/Trait/XPathObjectMap.pm blib/lib/XML/Rabbit/Trait/XPathObjectMap.pm
cp lib/XML/Rabbit/Trait/XPathValue.pm blib/lib/XML/Rabbit/Trait/XPathValue.pm
cp lib/XML/Rabbit/Node.pm blib/lib/XML/Rabbit/Node.pm
cp lib/XML/Rabbit/Sugar.pm blib/lib/XML/Rabbit/Sugar.pm
cp lib/XML/Rabbit/Trait/XPathValueMap.pm blib/lib/XML/Rabbit/Trait/XPathValueMap.pm
cp lib/XML/Rabbit/Trait/XPathValueList.pm blib/lib/XML/Rabbit/Trait/XPathValueList.pm
cp bin/dump_xml_structure blib/script/dump_xml_structure
"/Users/stan/perl5/perlbrew/perls/perl-5.28.3/bin/perl" -MExtUtils::MY -e 'MY->fixin(shift)' -- blib/script/dump_xml_structure
cp bin/xpath_extract blib/script/xpath_extract
"/Users/stan/perl5/perlbrew/perls/perl-5.28.3/bin/perl" -MExtUtils::MY -e 'MY->fixin(shift)' -- blib/script/xpath_extract
Manifying 2 pod documents
Manifying 14 pod documents
PERL_DL_NONLAZY=1 "/Users/stan/perl5/perlbrew/perls/perl-5.28.3/bin/perl" "-MExtUtils::Command::MM" "-MTest::Harness" "-e" "undef *Test::Harness::Switches; test_harness(0, 'blib/lib', 'blib/arch')" t/*.t t/regression/*.t
# Testing XML::Rabbit 0.4.1, Perl 5.028003, /Users/stan/perl5/perlbrew/perls/perl-5.28.3/bin/perl
t/00_load.t ........................... ok
# Detected libxml2 version: 20904
t/01_libxml_version.t ................. ok
t/10_parse_xhtml_fh.t ................. ok
t/10_parse_xhtml_file.t ............... ok
t/10_parse_xhtml_string.t ............. ok
t/11_parse_imsqti.t ................... ok
t/12_xpath_value_map.t ................ ok
t/13_xpath_object_map.t ............... ok
t/14_sugar_parse_xhtml_file.t ......... ok
t/15_sugar_parse_imsqti.t ............. ok
t/16_sugar_xpath_value_map.t .......... ok
t/17_sugar_xpath_object_map.t ......... ok
t/18_dump_xml.t ....................... ok
t/19_RT_71815.t ....................... ok
t/20_RT_81519.t ....................... ok
t/author-critic.t ..................... skipped: these tests are for testing by the author
t/regression/node_attribute_traits.t .. ok
t/release-eol.t ....................... skipped: these tests are for release candidate testing
t/release-kwalitee.t .................. skipped: these tests are for release candidate testing
t/release-no-tabs.t ................... skipped: these tests are for release candidate testing
t/release-pod-coverage.t .............. skipped: these tests are for release candidate testing
t/release-pod-syntax.t ................ skipped: these tests are for release candidate testing
All tests successful.
Files=22, Tests=165, 6 wallclock secs ( 0.06 usr 0.04 sys + 4.55 cusr 0.61 csys = 5.26 CPU)
Result: PASS
------------------------------
PREREQUISITES
------------------------------
Prerequisite modules loaded:
No requirements found
------------------------------
ENVIRONMENT AND OTHER CONTEXT
------------------------------
Environment variables:
LANG = en_US.UTF-8
LC_ALL = en_US.UTF-8
LC_CTYPE = UTF-8
LC_TERMINAL = iTerm2
LC_TERMINAL_VERSION = 3.4.8
LDFLAGS = -L/usr/local/opt/curl/lib
PATH = /Users/stan/perl5/perlbrew/bin:/Users/stan/perl5/perlbrew/perls/perl-5.28.3/bin:/usr/local/opt/curl/bin:/Users/stan/perl5/perlbrew/bin:/Users/stan/perl5/perlbrew/perls/perl-5.34.0/bin:/usr/local/bin:/usr/bin:/bin:/usr/sbin:/sbin:/Users/stan/.vim/bin:/Users/stan/bin:/Users/stan/node_modules/.bin:/usr/local/sbin:/usr/local/opt/curl/bin
PERL5LIB =
PERLBREW_HOME = /Users/stan/.perlbrew
PERLBREW_LIB =
PERLBREW_MANPATH = /Users/stan/perl5/perlbrew/perls/perl-5.28.3/man
PERLBREW_PATH = /Users/stan/perl5/perlbrew/bin:/Users/stan/perl5/perlbrew/perls/perl-5.28.3/bin
PERLBREW_PERL = perl-5.28.3
PERLBREW_ROOT = /Users/stan/perl5/perlbrew
PERLBREW_SHELLRC_VERSION = 0.92
PERLBREW_VERSION = 0.92
PERL_LOCAL_LIB_ROOT =
PERL_MM_USE_DEFAULT = 1
SHELL = /usr/local/bin/zsh
TERM = screen
TMPDIR = /var/folders/tk/hx6fvpsj3yzbyd1k1br945mc0000gn/T/
Perl special variables (and OS-specific diagnostics, for MSWin32):
EGID = 20 20 12 61 79 80 81 98 701 33 100 204 250 395 398 101 400
EUID = 501
EXECUTABLE_NAME = /Users/stan/perl5/perlbrew/perls/perl-5.28.3/bin/perl
GID = 20 20 12 61 79 80 81 98 701 33 100 204 250 395 398 101 400
UID = 501
Perl module toolchain versions installed:
Module Have
------------------- --------
CPAN 2.28
CPAN::Meta 2.150010
Cwd 3.75
ExtUtils::CBuilder 0.280236
ExtUtils::Command 7.62
ExtUtils::Install 2.20
ExtUtils::MakeMaker 7.62
ExtUtils::Manifest 1.73
ExtUtils::ParseXS 3.39
File::Spec 3.75
JSON 4.03
JSON::PP 4.06
Module::Build 0.4231
Module::Signature n/a
Parse::CPAN::Meta 2.150010
Test::Harness 3.42
Test::More 1.302185
YAML 1.30
YAML::Syck n/a
version 0.9929
--
Summary of my perl5 (revision 5 version 28 subversion 3) configuration:
Platform:
osname=darwin
osvers=20.4.0
archname=darwin-2level
uname='darwin imac.fritz.box 20.4.0 darwin kernel version 20.4.0: thu apr 22 21:46:47 pdt 2021; root:xnu-7195.101.2~1release_x86_64 x86_64 '
config_args='-de -Dprefix=/Users/stan/perl5/perlbrew/perls/perl-5.28.3 -Aeval:scriptdir=/Users/stan/perl5/perlbrew/perls/perl-5.28.3/bin'
hint=recommended
useposix=true
d_sigaction=define
useithreads=undef
usemultiplicity=undef
use64bitint=define
use64bitall=define
uselongdouble=undef
usemymalloc=n
default_inc_excludes_dot=define
bincompat5005=undef
Compiler:
cc='cc'
ccflags ='-fno-common -DPERL_DARWIN -mmacosx-version-min=11.3 -fno-strict-aliasing -pipe -fstack-protector-strong -I/usr/local/include -DPERL_USE_SAFE_PUTENV'
optimize='-O3'
cppflags='-fno-common -DPERL_DARWIN -mmacosx-version-min=11.3 -fno-strict-aliasing -pipe -fstack-protector-strong -I/usr/local/include'
ccversion=''
gccversion='Apple LLVM 12.0.5 (clang-1205.0.22.9)'
gccosandvers=''
intsize=4
longsize=8
ptrsize=8
doublesize=8
byteorder=12345678
doublekind=3
d_longlong=define
longlongsize=8
d_longdbl=define
longdblsize=16
longdblkind=3
ivtype='long'
ivsize=8
nvtype='double'
nvsize=8
Off_t='off_t'
lseeksize=8
alignbytes=8
prototype=define
Linker and Libraries:
ld='cc'
ldflags =' -mmacosx-version-min=11.3 -fstack-protector-strong -L/usr/local/lib'
libpth=/usr/local/lib /Library/Developer/CommandLineTools/usr/lib/clang/12.0.5/lib /Library/Developer/CommandLineTools/SDKs/MacOSX.sdk/usr/lib /Library/Developer/CommandLineTools/usr/lib /usr/lib
libs=-lgdbm -ldb
perllibs=
libc=
so=dylib
useshrplib=false
libperl=libperl.a
gnulibc_version=''
Dynamic Linking:
dlsrc=dl_dlopen.xs
dlext=bundle
d_dlsymun=undef
ccdlflags=' '
cccdlflags=' '
lddlflags=' -mmacosx-version-min=11.3 -bundle -undefined dynamic_lookup -L/usr/local/lib -fstack-protector-strong'
Characteristics of this binary (from libperl):
Compile-time options:
HAS_TIMES
PERLIO_LAYERS
PERL_COPY_ON_WRITE
PERL_DONT_CREATE_GVSV
PERL_MALLOC_WRAP
PERL_OP_PARENT
PERL_PRESERVE_IVUV
PERL_USE_SAFE_PUTENV
USE_64_BIT_ALL
USE_64_BIT_INT
USE_LARGE_FILES
USE_LOCALE
USE_LOCALE_COLLATE
USE_LOCALE_CTYPE
USE_LOCALE_NUMERIC
USE_LOCALE_TIME
USE_PERLIO
USE_PERL_ATOF
Locally applied patches:
Devel::PatchPerl 2.08
Built under darwin
Compiled at Jun 13 2021 16:32:01
%ENV:
PERL5LIB=""
PERLBREW_HOME="/Users/stan/.perlbrew"
PERLBREW_LIB=""
PERLBREW_MANPATH="/Users/stan/perl5/perlbrew/perls/perl-5.28.3/man"
PERLBREW_PATH="/Users/stan/perl5/perlbrew/bin:/Users/stan/perl5/perlbrew/perls/perl-5.28.3/bin"
PERLBREW_PERL="perl-5.28.3"
PERLBREW_ROOT="/Users/stan/perl5/perlbrew"
PERLBREW_SHELLRC_VERSION="0.92"
PERLBREW_VERSION="0.92"
PERL_LOCAL_LIB_ROOT=""
PERL_MM_USE_DEFAULT="1"
@INC:
/Users/stan/perl5/perlbrew/perls/perl-5.28.3/lib/site_perl/5.28.3/darwin-2level
/Users/stan/perl5/perlbrew/perls/perl-5.28.3/lib/site_perl/5.28.3
/Users/stan/perl5/perlbrew/perls/perl-5.28.3/lib/5.28.3/darwin-2level
/Users/stan/perl5/perlbrew/perls/perl-5.28.3/lib/5.28.3