Back
From: metabase:user:1eed3a18-483e-11e2-a87b-a3931c712682
Subject: PASS DateTime-Format-Duration-1.03a v5.18.0 RC2 Mac OS X
Date: 2013-05-13T14:42:02Z
This distribution has been tested as part of the CPAN Testers
project, supporting the Perl programming language. See
http://wiki.cpantesters.org/ for more information or email
questions to cpan-testers-discuss@perl.org
--
DateTime-Format-Duration-1.03 ... PASS
Perl : v5.18.0
System : darwin
Local Versions :
ExtUtils::Mkbootstrap : 6.66
bytes : 1.04
Pod::Elemental : 0.102362
Dist::Zilla::Plugin::PodCoverageTests : 4.300034
Test::Tester : 0.108
File::stat : 1.07
Software::License::Artistic_1_0 : 0.103005
Data::Buffer : 0.04
Perl::Critic::Utils : 1.118
Authen::DecHpwd : 2.006
String::Formatter : 0.102082
Benchmark : 1.15
Crypt::CBC : 2.32
ok : 0.11
Socket : 2.009
Plack::Middleware :
Getopt::Long : 2.39
if : 0.0602
Object::Accessor : 0.46
Parse::RecDescent : 1.967009
Devel::Cycle : 1.11
File::Find : 1.23
Dist::Zilla::File::InMemory : 4.300034
CPANPLUS : 0.9136
Convert::ASN1 : 0.26
ExtUtils::MakeMaker : 6.66
Pod::Elemental::Transformer::Gatherer : 0.102362
YAML::Tiny : 1.51
CPAN::Meta::Prereqs : 2.120921
Class::Inspector : 1.28
Dist::Zilla::Plugin::GatherDir : 4.300034
Catalyst::Utils :
App::Prove : 3.26
IO::String : 1.08
Catalyst::Plugin::Authentication : 0.10023
Import::Into : 1.001001
autodie::exception : 2.13
JSON::Any : 1.29
Class::Accessor::Fast : 0.34
Math::BigInt : 1.9991
DateTime::Locale : 0.45
Data::OptList : 0.107
Dist::Zilla::Role::PrereqSource : 4.300034
Math::Complex : 1.59
re : 0.23
Tie::Handle : 4.2
Moose::Autobox : 0.13
POSIX : 1.32
Data::Section : 0.101621
ExtUtils::Depends : 0.304
Crypt::Rijndael : 1.11
Test::Base : 0.60
JSON::PP : 2.27202
Pod::Elemental::Element::Pod5::Command : 0.102362
Algorithm::Diff : 1.1902
File::Spec::Unix : 3.40
Pod::Usage : 1.61
Sub::Name : 0.05
DBIx::Class::Schema :
PPI::Document : 1.215
Dist::Zilla::Role::FileMunger : 4.300034
Convert::ASCII::Armour : 1.4
Set::Scalar : 1.25
Module::Build::ModuleInfo : 0.4003
CGI : 3.63
Carp::Clan : 6.04
Test::Builder : 0.98
CPANPLUS::Dist::Build : 0.70
Any::Moose : 0.21
MooseX::RelatedClassRoles : 0.004
IO::Uncompress::Gunzip : 2.060
AnyEvent : 7.04
Tie::Hash : 1.04
Pod::Elemental::Document : 0.102362
MIME::QuotedPrint : 3.13
Pod::Elemental::Transformer::Pod5 : 0.102362
CPAN::Meta::Requirements : 2.122
Perl::Critic::Utils::PPI : 1.118
Term::ReadKey : 2.30
IO::Socket::INET : 1.33
HTML::TreeBuilder : 5.03
MooseX::Types : 0.35
HTTP::Message : 6.06
Catalyst::Test :
Net::Curl : 0.28
Data::Dump : 1.22
Perl::Critic::Violation : 1.118
Term::ReadLine : 1.12
Parse::CPAN::Meta : 1.4404
File::Glob : 1.20
Email::Simple : 2.201
MooseX::Has::Sugar : 0.05070421
Module::Runtime : 0.013
DateTime::Format::Strptime : 1.54
Bash::Completion::Plugins::perlbrew : 0.09
HTTP::Server::Simple::CGI : 0
App::Cpan : 1.61
Math::Pari : 2.01080605
Bash::Completion : 0.008
Time::HiRes : 1.9725
I18N::LangTags : 0.39
PPI::Node : 1.215
URI::Escape : 3.31
Bash::Completion::Plugins::cpanm : 0.0.2
Perl::Critic : 1.118
Algorithm::C3 : 0.08
B::Utils : 0.21
DB_File : 1.827
Devel::LexAlias : 0.05
Text::SimpleTable : 2.03
overload : 1.22
Catalyst::Runtime : 5.90030
Test::Harness : 3.26
Config::MVP::Assembler::WithBundles : 2.200003
ExtUtils::Manifest : 1.63
Test::Simple : 0.98
HTTP::Server::Simple : 0.44
JSON : 2.57
AppConfig : 1.66
Sub::Exporter : 0.985
HTML::Entities : 3.69
Catalyst::Action::RenderView : 0.16
Attribute::Handlers : 0.94
Sys::Hostname : 1.17
Config::MVP::Reader::INI : 2.101461
DBI : 1.625
Lingua::EN::FindNumber : 1.2
XML::SAX : 0.99
Test::Deep : 0.110
YAML::XS : 0.41
Devel::FindPerl : 0.006
IPC::Open2 : 1.04
Log::Dispatch::Output : 2.39
version : 0.9902
Test::CheckDeps : 0.002
Module::Build : 0.4005
Text::ParseWords : 3.28
Catalyst::Exception :
Scalar::Util : 1.27
Class::Accessor::Grouped : 0.10010
Digest::SHA : 5.84
Test::Most : 0.31
Test::Requires : 0.06
HTML::Parser : 3.71
URI : 1.60
Pod::ParseLink : 1.10
IO::WrapTie : 2.110
Module::Load : 0.24
Text::CSV : 1.21
HTTP::Daemon : 6.01
Package::Stash : 0.34
LWP::Protocol::https : 6.04
ExtUtils::Install : 1.59
Test::Pod : 1.48
autodie : 2.19
LWP : 6.05
Config::INI::Reader : 0.019
Log::Message : 0.08
Path::Class::Dir : 0.32
Class::Accessor : 0.34
IPC::Run3 : 0.045
Exception::Class : 1.37
Bash::Completion::Plugin : 0.008
File::Slurp : 9999.19
Glib : 1.280
IO::Handle : 1.34
Moo : 1.002000
Log::Trace : 1.070
Pod::Simple : 3.28
Dist::Zilla::Role::BeforeRelease : 4.300034
Cwd : 3.40
Locale::Maketext::Simple : 0.21
B::Concise : 0.95
Moose::Exporter : 2.0802
Errno : 1.18
File::Fetch : 0.38
File::Copy : 2.26
Task::Weaken : 1.04
File::Temp : 0.23
Test::SharedFork : 0.21
Pod::PlainText : 2.06
lib::abs : 0.92
Email::Simple::Creator : 2.201
Software::License : 0.103005
File::pushd : 1.005
Pod::Weaver::Role::Finalizer : 3.101638
Carp::Assert : 0.20
WWW::Mechanize : 1.72
DBIx::Class::Core :
Perl::OSType : 1.003
Catalyst::Controller :
Devel::NYTProf : 5.02
Pod::Elemental::Selectors : 0.102362
MooseX::Storage : 0.33
Sub::Exporter::Util : 0.985
Unicode::UCD : 0.51
attributes : 0.21
TAP::Harness : 3.26
B : 1.42
Pod::Select : 1.60
Text::Abbrev : 1.02
CatalystX::InjectComponent : 0.025
JSON::XS : 2.33
Module::Load::Conditional : 0.54
Dist::Zilla::Role::InstallTool : 4.300034
Error : 0.17020
Encode : 2.49
Compress::Zlib : 2.060
Capture::Tiny : 0.22
Dist::Zilla::Role::TextTemplate : 4.300034
Unicode::Normalize : 1.16
Storable : 2.41
Test::NoTabs : 1.3
Config::MVP::Reader::Finder : 2.200003
Pod::Elemental::Transformer : 0.102362
Text::CSV_XS : 0.97
IPC::Cmd : 0.80
Test::use::ok : 0.11
CPAN::Testers::Report : 1.999001
Tie::Array : 1.05
Sys::Syslog : 0.32
App::pmodinfo : 0.10
Catalyst::ClassData :
Module::Signature : 0.70
Sub::Exporter::ForMethods : 0.100050
App::cpantimes : 1.502101
Package::DeprecationManager : 0.13
Module::Build::Tiny : 0.019
Env : 1.04
File::Spec::Functions : 3.40
CPAN::Meta::Converter : 2.120921
DateTime::TimeZone : 1.59
Pod::Find : 1.60
Data::Printer::Filter :
HTML::HeadParser : 3.71
HTML::Tree : 5.03
Class::Load : 0.20
Params::Check : 0.36
Module::Install : 1.06
Devel::InnerPackage : 0.4
ExtUtils::MakeMaker::Config : 6.66
Plack : 1.0024
Term::UI : 0.34
File::Compare : 1.1006
Lexical::Persistence : 1.020
namespace::autoclean : 0.13
URI::QueryParam :
Config::Perl::V : 0.17
File::Copy::Recursive : 0.38
Params::Util : 1.07
bigint : 0.34
Pod::Elemental::Transformer::Nester : 0.102362
Test::Differences : 0.61
Moose::Util::TypeConstraints : 2.0802
Test::Trap : 0.2.2
HTTP::Request::Common : 6.04
Mixin::Linewise::Writers : 0.003
LWP::Simple : 6.00
Sort::Versions : 1.5
Term::ANSIColor : 4.02
B::Keywords : 1.13
Path::Tiny : 0.020
MooseX::Getopt : 0.56
HTTP::Headers : 6.05
Catalyst::Component::InstancePerContext : 0.001001
Test::Builder::Tester : 1.22
DateTime::Duration : 1.03
PPI::Token::Quote::Single : 1.215
IO::Zlib : 1.10
Text::Wrap : 2012.0818
Tie::Scalar : 1.02
CPAN::Meta : 2.130880
Try::Tiny : 0.12
Filter::Simple : 0.89
DynaLoader : 1.18
MooseX::Role::Parameterized : 1.00
Digest : 1.17
CPAN::Meta::Validator : 2.120921
HTTP::Request : 6.00
LWP::UserAgent : 6.05
Hash::Util : 0.16
HTTP::Date : 6.02
MooseX::Types::Perl : 0.101341
Devel::StackTrace : 1.30
Catalyst::ActionRole::ACL : 0.07
File::Find::Rule : 0.33
Memoize : 1.03
Pod::Simple::HTML : 3.28
ExtUtils::InstallPaths : 0.009
Pod::Elemental::Element::Pod5::Ordinary : 0.102362
Log::Message::Simple : 0.10
Config::MVP : 2.200003
YAML::Any : 0.84
Text::Glob : 0.09
IO::Socket : 1.36
Moose : 2.0802
Sub::Identify : 0.04
Pod::Simple::Text : 3.28
Scope::Guard : 0.20
Mouse : 1.11
Package::Constants : 0.02
Class::XSAccessor : 1.16
Data::Float : 0.012
Lingua::EN::Inflect : 1.895
Dist::Zilla::Role::AfterRelease : 4.300034
Pod::Text : 3.17
Dist::Zilla::Plugin::MetaResources : 4.300034
open : 1.10
File::Path : 2.09
MooseX::Types::Path::Class : 0.06
IPC::Open3 : 1.13
Archive::Extract : 0.68
DBIx::Class : 0.08250
Class::Accessor::Chained::Fast :
App::Cmd::Setup : 0.320
Config::MVP::Reader::Findable::ByExtension : 2.200003
Regexp::Common : 2013031301
Devel::Symdump : 2.10
Test::Script : 1.07
FindBin : 1.51
Catalyst::Model :
Exporter : 5.68
Module::Pluggable::Object : 4.6
ExtUtils::Helpers : 0.021
Perl6::Junction : 1.50000
Acme::Damn : 0.05
Bash::Completion::Utils : 0.008
Cairo : 1.103
MooseX::MethodAttributes : 0.28
Params::Validate : 1.07
IO::Dir : 1.10
HTML::TokeParser : 3.69
ExtUtils::CBuilder : 0.280210
Dist::Zilla::Role::FilePruner : 4.300034
locale : 1.02
List::MoreUtils : 0.33
Archive::Tar : 1.90
Software::License::Perl_5 : 0.103005
Dist::Zilla::Role::VersionProvider : 4.300034
Module::Loaded : 0.08
Graphics::ColorNames : 2.11
Moose::Meta::Class : 2.0802
Pod::Parser : 1.60
MooseX::Storage::Deferred : 0.33
B::Deparse : 1.20
Authen::SASL : 2.16
CPAN::DistnameInfo : 0.12
Catalyst::Plugin::Session::Store::File : 0.18
parent : 0.225
PPI : 1.215
aliased : 0.31
App::p : 0.0304
SelectSaver : 1.02
Moose::Meta::Attribute : 2.0802
HTTP::Request::AsCGI : 1.2
Module::Find : 0.11
HTTP::Message::PSGI :
Devel::Caller : 2.06
Module::CoreList : 2.90
Test::DZil : 4.300034
Dist::Zilla : 4.300034
warnings : 1.18
Sys::SigAction : 0.15
Test : 1.26
Perl::Critic::Policy : 1.118
Digest::SHA1 : 2.13
warnings::register : 1.02
B::Lint : 1.17
utf8::all : 0.010
Test::Fatal : 0.010
MooseX::Emulate::Class::Accessor::Fast : 0.00903
Pod::Elemental::Types : 0.102362
Mixin::Linewise::Readers : 0.003
File::Spec : 3.40
Cache::Cache : 1.06
Plack::Request : 1.0024
String::Flogger : 1.101243
MIME::Base64 : 3.13
ExtUtils::Config : 0.007
Role::Tiny::With :
XML::LibXML : 2.0018
Config::Any::YAML :
Dist::Zilla::Role::FileFinderUser : 4.300034
Dist::Zilla::Role::AfterBuild : 4.300034
Dist::Zilla::Role::PluginBundle::Easy : 4.300034
LWP::Protocol : 6.00
Dist::Zilla::Role::PluginBundle : 4.300034
Moose::Util : 2.0802
Class::MOP : 2.0802
File::HomeDir::Test : 1.00
UNIVERSAL::isa : 1.20120726
Data::Dumper : 2.145
File::ShareDir : 1.03
Locale::Maketext : 1.23
Class::ErrorHandler : 0.02
Dist::Zilla::Role::Releaser : 4.300034
App::Cmd::Tester::CaptureExternal : 0.320
Text::Diff : 1.41
lib : 0.63
Test::Warn : 0.24
Symbol : 1.07
ExtUtils::PkgConfig : 1.14
File::ShareDir::Install : 0.04
Devel::PPPort : 3.20
Event : 1.21
Test::Version : 1.002001
Getopt::Std : 1.07
Params::Classify : 0.013
Object::Signature : 1.07
String::RewritePrefix : 0.006
Class::Loader : 2.03
Pod::Eventual::Simple : 0.093330
FileHandle : 2.02
Crypt::DSA : 1.17
Config::Any : 0.23
App::CLI : 0.313
Clone : 0.34
XSLoader : 0.16
ExtUtils::ParseXS : 3.18
B::Hooks::EndOfScope : 0.12
charnames : 1.36
File::Which : 1.09
Pod::Elemental::Element::Pod5::Region : 0.102362
MIME::Types : 1.38
Sub::Quote :
Crypt::Random : 1.25
Archive::Zip : 1.30
Date::Parse : 2.30
Carp : 1.29
UNIVERSAL::require : 0.13
NEXT : 0.65
Data::GUID : 0.046
Crypt::CAST5_PP : 1.04
App::cpanoutdated : 0.28
PPI::Dumper : 1.215
Test::Exception : 0.32
Net::Domain : 2.20
Getopt::Long::Descriptive : 0.093
PPI::Token::Whitespace : 1.215
Dist::CheckConflicts : 0.02
vars : 1.03
Dist::Zilla::Role::FileGatherer : 4.300034
DirHandle : 1.04
common::sense : 3.6
strictures : 1.004004
App::Cmd::Tester : 0.320
Safe : 2.35
Archive::Any : 0.0932
MooseX::Types::Moose : 0.35
Digest::base : 1.16
Moose::Role : 2.0802
PadWalker : 1.96
Text::Unidecode : 0.04
Config::MVP::Assembler : 2.200003
base : 2.18
Class::Data::Inheritable : 0.08
B::Debug : 1.18
PPI::Document::File : 1.215
Dist::Zilla::Tester : 4.300034
strict : 1.07
Email::Address : 1.898
CatalystX::Component::Traits : 0.16
Pod::Simple::Checker : 3.28
Perl::PrereqScanner : 1.015
Pod::Man : 2.27
Dist::Zilla::Plugin::InlineFiles : 4.300034
Class::XSAccessor::Array : 1.14
CPAN::Meta::YAML : 0.008
Test::CPAN::Changes : 0.20
Log::Dispatchouli : 2.006
Config::MVP::Reader : 2.200003
DBIx::Class::Schema::Loader : 0.07035
Fcntl : 1.11
Readonly : 1.03
Data::UUID : 1.218
Dist::Zilla::Plugin::PodSyntaxTests : 4.300034
feature : 1.32
XML::NamespaceSupport : 1.11
IPC::Run : 0.92
IO::File : 1.16
Data::Visitor : 0.28
SQL::Translator : 0.11016
Catalyst::Plugin::Session::State::Cookie : 0.17
Pod::Elemental::Element::Pod5::Verbatim : 0.102362
threads : 1.86
Class::Method::Modifiers : 2.04
Module::Pluggable : 4.7
ExtUtils::Installed : 1.999003
OLE::Storage_Lite : 0.19
Test::NoWarnings : 1.04
diagnostics : 1.31
MooX::Types::MooseLike : 0.23
Apache::LogFormat::Compiler : 0.12
MooX::Types::MooseLike::Base : 0.23
AnyEvent::Net::Curl::Queued : 0.045
Compress::Raw::Bzip2 : 2.060
Test::TCP : 1.26
MooseX::Types::Common : 0.001008
YAML : 0.84
File::chdir : 0.1008
Pod::Weaver : 3.101638
Text::Patch : 1.8
Pod::Escapes : 1.04
Digest::MD5 : 2.52
Module::Metadata : 1.000011
File::Remove : 1.52
IO::Seekable : 1.10
Sub::Exporter::Progressive : 0.001010
English : 1.06
Date::Format : 2.24
List::AllUtils : 0.03
Package::Stash::XS : 0.26
Carp::Assert::More : 1.14
File::HomeDir : 1.00
HTTP::Status : 6.03
Devel::GlobalDestruction : 0.11
B::Hooks::OP::Check : 0.19
Compress::Raw::Zlib : 2.060
PPI::Document::Fragment : 1.215
Pod::Elemental::Element::Nested : 0.102362
AutoLoader : 5.73
Data::Printer : 0.35
Data::Dumper::Concise : 2.020
Module::Implementation : 0.06
Sub::Install : 0.926
Dist::Zilla::Plugin::MetaTests : 4.300034
PerlIO : 1.07
Sub::Uplevel : 0.24
Catalyst::Plugin::Session : 0.37
Perl::MinimumVersion : 1.32
MRO::Compat : 0.12
Dist::Zilla::Role::AfterMint : 4.300034
UNIVERSAL : 1.11
Filter::Util::Call : 1.45
Log::Log4perl : 1.41
Test::Moose : 2.0802
File::Find::Rule::Perl : 1.13
CGI::Simple::Cookie : 1.113
Test::Output : 1.01
HTML::Tagset : 3.20
HTTP::Tiny : 0.025
Path::Class : 0.32
Array::Diff : 0.07
File::Basename : 2.84
integer : 1.00
constant : 1.27
Hash::Merge : 0.12
DBD::SQLite : 1.37
utf8 : 1.10
Throwable::Error : 0.200008
Math::Trig : 1.23
URI::file : 4.21
Net::SMTP : 2.31
Time::Local : 1.2300
Moose::Util::MetaRole : 2.0802
DateTime : 1.03
namespace::clean : 0.24
URI::URL : 5.04
HTTP::Response : 6.04
Tie::IxHash : 1.23
Cache::FastMmap : 1.40
Moo::Role :
Tie::RefHash : 1.39
Catalyst::Action :
CPAN : 2.00
IO::Scalar : 2.110
Devel::Peek : 1.11
Pod::Coverage : 0.23
Time::Piece : 1.20_01
List::Util : 1.27
Text::Balanced : 2.02
Catalyst : 5.90030
blib : 1.06
Test::More : 0.98
Test Output :
PERL_DL_NONLAZY=1 /Users/stas/perl5/perlbrew/perls/perl-5.18.0-RC2/bin/perl "-MExtUtils::Command::MM" "-e" "test_harness(0, 'blib/lib', 'blib/arch')" t/*.t
t/0_pod.t .................... ok
t/1_load.t ................... ok
# DST ends, Day is 25 hours long
# DST starts, Day is 23 hours long
# Leap Second adds an extra second to one of the minutes.
t/2_fmt_normalise.t .......... ok
t/3_fmt_normalise_iso.t ...... ok
t/4_fmt_normalise_no_base.t .. ok
t/5_fmt_no_normalise.t ....... ok
# Individual Components
# Group Components
t/6_parse.t .................. ok
t/7_misc.t ................... ok
t/8_negatives.t .............. ok
All tests successful.
Files=9, Tests=211, 2 wallclock secs ( 0.08 usr 0.03 sys + 1.31 cusr 0.15 csys = 1.57 CPU)
Result: PASS
--
Summary of my perl5 (revision 5 version 18 subversion 0) configuration:
Platform:
osname=darwin, osvers=12.3.0, archname=darwin-2level
uname='darwin stanislaws-macbook-pro.local 12.3.0 darwin kernel version 12.3.0: sun jan 6 22:37:10 pst 2013; root:xnu-2050.22.13~1release_x86_64 x86_64 '
config_args='-de -Dprefix=/Users/stas/perl5/perlbrew/perls/perl-5.18.0-RC2 -Aeval:scriptdir=/Users/stas/perl5/perlbrew/perls/perl-5.18.0-RC2/bin'
hint=recommended, useposix=true, d_sigaction=define
useithreads=undef, usemultiplicity=undef
useperlio=define, d_sfio=undef, uselargefiles=define, usesocks=undef
use64bitint=define, use64bitall=define, uselongdouble=undef
usemymalloc=n, bincompat5005=undef
Compiler:
cc='cc', ccflags ='-fno-common -DPERL_DARWIN -fno-strict-aliasing -pipe -fstack-protector -I/opt/local/include',
optimize='-O3',
cppflags='-fno-common -DPERL_DARWIN -fno-strict-aliasing -pipe -fstack-protector -I/opt/local/include'
ccversion='', gccversion='4.2.1 Compatible Apple Clang 4.0 ((tags/Apple/clang-421.0.60))', gccosandvers=''
intsize=4, longsize=8, ptrsize=8, doublesize=8, byteorder=12345678
d_longlong=define, longlongsize=8, d_longdbl=define, longdblsize=16
ivtype='long', ivsize=8, nvtype='double', nvsize=8, Off_t='off_t', lseeksize=8
alignbytes=8, prototype=define
Linker and Libraries:
ld='env MACOSX_DEPLOYMENT_TARGET=10.3 cc', ldflags =' -fstack-protector -L/opt/local/lib'
libpth=/opt/local/lib /usr/lib
libs=-lgdbm -ldbm -ldl -lm -lutil -lc
perllibs=-ldl -lm -lutil -lc
libc=, so=dylib, useshrplib=false, libperl=libperl.a
gnulibc_version=''
Dynamic Linking:
dlsrc=dl_dlopen.xs, dlext=bundle, d_dlsymun=undef, ccdlflags=' '
cccdlflags=' ', lddlflags=' -bundle -undefined dynamic_lookup -L/opt/local/lib -fstack-protector'
Characteristics of this binary (from libperl):
Compile-time options: HAS_TIMES PERLIO_LAYERS PERL_DONT_CREATE_GVSV
PERL_HASH_FUNC_ONE_AT_A_TIME_HARD PERL_MALLOC_WRAP
PERL_PRESERVE_IVUV PERL_SAWAMPERSAND USE_64_BIT_ALL
USE_64_BIT_INT USE_LARGE_FILES USE_LOCALE
USE_LOCALE_COLLATE USE_LOCALE_CTYPE
USE_LOCALE_NUMERIC USE_PERLIO USE_PERL_ATOF
Locally applied patches:
RC2
Built under darwin
Compiled at May 13 2013 08:56:17
%ENV:
PERLBREW_BASHRC_VERSION="0.63"
PERLBREW_HOME="/Users/stas/.perlbrew"
PERLBREW_MANPATH="/Users/stas/perl5/perlbrew/perls/perl-5.18.0-RC2/man"
PERLBREW_PATH="/Users/stas/perl5/perlbrew/bin:/Users/stas/perl5/perlbrew/perls/perl-5.18.0-RC2/bin"
PERLBREW_PERL="perl-5.18.0-RC2"
PERLBREW_ROOT="/Users/stas/perl5/perlbrew"
PERLBREW_VERSION="0.63"
PERL_MM_USE_DEFAULT="1"
@INC:
/Users/stas/perl5/perlbrew/perls/perl-5.18.0-RC2/lib/site_perl/5.18.0/darwin-2level
/Users/stas/perl5/perlbrew/perls/perl-5.18.0-RC2/lib/site_perl/5.18.0
/Users/stas/perl5/perlbrew/perls/perl-5.18.0-RC2/lib/5.18.0/darwin-2level
/Users/stas/perl5/perlbrew/perls/perl-5.18.0-RC2/lib/5.18.0
.