libwww-perl v6.77 Perl 5 v5.38.2 x86_64-linux-thread-multi

Status
Pass
From
Nick Alcock
Dist
libwww-perl v6.77
Platform
Perl 5 v5.38.2 x86_64-linux-thread-multi
Date
2024-07-06 17:22:09
ID
46465134-3bbc-11ef-9efa-5a9e066d7b4c
This distribution has been tested as part of the CPAN Testers
project, supporting the Perl programming language.  See
http://wiki.cpantesters.org/ for more information or email
questions to cpan-testers-discuss@perl.org


--
Dear Olaf Alders,

This is a computer-generated report for libwww-perl-6.77
on perl 5.38.2, created by CPAN-Reporter-1.2019.

Thank you for uploading your work to CPAN.  Congratulations!
All tests were successful.

Sections of this report:

    * Tester comments
    * Program output
    * Prerequisites
    * Environment and other context

------------------------------
TESTER COMMENTS
------------------------------

Additional comments from tester:

none provided

------------------------------
PROGRAM OUTPUT
------------------------------

Output from '/usr/bin/make test':

PERL_DL_NONLAZY=1 "/pkg/perl/5.38.2-8/usr/bin/perl" "-MExtUtils::Command::MM" "-MTest::Harness" "-e" "undef *Test::Harness::Switches; test_harness(0, 'blib/lib', 'blib/arch')" t/*.t t/base/*.t t/base/protocols/*.t t/leak/*.t t/local/*.t t/robot/*.t
# 
# Versions for all modules listed in MYMETA.json (including optional ones):
# 
# === Configure Requires ===
# 
#     Module              Want Have
#     ------------------- ---- ----
#     ExtUtils::MakeMaker  any 7.70
#     File::Copy           any 2.41
#     Getopt::Long         any 2.58
# 
# === Configure Suggests ===
# 
#     Module      Want Have
#     -------- ------- ----
#     JSON::PP 2.27300 4.16
# 
# === Build Requires ===
# 
#     Module              Want Have
#     ------------------- ---- ----
#     ExtUtils::MakeMaker  any 7.70
# 
# === Test Requires ===
# 
#     Module                 Want     Have
#     ---------------------- ---- --------
#     ExtUtils::MakeMaker     any     7.70
#     File::Spec              any     3.88
#     FindBin                 any     1.54
#     HTTP::CookieJar::LWP    any    0.014
#     HTTP::Daemon           6.12     6.16
#     Test::Fatal             any    0.017
#     Test::More             0.96 1.302199
#     Test::Needs             any 0.002010
#     Test::RequiresInternet  any     0.05
# 
# === Test Recommends ===
# 
#     Module              Want     Have
#     --------------- -------- --------
#     CPAN::Meta      2.120900 2.150010
#     Test::LeakTrace      any     0.17
# 
# === Runtime Requires ===
# 
#     Module                    Want     Have
#     --------------------- -------- --------
#     Digest::MD5                any     2.59
#     Encode                    2.12     3.21
#     Encode::Locale             any     1.05
#     File::Copy                 any     2.41
#     File::Listing                6     6.16
#     File::Temp                 any   0.2311
#     Getopt::Long               any     2.58
#     HTML::Entities             any     3.82
#     HTML::HeadParser          3.71     3.82
#     HTTP::Cookies                6     6.11
#     HTTP::Date                   6     6.06
#     HTTP::Negotiate              6     6.01
#     HTTP::Request             6.18     6.46
#     HTTP::Request::Common     6.18     6.46
#     HTTP::Response            6.18     6.46
#     HTTP::Status              6.18     6.46
#     IO::Select                 any     1.55
#     IO::Socket                 any     1.55
#     LWP::MediaTypes              6     6.04
#     MIME::Base64               2.1  3.16_01
#     Module::Load               any     0.36
#     Net::FTP                  2.58     3.15
#     Net::HTTP                 6.18     6.23
#     Scalar::Util               any     1.63
#     Try::Tiny                  any     0.31
#     URI                       1.10     5.28
#     URI::Escape                any     5.28
#     WWW::RobotRules              6     6.02
#     parent                   0.217    0.241
#     perl                  5.008001 5.038002
#     strict                     any     1.12
#     warnings                   any     1.65
# 
# === Runtime Suggests ===
# 
#     Module               Want    Have
#     -------------------- ---- -------
#     Authen::NTLM         1.02 missing
#     Data::Dump           1.13    1.25
#     IO::Socket::INET      any    1.55
#     LWP::Protocol::https 6.02    6.14
# 
t/00-report-prereqs.t .......... ok
t/10-attrs.t ................... ok
t/base/default_content_type.t .. ok
t/base/protocols.t ............. ok
t/base/protocols/nntp.t ........ skipped: nntp.perl.org is unstable and Test::RequiresInternet is not catching it
t/base/proxy.t ................. ok
t/base/proxy_request.t ......... ok
t/base/simple.t ................ ok
t/base/ua.t .................... ok
t/base/ua_handlers.t ........... ok
t/leak/no_leak.t ............... ok
t/local/autoload-get.t ......... ok
t/local/autoload.t ............. ok
t/local/cookie_jar.t ........... ok
t/local/download_to_fh.t ....... ok
t/local/get.t .................. ok
t/local/http.t ................. ok
t/local/httpsub.t .............. ok
t/local/protosub.t ............. ok
t/redirect.t ................... ok
t/robot/ua-get.t ............... ok
t/robot/ua.t ................... ok
All tests successful.
Files=22, Tests=317, 27 wallclock secs ( 0.11 usr  0.03 sys +  3.13 cusr  0.30 csys =  3.57 CPU)
Result: PASS

------------------------------
PREREQUISITES
------------------------------

Prerequisite modules loaded:

requires:

    Module                 Need     Have    
    ---------------------- -------- --------
    Digest::MD5            0        2.59    
    Encode                 2.12     3.21    
    Encode::Locale         0        1.05    
    File::Copy             0        2.41    
    File::Listing          6        6.16    
    File::Temp             0        0.2311  
    Getopt::Long           0        2.58    
    HTML::Entities         0        3.82    
    HTML::HeadParser       3.71     3.82    
    HTTP::Cookies          6        6.11    
    HTTP::Date             6        6.06    
    HTTP::Negotiate        6        6.01    
    HTTP::Request          6.18     6.46    
    HTTP::Request::Common  6.18     6.46    
    HTTP::Response         6.18     6.46    
    HTTP::Status           6.18     6.46    
    IO::Select             0        1.55    
    IO::Socket             0        1.55    
    LWP::MediaTypes        6        6.04    
    MIME::Base64           2.1      3.16_01 
    Module::Load           0        0.36    
    Net::FTP               2.58     3.15    
    Net::HTTP              6.18     6.23    
    parent                 0.217    0.241   
    perl                   5.008001 5.038002
    Scalar::Util           0        1.63    
    strict                 0        1.12    
    Try::Tiny              0        0.31    
    URI                    1.10     5.28    
    URI::Escape            0        5.28    
    warnings               0        1.65    
    WWW::RobotRules        6        6.02    

build_requires:

    Module                 Need     Have    
    ---------------------- -------- --------
    ExtUtils::MakeMaker    0        7.70    
    File::Spec             0        3.88    
    FindBin                0        1.54    
    HTTP::CookieJar::LWP   0        0.014   
    HTTP::Daemon           6.12     6.16    
    Test::Fatal            0        0.017   
    Test::More             0.96     1.302199
    Test::Needs            0        0.002010
    Test::RequiresInternet 0        0.05    

configure_requires:

    Module                 Need     Have    
    ---------------------- -------- --------
    ExtUtils::MakeMaker    0        7.70    
    File::Copy             0        2.41    
    Getopt::Long           0        2.58    

opt_build_requires:

    Module                 Need     Have    
    ---------------------- -------- --------
    CPAN::Meta             2.120900 2.150010
    Test::LeakTrace        0        0.17    


------------------------------
ENVIRONMENT AND OTHER CONTEXT
------------------------------

Environment variables:

    LANG = en_GB.UTF-8
    LC_COLLATE = C
    PATH = /root/bin:/root/bin:/usr/bin:/bin:/usr/sbin:/sbin:/usr/games
    PERL5LIB = 
    PERL5OPT = 
    PERL5_CPANPLUS_IS_RUNNING = 134486
    PERL5_CPAN_IS_RUNNING = 134486
    PERL_USE_UNSAFE_INC = 1
    SHELL = /bin/bash
    TERM = vte

Perl special variables (and OS-specific diagnostics, for MSWin32):

    $^X = /pkg/perl/5.38.2-8/usr/bin/perl
    $UID/$EUID = 0 / 0
    $GID = 0 0 1 2 3 4 6 10 11 16 25 72 73 80 81 88
    $EGID = 0 0 1 2 3 4 6 10 11 16 25 72 73 80 81 88

Perl module toolchain versions installed:

    Module              Have    
    ------------------- --------
    CPAN                2.36    
    CPAN::Meta          2.150010
    Cwd                 3.89    
    ExtUtils::CBuilder  0.280238
    ExtUtils::Command   7.70    
    ExtUtils::Install   2.22    
    ExtUtils::MakeMaker 7.70    
    ExtUtils::Manifest  1.75    
    ExtUtils::ParseXS   3.51    
    File::Spec          3.88    
    JSON                4.10    
    JSON::PP            4.16    
    Module::Build       0.4234  
    Module::Signature   0.88    
    Parse::CPAN::Meta   2.150010
    Test2               1.302199
    Test::Harness       3.48    
    Test::More          1.302199
    YAML                1.31    
    YAML::Syck          1.34    
    version             0.9932  


--

Summary of my perl5 (revision 5 version 38 subversion 2) configuration:
  Local Commit: 4e7e1e2d315aa9e0c529809cfbca40612e87551d
  Ancestor: 55dd2f792ffc8cefe614350a411f785374281b24
  Platform:
    osname=linux
    osvers=5.16.19-00037-ge8dfda4e77fb-dirty
    archname=x86_64-linux-thread-multi
    uname='linux loom 5.16.19-00037-ge8dfda4e77fb-dirty #1 smp sun apr 10 17:06:19 bst 2022 x86_64 gnulinux '
    config_args='-d -e -Duseithreads -D privlib=/usr/lib/perl5/5.38 -D sitelib=/usr/lib/perl5/site_perl/5.38 -D optimize=-gdwarf-4 -feliminate-unused-debug-types -fvar-tracking-assignments -O2 -pipe '
    hint=recommended
    useposix=true
    d_sigaction=define
    useithreads=define
    usemultiplicity=define
    use64bitint=define
    use64bitall=define
    uselongdouble=undef
    usemymalloc=n
    default_inc_excludes_dot=define
  Compiler:
    cc='gcc'
    ccflags ='-D_REENTRANT -D_GNU_SOURCE -D_REENTRANT -D_GNU_SOURCE -g -fno-strict-aliasing -D_LARGEFILE_SOURCE -D_FILE_OFFSET_BITS=64 -pipe -fstack-protector-strong -fwrapv -feliminate-unused-debug-types -fvar-tracking-assignments -fstack-clash-protection -fno-lto -D_LARGEFILE_SOURCE -D_FILE_OFFSET_BITS=64 -D_FORTIFY_SOURCE=2'
    optimize='-gdwarf-4 -feliminate-unused-debug-types -fvar-tracking-assignments -O2 -pipe '
    cppflags='-D_REENTRANT -D_GNU_SOURCE -D_REENTRANT -D_GNU_SOURCE -g -fno-strict-aliasing -D_LARGEFILE_SOURCE -D_FILE_OFFSET_BITS=64 -pipe -fstack-protector-strong -fwrapv -feliminate-unused-debug-types -fvar-tracking-assignments -fstack-clash-protection -fno-lto'
    ccversion=''
    gccversion='13.2.1 20240111'
    gccosandvers=''
    intsize=4
    longsize=8
    ptrsize=8
    doublesize=8
    byteorder=12345678
    doublekind=3
    d_longlong=define
    longlongsize=8
    d_longdbl=define
    longdblsize=16
    longdblkind=3
    ivtype='long'
    ivsize=8
    nvtype='double'
    nvsize=8
    Off_t='off_t'
    lseeksize=8
    alignbytes=8
    prototype=define
  Linker and Libraries:
    ld='gcc'
    ldflags ='-Wl,--enable-new-dtags -fstack-protector-strong -L/usr/local/lib'
    libpth=/usr/lib /lib /usr/local/lib
    libs=-lpthread -lgdbm -ldb -ldl -lm -lcrypt -lutil -lc -lgdbm_compat
    perllibs=-lpthread -ldl -lm -lcrypt -lutil -lc
    libc=libc-2.33.so
    so=so
    useshrplib=true
    libperl=libperl.so
    gnulibc_version='2.33'
  Dynamic Linking:
    dlsrc=dl_dlopen.xs
    dlext=so
    d_dlsymun=undef
    ccdlflags='-Wl,-E -Wl,-rpath,/usr/lib/perl5/5.38/x86_64-linux-thread-multi/CORE'
    cccdlflags='-fPIC'
    lddlflags='-shared -gdwarf-4 -feliminate-unused-debug-types -fvar-tracking-assignments -O2 -pipe  -L/usr/local/lib -fstack-protector-strong'


Characteristics of this binary (from libperl): 
  Compile-time options:
    HAS_LONG_DOUBLE
    HAS_STRTOLD
    HAS_TIMES
    MULTIPLICITY
    PERLIO_LAYERS
    PERL_COPY_ON_WRITE
    PERL_DONT_CREATE_GVSV
    PERL_HASH_FUNC_SIPHASH13
    PERL_HASH_USE_SBOX32
    PERL_MALLOC_WRAP
    PERL_OP_PARENT
    PERL_PRESERVE_IVUV
    PERL_USE_SAFE_PUTENV
    USE_64_BIT_ALL
    USE_64_BIT_INT
    USE_ITHREADS
    USE_LARGE_FILES
    USE_LOCALE
    USE_LOCALE_COLLATE
    USE_LOCALE_CTYPE
    USE_LOCALE_NUMERIC
    USE_LOCALE_TIME
    USE_PERLIO
    USE_PERL_ATOF
    USE_REENTRANT_API
    USE_THREAD_SAFE_LOCALE
  Locally applied patches:
    440ca2056d69a7a4ee5735a973854d606ad58a59
    e88baa81b0929630b4302e895079ae51700fd670
    1c00e08d017f0f9e245af1fae3614718919c0e7e
    12704d06f1dd795de5c6be087661f2f52f6ce872
    3f697dcc057e3bb162377e64fb60131f977b638c
    f9ab820634e07af37b7f246a53f1eb2955e16da2
    f5c56b78ed5088f2c79397ee3cdf2ee213baae36
    4e7e1e2d315aa9e0c529809cfbca40612e87551d
  Built under linux
  Compiled at Mar 10 2024 12:20:54
  %ENV:
    PERL5LIB=""
    PERL5OPT=""
    PERL5_CPANPLUS_IS_RUNNING="134486"
    PERL5_CPAN_IS_RUNNING="134486"
    PERL_USE_UNSAFE_INC="1"
  @INC:
    /usr/lib/perl5/site_perl/5.38/x86_64-linux-thread-multi
    /usr/lib/perl5/site_perl/5.38
    /usr/lib/perl5/5.38/x86_64-linux-thread-multi
    /usr/lib/perl5/5.38
    .