Back
From: metabase:user:314402c4-2aae-11df-837a-5e0a49663a4f
Subject: PASS Web-Scraper-0.38 v5.22.3 RC5 FreeBSD
Date: 2017-01-06T07:53:56Z
This distribution has been tested as part of the CPAN Testers
project, supporting the Perl programming language. See
http://wiki.cpantesters.org/ for more information or email
questions to cpan-testers-discuss@perl.org
--
Dear Tatsuhiko Miyagawa,
This is a computer-generated report for Web-Scraper-0.38
on perl 5.22.3, created by CPAN-Reporter-1.2018.
Thank you for uploading your work to CPAN. Congratulations!
All tests were successful.
Sections of this report:
* Tester comments
* Program output
* Prerequisites
* Environment and other context
------------------------------
TESTER COMMENTS
------------------------------
Additional comments from tester:
none provided
------------------------------
PROGRAM OUTPUT
------------------------------
Output from './Build test':
t/00_compile.t .......... ok
t/01_process.t .......... ok
t/02_process_multi.t .... ok
t/03_scraper_nest.t ..... ok
t/04_callback.t ......... ok
t/05_process_first.t .... ok
t/06_define.t ........... ok
t/07-live.t ............. skipped: LIVE_TEST not enabled
t/08-leak.t ............. skipped: LEAK_TEST is not defined
t/09-process_hash.t ..... ok
t/11_absolute.t ......... ok
t/12_html.t ............. ok
t/13_textnode.t ......... ok
t/14_absolute_nested.t .. ok
t/15_absolute_hash.t .... ok
t/16_filter.t ........... ok
t/17_filter_loop.t ...... ok
t/18_http_response.t .... skipped: LIVE_TEST not enabled
t/19_decode_content.t ... skipped: LIVE_TEST not enabled
t/20_comment_nodes.t .... skipped: Please upgrade HTML::TreeBuilder::XPath and HTML::TreeBuilder::LibXML modules for comment nodes supporting
t/21_html5.t ............ ok
t/22_filter_regex.t ..... ok
t/redefine.t ............ ok
t/release-pod-syntax.t .. skipped: these tests are for release candidate testing
t/xml-simple.t .......... skipped: Test requires module 'HTML::TreeBuilder::LibXML' but it's not found
All tests successful.
Files=25, Tests=42, 3 wallclock secs ( 0.01 usr 0.12 sys + 1.55 cusr 0.32 csys = 2.00 CPU)
Result: PASS
------------------------------
PREREQUISITES
------------------------------
Prerequisite modules loaded:
requires:
Module Need Have
------------------------ -------- --------
HTML::Entities 0 3.69
HTML::Selector::XPath 0.03 0.20
HTML::Tagset 0 3.20
HTML::TreeBuilder 3.23 5.03
HTML::TreeBuilder::XPath 0.08 0.14
LWP 5.827 6.15
perl 5.008001 5.022003
Scalar::Util 0 1.47
UNIVERSAL::require 0 0.18
URI 0 1.71
XML::XPathEngine 0.08 0.14
YAML 0 1.21
build_requires:
Module Need Have
------------------------ -------- --------
ExtUtils::MakeMaker 6.59 7.04_02
Test::Base 0 0.88
Test::More 0 1.302073
Test::Requires 0 0.10
configure_requires:
Module Need Have
------------------------ -------- --------
Module::Build::Tiny 0.039 0.039
------------------------------
ENVIRONMENT AND OTHER CONTEXT
------------------------------
Environment variables:
LC_ALL = de_DE.ISO8859-1
PATH = /usr/local/bin:/usr/bin:/bin:/usr/local/sbin:/usr/sbin:/sbin:/home/cpansand/bin/freebsd10.1:/home/cpansand/bin/sh:/home/cpansand/bin:/usr/games:/home/cpansand/devel:/home/eserte/src/srezic-misc/scripts
PERL5LIB = /home/cpansand/.cpan/build/2017010606/LWP-Online-1.08-ELVxsl/blib/arch:/home/cpansand/.cpan/build/2017010606/LWP-Online-1.08-ELVxsl/blib/lib:/home/cpansand/.cpan/build/2017010606/HTML-TableExtract-2.13-ivKIcq/blib/arch:/home/cpansand/.cpan/build/2017010606/HTML-TableExtract-2.13-ivKIcq/blib/lib:/home/cpansand/.cpan/build/2017010606/HTML-Selector-XPath-0.20-fQitYL/blib/arch:/home/cpansand/.cpan/build/2017010606/HTML-Selector-XPath-0.20-fQitYL/blib/lib
PERL5OPT =
PERL5_CPANPLUS_IS_RUNNING = 53405
PERL5_CPAN_IS_RUNNING = 53405
PERL5_CPAN_IS_RUNNING_IN_RECURSION = 50672,53405
PERLDOC = -MPod::Perldoc::ToTextOverstrike
PERL_BATCH = yes
PERL_CANARY_STABILITY_NOPROMPT = 1
PERL_CPAN_REPORTER_CONFIG = /var/tmp/cpansmoker-1023/2017010606/cpanreporter_001_config.ini
PERL_EXTUTILS_AUTOINSTALL = --defaultdeps
SHELL = /usr/local/bin/zsh
TERM = screen
TMPDIR = /var/tmp/cpansmoker-1023/2017010606
Perl special variables (and OS-specific diagnostics, for MSWin32):
$^X = /usr/perl5.22.3-RC5p/bin/perl
$UID/$EUID = 1023 / 1023
$GID = 1023 1023
$EGID = 1023 1023
Perl module toolchain versions installed:
Module Have
------------------- ----------
CPAN 2.11_01
CPAN::Meta 2.150001
Cwd 3.56_02
ExtUtils::CBuilder 0.280221
ExtUtils::Command 1.20_01
ExtUtils::Install 2.04
ExtUtils::MakeMaker 7.04_02
ExtUtils::Manifest 1.70
ExtUtils::ParseXS 3.28
File::Spec 3.56_02
JSON 2.90
JSON::PP 2.27300_01
Module::Build 0.4220
Module::Signature n/a
Parse::CPAN::Meta 1.4414_001
Test::Harness 3.35_01
Test::More 1.302073
YAML 1.21
YAML::Syck 1.29
version 0.9909
--
Summary of my perl5 (revision 5 version 22 subversion 3) configuration:
Platform:
osname=freebsd, osvers=10.1-release, archname=amd64-freebsd
uname='freebsd cvrsnica-freebsd-101.herceg.de 10.1-release freebsd 10.1-release #0 r274401: tue nov 11 21:02:49 utc 2014 root@releng1.nyi.freebsd.org:usrobjusrsrcsysgeneric amd64 '
config_args='-ds -e -Dprefix=/usr/perl5.22.3-RC5p -Dcf_email=srezic@cpan.org -Doptimize=-O2 -pipe'
hint=recommended, useposix=true, d_sigaction=define
useithreads=undef, usemultiplicity=undef
use64bitint=define, use64bitall=define, uselongdouble=undef
usemymalloc=n, bincompat5005=undef
Compiler:
cc='cc', ccflags ='-DHAS_FPSETMASK -DHAS_FLOATINGPOINT_H -fno-strict-aliasing -pipe -fstack-protector -I/usr/local/include -D_FORTIFY_SOURCE=2',
optimize='-O2 -pipe',
cppflags='-DHAS_FPSETMASK -DHAS_FLOATINGPOINT_H -fno-strict-aliasing -pipe -fstack-protector -I/usr/local/include'
ccversion='', gccversion='4.2.1 Compatible FreeBSD Clang 3.4.1 (tags/RELEASE_34/dot1-final 208032)', gccosandvers=''
intsize=4, longsize=8, ptrsize=8, doublesize=8, byteorder=12345678, doublekind=3
d_longlong=define, longlongsize=8, d_longdbl=define, longdblsize=16, longdblkind=3
ivtype='long', ivsize=8, nvtype='double', nvsize=8, Off_t='off_t', lseeksize=8
alignbytes=8, prototype=define
Linker and Libraries:
ld='cc', ldflags ='-pthread -Wl,-E -fstack-protector -L/usr/local/lib'
libpth=/usr/lib /usr/local/lib /usr/include/clang/3.4.1 /usr/lib
libs=-lpthread -lgdbm -lm -lcrypt -lutil -lc
perllibs=-lpthread -lm -lcrypt -lutil -lc
libc=, so=so, useshrplib=false, libperl=libperl.a
gnulibc_version=''
Dynamic Linking:
dlsrc=dl_dlopen.xs, dlext=so, d_dlsymun=undef, ccdlflags=' '
cccdlflags='-DPIC -fPIC', lddlflags='-shared -L/usr/local/lib -fstack-protector'
Characteristics of this binary (from libperl):
Compile-time options: HAS_TIMES PERLIO_LAYERS PERL_DONT_CREATE_GVSV
PERL_HASH_FUNC_ONE_AT_A_TIME_HARD PERL_MALLOC_WRAP
PERL_NEW_COPY_ON_WRITE PERL_PRESERVE_IVUV
USE_64_BIT_ALL USE_64_BIT_INT USE_LARGE_FILES
USE_LOCALE USE_LOCALE_COLLATE USE_LOCALE_CTYPE
USE_LOCALE_NUMERIC USE_LOCALE_TIME USE_PERLIO
USE_PERL_ATOF
Locally applied patches:
RC5
Built under freebsd
Compiled at Jan 5 2017 20:36:31
%ENV:
PERL5LIB="/home/cpansand/.cpan/build/2017010606/LWP-Online-1.08-ELVxsl/blib/arch:/home/cpansand/.cpan/build/2017010606/LWP-Online-1.08-ELVxsl/blib/lib:/home/cpansand/.cpan/build/2017010606/HTML-TableExtract-2.13-ivKIcq/blib/arch:/home/cpansand/.cpan/build/2017010606/HTML-TableExtract-2.13-ivKIcq/blib/lib:/home/cpansand/.cpan/build/2017010606/HTML-Selector-XPath-0.20-fQitYL/blib/arch:/home/cpansand/.cpan/build/2017010606/HTML-Selector-XPath-0.20-fQitYL/blib/lib"
PERL5OPT=""
PERL5_CPANPLUS_IS_RUNNING="53405"
PERL5_CPAN_IS_RUNNING="53405"
PERL5_CPAN_IS_RUNNING_IN_RECURSION="50672,53405"
PERLDOC="-MPod::Perldoc::ToTextOverstrike"
PERL_BATCH="yes"
PERL_CANARY_STABILITY_NOPROMPT="1"
PERL_CPAN_REPORTER_CONFIG="/var/tmp/cpansmoker-1023/2017010606/cpanreporter_001_config.ini"
PERL_EXTUTILS_AUTOINSTALL="--defaultdeps"
@INC:
/home/cpansand/.cpan/build/2017010606/LWP-Online-1.08-ELVxsl/blib/arch
/home/cpansand/.cpan/build/2017010606/LWP-Online-1.08-ELVxsl/blib/lib
/home/cpansand/.cpan/build/2017010606/HTML-TableExtract-2.13-ivKIcq/blib/arch
/home/cpansand/.cpan/build/2017010606/HTML-TableExtract-2.13-ivKIcq/blib/lib
/home/cpansand/.cpan/build/2017010606/HTML-Selector-XPath-0.20-fQitYL/blib/arch
/home/cpansand/.cpan/build/2017010606/HTML-Selector-XPath-0.20-fQitYL/blib/lib
/usr/perl5.22.3-RC5p/lib/site_perl/5.22.3/amd64-freebsd
/usr/perl5.22.3-RC5p/lib/site_perl/5.22.3
/usr/perl5.22.3-RC5p/lib/5.22.3/amd64-freebsd
/usr/perl5.22.3-RC5p/lib/5.22.3
.