Back
From: metabase:user:30f0bd62-2aae-11df-837a-5e0a49663a4f
Subject: PASS Unicode-Japanese-0.49 v5.14.3 OpenBSD
Date: 2012-10-21T05:22:15Z
This distribution has been tested as part of the CPAN Testers
project, supporting the Perl programming language. See
http://wiki.cpantesters.org/ for more information or email
questions to cpan-testers-discuss@perl.org
--
Dear YAMASHINA Hio,
This is a computer-generated report for Unicode-Japanese-0.49
on perl 5.14.3, created by CPAN-Reporter-1.2006.
Thank you for uploading your work to CPAN. Congratulations!
All tests were successful.
Sections of this report:
* Tester comments
* Program output
* Prerequisites
* Environment and other context
------------------------------
TESTER COMMENTS
------------------------------
Additional comments from tester:
this report is from an automated smoke testing program
and was not reviewed by a human for accuracy
------------------------------
PROGRAM OUTPUT
------------------------------
Output from '/usr/bin/make test':
PERL_DL_NONLAZY=1 /home/sts/cpansmoke/perl-5.14.3/bin/perl "-MExtUtils::Command::MM" "-e" "test_harness(0, 'blib/lib', 'blib/arch')" t/*.t
t/0.loadxs.t .............. ok
# Testing Unicode::Japanese 0.49, Perl 5.014003, /usr/local/ymir/perl/bin/perl
t/00-load.t ............... ok
t/allchar_eucjp_sjis.t .... skipped: no ALLCHAR_TEST
t/allchar_sjis_eucjp.t .... skipped: no ALLCHAR_TEST
t/allchar_ucs4.t .......... skipped: no ALLCHAR_TEST
t/base.t .................. ok
t/emoji-imode-utf8.t ...... ok
t/emoji-jsky-chopped.t .... ok
t/emoji-jsky-utf8.t ....... ok
t/emoji.t ................. ok
t/fromutf8.t .............. ok
t/getcode.t ............... ok
t/hirakata.t .............. ok
t/illegal.t ............... ok
t/illlet.t ................ ok
t/jis.t ................... ok
t/outrange.t .............. ok
t/pod-coverage.t .......... skipped: Test::Pod::Coverage 1.04 required for testing POD coverage
t/pod.t ................... skipped: Test::Pod 1.14 required for testing POD
t/sjis_extras.t ........... ok
t/toutf8.t ................ ok
t/utf16.t ................. ok
t/utf8flag.t .............. ok
t/util.t .................. ok
t/v031_getcode_jiskana.t .. ok
t/v038_guess_imode2.t ..... ok
t/v041_sjisau.t ........... ok
t/v045_getcode_doti.t ..... ok
t/v045_imodexs.t .......... ok
t/v046_earlycall.t ........ ok
t/v048_xs_internal.t ...... ok
t/wavedash.t .............. ok
t/z2h.t ................... ok
All tests successful.
Files=33, Tests=2120, 6 wallclock secs ( 1.46 usr 0.35 sys + 3.93 cusr 0.96 csys = 6.70 CPU)
Result: PASS
------------------------------
PREREQUISITES
------------------------------
Prerequisite modules loaded:
build_requires:
Module Need Have
------------------- ---- ----
ExtUtils::MakeMaker 0 6.62
------------------------------
ENVIRONMENT AND OTHER CONTEXT
------------------------------
Environment variables:
AUTOMATED_TESTING = 1
PATH = /home/sts/bin:/bin:/sbin:/usr/bin:/usr/sbin:/usr/X11R6/bin:/usr/local/bin:/usr/local/sbin:/usr/games:.
PERL5LIB = /home/sts/cpansmoke/perl-5.14.3/cpan/build/YAML-0.84-XSqtam/blib/arch:/home/sts/cpansmoke/perl-5.14.3/cpan/build/YAML-0.84-XSqtam/blib/lib:/home/sts/cpansmoke/perl-5.14.3/cpan/build/IO-Compress-2.055-UvUpFO/blib/arch:/home/sts/cpansmoke/perl-5.14.3/cpan/build/IO-Compress-2.055-UvUpFO/blib/lib:/home/sts/cpansmoke/perl-5.14.3/cpan/build/Compress-Raw-Bzip2-2.055-cRjUnu/blib/arch:/home/sts/cpansmoke/perl-5.14.3/cpan/build/Compress-Raw-Bzip2-2.055-cRjUnu/blib/lib:/home/sts/cpansmoke/perl-5.14.3/cpan/build/Compress-Raw-Zlib-2.056-mYXMoG/blib/arch:/home/sts/cpansmoke/perl-5.14.3/cpan/build/Compress-Raw-Zlib-2.056-mYXMoG/blib/lib:/home/sts/cpansmoke/perl-5.14.3/cpan/build/ExtUtils-MakeMaker-6.62-ZTq6S3/blib/arch:/home/sts/cpansmoke/perl-5.14.3/cpan/build/ExtUtils-MakeMaker-6.62-ZTq6S3/blib/lib
PERL5OPT =
PERL5_CPANPLUS_IS_RUNNING = 5456
PERL5_CPAN_IS_RUNNING = 5456
PERL5_CPAN_IS_RUNNING_IN_RECURSION = 25771,5456
PERL_CR_SMOKER_CURRENT = Data-Petitcom-0.03
PERL_EXTUTILS_AUTOINSTALL = --defaultdeps
PERL_MM_USE_DEFAULT = 1
SHELL = /usr/local/bin/bash
TERM = screen
TMPDIR = /home/sts/cpansmoke/tmp
Perl special variables (and OS-specific diagnostics, for MSWin32):
$^X = /home/sts/cpansmoke/perl-5.14.3/bin/perl
$UID/$EUID = 1000 / 1000
$GID = 10 10 0
$EGID = 10 10 0
Perl module toolchain versions installed:
Module Have
------------------- --------
CPAN 1.9800
CPAN::Meta 2.112150
Cwd 3.36
ExtUtils::CBuilder 0.280203
ExtUtils::Command 1.17
ExtUtils::Install 1.56
ExtUtils::MakeMaker 6.62
ExtUtils::Manifest 1.58
ExtUtils::ParseXS 2.2210
File::Spec 3.33
JSON 2.53
JSON::PP 2.27105
Module::Build 0.3800
Module::Signature n/a
Parse::CPAN::Meta 1.4401
Test::Harness 3.23
Test::More 0.98
YAML 0.84
YAML::Syck n/a
version 0.88
--
Summary of my perl5 (revision 5 version 14 subversion 3) configuration:
Platform:
osname=openbsd, osvers=5.1, archname=OpenBSD.i386-openbsd-thread-multi
uname='openbsd cpansmoke5 5.1 generic.mp#188 i386 '
config_args='-des -Dusethreads -Dprefix=/home/sts/cpansmoke/perl-5.14.3'
hint=recommended, useposix=true, d_sigaction=define
useithreads=define, usemultiplicity=define
useperlio=define, d_sfio=undef, uselargefiles=define, usesocks=undef
use64bitint=undef, use64bitall=undef, uselongdouble=undef
usemymalloc=y, bincompat5005=undef
Compiler:
cc='cc', ccflags ='-pthread -fno-strict-aliasing -pipe -fstack-protector -I/usr/local/include',
optimize='-O2',
cppflags='-pthread -fno-strict-aliasing -pipe -fstack-protector -I/usr/local/include'
ccversion='', gccversion='4.2.1 20070719 ', gccosandvers='openbsd5.1'
intsize=4, longsize=4, ptrsize=4, doublesize=8, byteorder=1234
d_longlong=define, longlongsize=8, d_longdbl=define, longdblsize=12
ivtype='long', ivsize=4, nvtype='double', nvsize=8, Off_t='off_t', lseeksize=8
alignbytes=4, prototype=define
Linker and Libraries:
ld='cc', ldflags ='-pthread -Wl,-E -fstack-protector -L/usr/local/lib'
libpth=/usr/local/lib /usr/lib
libs=-lgdbm -lm -lutil -lc
perllibs=-lm -lutil -lc
libc=/usr/lib/libc.so.62.0, so=so, useshrplib=false, libperl=libperl.a
gnulibc_version=''
Dynamic Linking:
dlsrc=dl_dlopen.xs, dlext=so, d_dlsymun=undef, ccdlflags=' '
cccdlflags='-DPIC -fPIC ', lddlflags='-shared -fPIC -L/usr/local/lib -fstack-protector'
Characteristics of this binary (from libperl):
Compile-time options: MULTIPLICITY MYMALLOC PERL_DONT_CREATE_GVSV
PERL_IMPLICIT_CONTEXT PERL_MALLOC_WRAP
PERL_PRESERVE_IVUV USE_ITHREADS USE_LARGE_FILES
USE_PERLIO USE_PERL_ATOF USE_REENTRANT_API
Built under openbsd
Compiled at Oct 19 2012 22:43:11
%ENV:
PERL5LIB="/home/sts/cpansmoke/perl-5.14.3/cpan/build/YAML-0.84-XSqtam/blib/arch:/home/sts/cpansmoke/perl-5.14.3/cpan/build/YAML-0.84-XSqtam/blib/lib:/home/sts/cpansmoke/perl-5.14.3/cpan/build/IO-Compress-2.055-UvUpFO/blib/arch:/home/sts/cpansmoke/perl-5.14.3/cpan/build/IO-Compress-2.055-UvUpFO/blib/lib:/home/sts/cpansmoke/perl-5.14.3/cpan/build/Compress-Raw-Bzip2-2.055-cRjUnu/blib/arch:/home/sts/cpansmoke/perl-5.14.3/cpan/build/Compress-Raw-Bzip2-2.055-cRjUnu/blib/lib:/home/sts/cpansmoke/perl-5.14.3/cpan/build/Compress-Raw-Zlib-2.056-mYXMoG/blib/arch:/home/sts/cpansmoke/perl-5.14.3/cpan/build/Compress-Raw-Zlib-2.056-mYXMoG/blib/lib:/home/sts/cpansmoke/perl-5.14.3/cpan/build/ExtUtils-MakeMaker-6.62-ZTq6S3/blib/arch:/home/sts/cpansmoke/perl-5.14.3/cpan/build/ExtUtils-MakeMaker-6.62-ZTq6S3/blib/lib"
PERL5OPT=""
PERL5_CPANPLUS_IS_RUNNING="5456"
PERL5_CPAN_IS_RUNNING="5456"
PERL5_CPAN_IS_RUNNING_IN_RECURSION="25771,5456"
PERL_CR_SMOKER_CURRENT="Data-Petitcom-0.03"
PERL_EXTUTILS_AUTOINSTALL="--defaultdeps"
PERL_MM_USE_DEFAULT="1"
@INC:
/home/sts/cpansmoke/perl-5.14.3/cpan/build/YAML-0.84-XSqtam/blib/arch
/home/sts/cpansmoke/perl-5.14.3/cpan/build/YAML-0.84-XSqtam/blib/lib
/home/sts/cpansmoke/perl-5.14.3/cpan/build/IO-Compress-2.055-UvUpFO/blib/arch
/home/sts/cpansmoke/perl-5.14.3/cpan/build/IO-Compress-2.055-UvUpFO/blib/lib
/home/sts/cpansmoke/perl-5.14.3/cpan/build/Compress-Raw-Bzip2-2.055-cRjUnu/blib/arch
/home/sts/cpansmoke/perl-5.14.3/cpan/build/Compress-Raw-Bzip2-2.055-cRjUnu/blib/lib
/home/sts/cpansmoke/perl-5.14.3/cpan/build/Compress-Raw-Zlib-2.056-mYXMoG/blib/arch
/home/sts/cpansmoke/perl-5.14.3/cpan/build/Compress-Raw-Zlib-2.056-mYXMoG/blib/lib
/home/sts/cpansmoke/perl-5.14.3/cpan/build/ExtUtils-MakeMaker-6.62-ZTq6S3/blib/arch
/home/sts/cpansmoke/perl-5.14.3/cpan/build/ExtUtils-MakeMaker-6.62-ZTq6S3/blib/lib
/home/sts/cpansmoke/perl-5.14.3/lib/site_perl/5.14.3/OpenBSD.i386-openbsd-thread-multi
/home/sts/cpansmoke/perl-5.14.3/lib/site_perl/5.14.3
/home/sts/cpansmoke/perl-5.14.3/lib/5.14.3/OpenBSD.i386-openbsd-thread-multi
/home/sts/cpansmoke/perl-5.14.3/lib/5.14.3
.