MooseX-ClassAttribute v0.29 Perl 5 v5.31.4 amd64-netbsd

Status
Pass
From
Carlos Guevara
Dist
MooseX-ClassAttribute v0.29
Platform
Perl 5 v5.31.4 amd64-netbsd
Date
2019-08-25 05:50:43
ID
46cabea4-c6fc-11e9-9abf-d952c49f2d42
This distribution has been tested as part of the CPAN Testers
project, supporting the Perl programming language.  See
http://wiki.cpantesters.org/ for more information or email
questions to cpan-testers-discuss@perl.org


--
Dear Dave Rolsky,

This is a computer-generated report for MooseX-ClassAttribute-0.29
on perl 5.31.4, created by CPAN-Reporter-1.2018.

Thank you for uploading your work to CPAN.  Congratulations!
All tests were successful.

Sections of this report:

    * Tester comments
    * Program output
    * Prerequisites
    * Environment and other context

------------------------------
TESTER COMMENTS
------------------------------

Additional comments from tester:

none provided

------------------------------
PROGRAM OUTPUT
------------------------------

Output from '/usr/bin/make test':

PERL_DL_NONLAZY=1 "/home/cpan/bin/perl-blead/bin/perl5.31.4" "-MExtUtils::Command::MM" "-MTest::Harness" "-e" "undef *Test::Harness::Switches; test_harness(0, 'blib/lib', 'blib/arch')" t/*.t
# 
# Versions for all modules listed in MYMETA.json (including optional ones):
# 
# === Configure Requires ===
# 
#     Module              Want Have
#     ------------------- ---- ----
#     ExtUtils::MakeMaker  any 7.36
# 
# === Build Requires ===
# 
#     Module              Want Have
#     ------------------- ---- ----
#     ExtUtils::MakeMaker  any 7.36
# 
# === Test Requires ===
# 
#     Module              Want     Have
#     ------------------- ---- --------
#     ExtUtils::MakeMaker  any     7.36
#     File::Spec           any     3.78
#     Test::Fatal          any    0.014
#     Test::More          0.96 1.302167
#     Test::Requires      0.05     0.10
#     lib                  any     0.65
#     vars                 any     1.05
# 
# === Test Recommends ===
# 
#     Module         Want     Have
#     ---------- -------- --------
#     CPAN::Meta 2.120900 2.150010
# 
# === Runtime Requires ===
# 
#     Module                       Want   Have
#     ---------------------------- ---- ------
#     List::Util                   1.45   1.52
#     Moose                        2.00 2.2011
#     Moose::Exporter               any 2.2011
#     Moose::Meta::Role::Attribute  any 2.2011
#     Moose::Role                   any 2.2011
#     Moose::Util                   any 2.2011
#     Moose::Util::MetaRole         any 2.2011
#     Scalar::Util                  any   1.52
#     namespace::autoclean         0.11   0.28
#     namespace::clean             0.20   0.27
#     strict                        any   1.11
#     warnings                      any   1.45
# 
t/00-report-prereqs.t ..................... ok
t/01-basic.t .............................. ok
t/02-immutable.t .......................... ok
t/03-introspection.t ...................... ok
t/04-with-native-traits.t ................. ok
t/05-with-attribute-helpers-backcompat.t .. skipped: Test requires module 'MooseX::AttributeHelpers' but it's not found
t/06-role.t ............................... ok
t/07-parameterized-role.t ................. skipped: This test will not pass without changes to MooseX::Role::Parmeterized
t/08-role-composition.t ................... ok
t/09-bare-native-traits.t ................. ok
t/10-strict-role-composition.t ............ skipped: Test requires module 'MooseX::Role::Strict' but it's not found
t/11-moose-exporter.t ..................... skipped: This test fails with a syntax error
t/12-with-initializer.t ................... ok
All tests successful.
Files=13, Tests=178,  7 wallclock secs ( 0.10 usr  0.02 sys +  5.28 cusr  1.21 csys =  6.61 CPU)
Result: PASS

------------------------------
PREREQUISITES
------------------------------

Prerequisite modules loaded:

requires:

    Module                       Need Have    
    ---------------------------- ---- --------
    List::Util                   1.45 1.52    
    Moose                        2.00 2.2011  
    Moose::Exporter              0    2.2011  
    Moose::Meta::Role::Attribute 0    2.2011  
    Moose::Role                  0    2.2011  
    Moose::Util                  0    2.2011  
    Moose::Util::MetaRole        0    2.2011  
    namespace::autoclean         0.11 0.28    
    namespace::clean             0.20 0.27    
    Scalar::Util                 0    1.52    
    strict                       0    1.11    
    warnings                     0    1.45    

build_requires:

    Module                       Need Have    
    ---------------------------- ---- --------
    ExtUtils::MakeMaker          0    7.36    
    File::Spec                   0    3.78    
    lib                          0    0.65    
    Test::Fatal                  0    0.014   
    Test::More                   0.96 1.302167
    Test::Requires               0.05 0.10    
    vars                         0    1.05    

configure_requires:

    Module                       Need Have    
    ---------------------------- ---- --------
    ExtUtils::MakeMaker          0    7.36    


------------------------------
ENVIRONMENT AND OTHER CONTEXT
------------------------------

Environment variables:

    LC_ALL = C
    NONINTERACTIVE_TESTING = 1
    PATH = /home/cpan/bin/perl-blead/bin:/home/cpan/bin:/home/cpan/bin:/bin:/sbin:/usr/bin:/usr/sbin:/usr/X11R7/bin:/usr/pkg/bin:/usr/pkg/sbin:/usr/games:/usr/local/bin:/usr/local/sbin
    PERL5LIB = 
    PERL5OPT = 
    PERL5_CPANPLUS_IS_RUNNING = 23952
    PERL5_CPAN_IS_RUNNING = 23952
    PERL_MM_USE_DEFAULT = 1
    PERL_USE_UNSAFE_INC = 1
    PERL_VERSION = blead
    SHELL = /usr/pkg/bin/bash
    TERM = screen
    TMPDIR = /home/cpan/tmp

Perl special variables (and OS-specific diagnostics, for MSWin32):

    $^X = /home/cpan/bin/perl-blead/bin/perl5.31.4
    $UID/$EUID = 1001 / 1001
    $GID = 100 100
    $EGID = 100 100

Perl module toolchain versions installed:

    Module              Have    
    ------------------- --------
    CPAN                2.27    
    CPAN::Meta          2.150010
    Cwd                 3.78    
    ExtUtils::CBuilder  0.280232
    ExtUtils::Command   7.36    
    ExtUtils::Install   2.14    
    ExtUtils::MakeMaker 7.36    
    ExtUtils::Manifest  1.72    
    ExtUtils::ParseXS   3.40    
    File::Spec          3.78    
    JSON                4.02    
    JSON::PP            4.04    
    Module::Build       0.4229  
    Module::Signature   n/a     
    Parse::CPAN::Meta   2.150010
    Test::Harness       3.42    
    Test::More          1.302167
    YAML                1.29    
    YAML::Syck          1.31    
    version             0.9924  


--

Summary of my perl5 (revision 5 version 31 subversion 4) configuration:
  Commit id: c6f37d61adb39a6d7764b1bcb6bb67accb22a0a0
  Platform:
    osname=netbsd
    osvers=8.1
    archname=amd64-netbsd
    uname='netbsd cjg-netbsd8 8.1 netbsd 8.1 (generic) #0: fri may 31 08:43:59 utc 2019 mkrepro@mkrepro.netbsd.org:usrsrcsysarchamd64compilegeneric amd64 '
    config_args='-des -Dprefix=~/bin/perl-blead -Dscriptdir=~/bin/perl-blead/bin -Dusedevel -Duse64bitall'
    hint=recommended
    useposix=true
    d_sigaction=define
    useithreads=undef
    usemultiplicity=undef
    use64bitint=define
    use64bitall=define
    uselongdouble=undef
    usemymalloc=n
    default_inc_excludes_dot=define
    bincompat5005=undef
  Compiler:
    cc='cc'
    ccflags ='-fwrapv -fno-strict-aliasing -pipe -fstack-protector-strong -I/usr/pkg/include -D_FORTIFY_SOURCE=2'
    optimize='-O'
    cppflags='-fwrapv -fno-strict-aliasing -pipe -fstack-protector-strong -I/usr/pkg/include'
    ccversion=''
    gccversion='5.5.0'
    gccosandvers=''
    intsize=4
    longsize=8
    ptrsize=8
    doublesize=8
    byteorder=12345678
    doublekind=3
    d_longlong=define
    longlongsize=8
    d_longdbl=define
    longdblsize=16
    longdblkind=3
    ivtype='long'
    ivsize=8
    nvtype='double'
    nvsize=8
    Off_t='off_t'
    lseeksize=8
    alignbytes=8
    prototype=define
  Linker and Libraries:
    ld='cc'
    ldflags =' -Wl,-rpath,/usr/pkg/lib -Wl,-rpath,/usr/local/lib -fstack-protector-strong -L/usr/pkg/lib'
    libpth=/usr/include/gcc-5 /usr/lib /usr/pkg/lib /lib
    libs=-lpthread -lm -lcrypt -lutil -lc -lposix
    perllibs=-lpthread -lm -lcrypt -lutil -lc -lposix
    libc=/lib/libc.so
    so=so
    useshrplib=false
    libperl=libperl.a
    gnulibc_version=''
  Dynamic Linking:
    dlsrc=dl_dlopen.xs
    dlext=so
    d_dlsymun=undef
    ccdlflags='-Wl,-E '
    cccdlflags='-DPIC -fPIC '
    lddlflags='-shared  -L/usr/pkg/lib -fstack-protector-strong'


Characteristics of this binary (from libperl): 
  Compile-time options:
    HAS_TIMES
    PERLIO_LAYERS
    PERL_COPY_ON_WRITE
    PERL_DONT_CREATE_GVSV
    PERL_MALLOC_WRAP
    PERL_OP_PARENT
    PERL_PRESERVE_IVUV
    PERL_USE_DEVEL
    USE_64_BIT_ALL
    USE_64_BIT_INT
    USE_LARGE_FILES
    USE_LOCALE
    USE_LOCALE_COLLATE
    USE_LOCALE_CTYPE
    USE_LOCALE_NUMERIC
    USE_LOCALE_TIME
    USE_PERLIO
    USE_PERL_ATOF
  Built under netbsd
  Compiled at Aug 24 2019 19:56:28
  %ENV:
    PERL5LIB=""
    PERL5OPT=""
    PERL5_CPANPLUS_IS_RUNNING="23952"
    PERL5_CPAN_IS_RUNNING="23952"
    PERL_MM_USE_DEFAULT="1"
    PERL_USE_UNSAFE_INC="1"
    PERL_VERSION="blead"
  @INC:
    /home/cpan/bin/perl-blead/lib/site_perl/5.31.4/amd64-netbsd
    /home/cpan/bin/perl-blead/lib/site_perl/5.31.4
    /home/cpan/bin/perl-blead/lib/5.31.4/amd64-netbsd
    /home/cpan/bin/perl-blead/lib/5.31.4
    .