Pod-Simple v3.41 Perl 5 v5.22.2 amd64-freebsd-thread-multi

Status
Pass
From
Slaven Rezić
Dist
Pod-Simple v3.41
Platform
Perl 5 v5.22.2 amd64-freebsd-thread-multi
Date
2020-10-12 22:21:30
ID
470f230e-0cd9-11eb-bd0c-124f1f24ea8f
This distribution has been tested as part of the CPAN Testers
project, supporting the Perl programming language.  See
http://wiki.cpantesters.org/ for more information or email
questions to cpan-testers-discuss@perl.org


--
Dear Karl Williamson,

This is a computer-generated report for Pod-Simple-3.41
on perl 5.22.2, created by CPAN-Reporter-1.2017.

Thank you for uploading your work to CPAN.  Congratulations!
All tests were successful.

Sections of this report:

    * Tester comments
    * Program output
    * Prerequisites
    * Environment and other context

------------------------------
TESTER COMMENTS
------------------------------

Additional comments from tester:

none provided

------------------------------
PROGRAM OUTPUT
------------------------------

Output from '/usr/bin/make test':

PERL_DL_NONLAZY=1 "/usr/perl5.22.2t/bin/perl5.22.2" "-MExtUtils::Command::MM" "-MTest::Harness" "-e" "undef *Test::Harness::Switches; test_harness(0, 'blib/lib', 'blib/arch')" t/*.t
t/00about.t .......... ok
t/20_skip.t .......... ok
t/ac_d.t ............. ok
t/accept01.t ......... ok
t/accept05.t ......... ok
t/basic.t ............ ok
t/begin.t ............ ok
t/cbacks.t ........... ok
t/chunking.t ......... ok
t/closeys.t .......... ok
t/content_seen.t ..... ok
t/corpus.t ........... ok
t/emptylists.t ....... ok
t/enc-chars.t ........ ok
t/encod01.t .......... ok
t/encod02.t .......... ok
t/encod03.t .......... ok
t/encod04.t .......... ok
t/end_over.t ......... ok
t/eol.t .............. ok
t/eol2.t ............. ok
t/fake-closers.t ..... ok
t/fcodes.t ........... ok
t/fcodes_e.t ......... ok
t/fcodes_l.t ......... ok
t/fcodes_s.t ......... ok
t/for.t .............. ok
t/fornot.t ........... ok
t/github_issue_79.t .. ok
t/heads.t ............ ok
t/html01.t ........... ok
t/html02.t ........... ok
t/html03.t ........... ok
t/htmlbat.t .......... ok
t/items.t ............ ok
t/items02.t .......... ok
t/itemstar.t ......... ok
t/JustPod01.t ........ ok
t/JustPod02.t ........ ok
t/JustPod_corpus.t ... ok
t/linkclas.t ......... ok
t/output.t ........... ok
t/puller.t ........... ok
t/pulltitl.t ......... ok
t/reinit.t ........... ok
t/render.t ........... ok
t/rtf_utf8.t ......... ok
t/search05.t ......... ok
t/search10.t ......... ok
t/search12.t ......... ok
t/search20.t ......... ok
t/search22.t ......... ok
t/search25.t ......... ok
t/search26.t ......... ok
t/search27.t ......... ok
t/search28.t ......... ok
t/search29.t ......... ok
t/search50.t ......... ok
t/search60.t ......... ok
t/stree.t ............ ok
t/strpvbtm.t ......... ok
t/tiedfh.t ........... ok
t/verb_fmt.t ......... ok
t/verbatim.t ......... ok
t/whine.t ............ ok
t/x_nixer.t .......... ok
t/xhtml-bkb.t ........ ok
t/xhtml01.t .......... ok
t/xhtml05.t .......... ok
t/xhtml10.t .......... ok
t/xhtml15.t .......... ok
t/xhtml20.t .......... ok
All tests successful.
Files=72, Tests=11395, 77 wallclock secs ( 0.20 usr  1.15 sys +  2.25 cusr 11.33 csys = 14.93 CPU)
Result: PASS

------------------------------
PREREQUISITES
------------------------------

Prerequisite modules loaded:

requires:

    Module              Need      Have     
    ------------------- --------- ---------
    Carp                0         1.36     
    Config              0         5.022002 
    Cwd                 0         3.62     
    File::Basename      0         2.85     
    File::Find          0         1.29     
    File::Spec          0         3.62     
    if                  0         0.0604   
    integer             0         1.01     
    overload            0         1.26     
    Pod::Escapes        1.04      1.07     
    strict              0         1.09     
    Symbol              0         1.07     
    Test::More          0         1.302075 
    Text::Wrap          98.112902 2013.0523

build_requires:

    Module              Need      Have     
    ------------------- --------- ---------
    ExtUtils::MakeMaker 0         7.24     
    Test                1.25      1.26     

configure_requires:

    Module              Need      Have     
    ------------------- --------- ---------
    ExtUtils::MakeMaker 0         7.24     


------------------------------
ENVIRONMENT AND OTHER CONTEXT
------------------------------

Environment variables:

    LC_ALL = de_DE.ISO8859-1
    PATH = /usr/local/bin:/usr/bin:/bin:/usr/local/sbin:/usr/sbin:/sbin:/home/cpansand/bin/freebsd10.3:/home/cpansand/bin/sh:/home/cpansand/bin:/usr/games:/home/cpansand/devel:/home/eserte/src/srezic-misc/scripts
    PERL5LIB = 
    PERL5OPT = 
    PERL5_CPANPLUS_IS_RUNNING = 46894
    PERL5_CPAN_IS_RUNNING = 46894
    PERL5_CPAN_IS_RUNNING_IN_RECURSION = 10900,46894
    PERLDOC = -MPod::Perldoc::ToTextOverstrike
    PERL_BATCH = yes
    PERL_CANARY_STABILITY_NOPROMPT = 1
    PERL_CPAN_REPORTER_CONFIG = /var/tmp/cpansmoker-1023/2020101220/cpanreporter_000_config.ini
    PERL_EXTUTILS_AUTOINSTALL = --defaultdeps
    SHELL = /usr/local/bin/zsh
    TERM = screen
    TMPDIR = /var/tmp/cpansmoker-1023/2020101220

Perl special variables (and OS-specific diagnostics, for MSWin32):

    $^X = /usr/perl5.22.2t/bin/perl5.22.2
    $UID/$EUID = 1023 / 1023
    $GID = 1023 1023
    $EGID = 1023 1023

Perl module toolchain versions installed:

    Module              Have    
    ------------------- --------
    CPAN                2.11    
    CPAN::Meta          2.150001
    Cwd                 3.62    
    ExtUtils::CBuilder  0.280221
    ExtUtils::Command   7.24    
    ExtUtils::Install   2.04    
    ExtUtils::MakeMaker 7.24    
    ExtUtils::Manifest  1.70    
    ExtUtils::ParseXS   3.28    
    File::Spec          3.62    
    JSON                2.90    
    JSON::PP            2.27300 
    Module::Build       0.4218  
    Module::Signature   0.80    
    Parse::CPAN::Meta   1.4422  
    Test::Harness       3.35    
    Test::More          1.302075
    YAML                1.15    
    YAML::Syck          1.29    
    version             0.9917  


--

Summary of my perl5 (revision 5 version 22 subversion 2) configuration:
   
  Platform:
    osname=freebsd, osvers=10.1-release, archname=amd64-freebsd-thread-multi
    uname='freebsd cvrsnica-freebsd-101.herceg.de 10.1-release freebsd 10.1-release #0 r274401: tue nov 11 21:02:49 utc 2014 root@releng1.nyi.freebsd.org:usrobjusrsrcsysgeneric amd64 '
    config_args='-ds -e -Dprefix=/usr/perl5.22.2t -Dusethreads -Dcf_email=srezic@cpan.org -Doptimize=-O2 -pipe'
    hint=recommended, useposix=true, d_sigaction=define
    useithreads=define, usemultiplicity=define
    use64bitint=define, use64bitall=define, uselongdouble=undef
    usemymalloc=n, bincompat5005=undef
  Compiler:
    cc='cc', ccflags ='-DHAS_FPSETMASK -DHAS_FLOATINGPOINT_H -fno-strict-aliasing -pipe -fstack-protector -I/usr/local/include -D_FORTIFY_SOURCE=2',
    optimize='-O2 -pipe',
    cppflags='-DHAS_FPSETMASK -DHAS_FLOATINGPOINT_H -fno-strict-aliasing -pipe -fstack-protector -I/usr/local/include'
    ccversion='', gccversion='4.2.1 Compatible FreeBSD Clang 3.4.1 (tags/RELEASE_34/dot1-final 208032)', gccosandvers=''
    intsize=4, longsize=8, ptrsize=8, doublesize=8, byteorder=12345678, doublekind=3
    d_longlong=define, longlongsize=8, d_longdbl=define, longdblsize=16, longdblkind=3
    ivtype='long', ivsize=8, nvtype='double', nvsize=8, Off_t='off_t', lseeksize=8
    alignbytes=8, prototype=define
  Linker and Libraries:
    ld='cc', ldflags ='-pthread -Wl,-E  -fstack-protector -L/usr/local/lib'
    libpth=/usr/lib /usr/local/lib /usr/include/clang/3.4.1 /usr/lib
    libs=-lpthread -lgdbm -lm -lcrypt -lutil
    perllibs=-lpthread -lm -lcrypt -lutil
    libc=, so=so, useshrplib=false, libperl=libperl.a
    gnulibc_version=''
  Dynamic Linking:
    dlsrc=dl_dlopen.xs, dlext=so, d_dlsymun=undef, ccdlflags=' '
    cccdlflags='-DPIC -fPIC', lddlflags='-shared  -L/usr/local/lib -fstack-protector'


Characteristics of this binary (from libperl): 
  Compile-time options: HAS_TIMES MULTIPLICITY PERLIO_LAYERS
                        PERL_DONT_CREATE_GVSV
                        PERL_HASH_FUNC_ONE_AT_A_TIME_HARD
                        PERL_IMPLICIT_CONTEXT PERL_MALLOC_WRAP
                        PERL_NEW_COPY_ON_WRITE PERL_PRESERVE_IVUV
                        USE_64_BIT_ALL USE_64_BIT_INT USE_ITHREADS
                        USE_LARGE_FILES USE_LOCALE USE_LOCALE_COLLATE
                        USE_LOCALE_CTYPE USE_LOCALE_NUMERIC USE_LOCALE_TIME
                        USE_PERLIO USE_PERL_ATOF USE_REENTRANT_API
  Built under freebsd
  Compiled at Jun 18 2016 12:32:50
  %ENV:
    PERL5LIB=""
    PERL5OPT=""
    PERL5_CPANPLUS_IS_RUNNING="46894"
    PERL5_CPAN_IS_RUNNING="46894"
    PERL5_CPAN_IS_RUNNING_IN_RECURSION="10900,46894"
    PERLDOC="-MPod::Perldoc::ToTextOverstrike"
    PERL_BATCH="yes"
    PERL_CANARY_STABILITY_NOPROMPT="1"
    PERL_CPAN_REPORTER_CONFIG="/var/tmp/cpansmoker-1023/2020101220/cpanreporter_000_config.ini"
    PERL_EXTUTILS_AUTOINSTALL="--defaultdeps"
  @INC:
    /usr/perl5.22.2t/lib/site_perl/5.22.2/amd64-freebsd-thread-multi
    /usr/perl5.22.2t/lib/site_perl/5.22.2
    /usr/perl5.22.2t/lib/5.22.2/amd64-freebsd-thread-multi
    /usr/perl5.22.2t/lib/5.22.2
    .