Back
From: metabase:user:3198cbe2-2aae-11df-837a-5e0a49663a4f
Subject: PASS Net-SAML2-0.17 v5.16.1 GNU/Linux
Date: 2012-11-22T02:21:09Z
This distribution has been tested as part of the CPAN Testers
project, supporting the Perl programming language. See
http://wiki.cpantesters.org/ for more information or email
questions to cpan-testers-discuss@perl.org
--
Dear Chris Andrews,
This is a computer-generated report for Net-SAML2-0.17
on perl 5.16.1, created by CPAN-Reporter-1.2006.
Thank you for uploading your work to CPAN. Congratulations!
All tests were successful.
Sections of this report:
* Tester comments
* Program output
* Prerequisites
* Environment and other context
------------------------------
TESTER COMMENTS
------------------------------
Additional comments from tester:
this report is from an automated smoke testing program
and was not reviewed by a human for accuracy
------------------------------
PROGRAM OUTPUT
------------------------------
Output from '/usr/bin/make test':
make[1]: Entering directory `/home/graham/perls/caches/perl-5.16.1/build/Net-SAML2-0.17-_0autG/testapp'
make[1]: Leaving directory `/home/graham/perls/caches/perl-5.16.1/build/Net-SAML2-0.17-_0autG/testapp'
PERL_DL_NONLAZY=1 /home/graham/perls/perl-5.16.1/bin/perl "-MExtUtils::Command::MM" "-e" "test_harness(0, 'inc', 'blib/lib', 'blib/arch')" t/*.t
t/00-basic.t ............. ok
t/01-create-idp.t ........ ok
t/02-create-sp.t ......... ok
t/03-assertions.t ........ ok
t/04-response.t .......... ok
t/05-soap-binding.t ...... ok
t/06-redirect-binding.t .. ok
t/07-logout-request.t .... ok
t/08-logout-response.t ... ok
t/09-authn-request.t ..... ok
t/10-artifact-resolve.t .. ok
t/11-more-metadata.t ..... ok
All tests successful.
Files=12, Tests=80, 16 wallclock secs ( 0.07 usr 0.03 sys + 14.04 cusr 0.70 csys = 14.84 CPU)
Result: PASS
make[1]: Entering directory `/home/graham/perls/caches/perl-5.16.1/build/Net-SAML2-0.17-_0autG/testapp'
PERL_DL_NONLAZY=1 /home/graham/perls/perl-5.16.1/bin/perl "-MExtUtils::Command::MM" "-e" "test_harness(0, '../blib/lib', '../blib/arch')" t/*.t
Useless use of a variable in void context at /home/graham/perls/perl-5.16.1/lib/site_perl/5.16.1/x86_64-linux/List/MoreUtils.pm line 362, <DATA> line 1000.
Subroutine Crypt::OpenSSL::X509::pub_exponent redefined at /home/graham/perls/perl-5.16.1/lib/5.16.1/x86_64-linux/DynaLoader.pm line 213, <DATA> line 1000.
t/001_base.t ......... ok
Useless use of a variable in void context at /home/graham/perls/perl-5.16.1/lib/site_perl/5.16.1/x86_64-linux/List/MoreUtils.pm line 362, <DATA> line 1000.
Subroutine Crypt::OpenSSL::X509::pub_exponent redefined at /home/graham/perls/perl-5.16.1/lib/5.16.1/x86_64-linux/DynaLoader.pm line 213, <DATA> line 1000.
Name "Package::DeprecationManager::a" used only once: possible typo at /home/graham/perls/perl-5.16.1/lib/site_perl/5.16.1/x86_64-linux/List/MoreUtils.pm line 362.
Name "Package::DeprecationManager::b" used only once: possible typo at /home/graham/perls/perl-5.16.1/lib/site_perl/5.16.1/x86_64-linux/List/MoreUtils.pm line 362.
t/002_index_route.t .. ok
All tests successful.
Files=2, Tests=4, 3 wallclock secs ( 0.03 usr 0.00 sys + 2.56 cusr 0.13 csys = 2.72 CPU)
Result: PASS
make[1]: Leaving directory `/home/graham/perls/caches/perl-5.16.1/build/Net-SAML2-0.17-_0autG/testapp'
------------------------------
PREREQUISITES
------------------------------
Prerequisite modules loaded:
requires:
Module Need Have
-------------------------- -------- --------
Class::Accessor 0 0.34
Crypt::OpenSSL::Bignum 0 0.04
Crypt::OpenSSL::DSA 0 0.14
Crypt::OpenSSL::Random 0 0.04
Crypt::OpenSSL::RSA 0 0.28
Crypt::OpenSSL::VerifyX509 0 0.10
Crypt::OpenSSL::X509 0 1.800.2
DateTime::Format::XSD 0 0.2
Digest::SHA1 0 2.13
File::Slurp 0 9999.19
IO::Compress::RawDeflate 0 2.058
IO::Uncompress::RawInflate 0 2.058
LWP::UserAgent 0 6.04
MIME::Base64 0 3.13
Moose 0 2.0604
MooseX::Types 0 0.35
MooseX::Types::Common 0 0.001008
MooseX::Types::DateTime 0 0.07
MooseX::Types::URI 0 0.03
perl 5.008001 5.016001
URI 0 1.60
XML::CanonicalizeXML 0 0.05
XML::Generator 0 1.04
XML::XPath 0 1.13
build_requires:
Module Need Have
-------------------------- -------- --------
Dancer 1.2000 1.3110
ExtUtils::MakeMaker 6.6303 6.63_03
Test::More 0.88 0.98_03
WWW::Mechanize 1.66 1.72_02
YAML 0 0.81
configure_requires:
Module Need Have
-------------------------- -------- --------
ExtUtils::MakeMaker 6.56 6.63_03
------------------------------
ENVIRONMENT AND OTHER CONTEXT
------------------------------
Environment variables:
AUTOMATED_TESTING = 1
LANG = C
PATH = /home/graham/perls/perl-5.16.1/bin:/usr/local/bin:/usr/bin:/bin:/usr/local/sbin:/usr/sbin:/sbin:/usr/bin/core_perl
PERL5LIB =
PERL5OPT =
PERL5_CPANPLUS_IS_RUNNING = 6420
PERL5_CPAN_IS_RUNNING = 6420
PERL5_CPAN_IS_RUNNING_IN_RECURSION = 21577,6420
PERL_CR_SMOKER_CURRENT = Net-SAML2-0.17
PERL_EXTUTILS_AUTOINSTALL = --defaultdeps
PERL_MM_USE_DEFAULT = 1
SHELL = /bin/bash
TERM = xterm
Perl special variables (and OS-specific diagnostics, for MSWin32):
$^X = /home/graham/perls/perl-5.16.1/bin/perl
$UID/$EUID = 1000 / 1000
$GID = 100 100
$EGID = 100 100
Perl module toolchain versions installed:
Module Have
------------------- --------
CPAN 1.99_51
CPAN::Meta 2.120351
Cwd 3.39_02
ExtUtils::CBuilder 0.280205
ExtUtils::Command 1.17
ExtUtils::Install 1.58
ExtUtils::MakeMaker 6.63_03
ExtUtils::Manifest 1.61
ExtUtils::ParseXS 3.18
File::Spec 3.39_02
JSON 2.53
JSON::PP 2.27200
Module::Build 0.4003
Module::Signature 0.69
Parse::CPAN::Meta 1.4404
Test::Harness 3.25
Test::More 0.98_03
YAML 0.81
YAML::Syck 1.21
version 0.9901
--
Summary of my perl5 (revision 5 version 16 subversion 1) configuration:
Platform:
osname=linux, osvers=3.5.6-1-arch, archname=x86_64-linux
uname='linux grosics 3.5.6-1-arch #1 smp preempt sun oct 7 19:30:49 cest 2012 x86_64 gnulinux '
config_args='-des -Dprefix=/home/graham/perls/perl-5.16.1'
hint=recommended, useposix=true, d_sigaction=define
useithreads=undef, usemultiplicity=undef
useperlio=define, d_sfio=undef, uselargefiles=define, usesocks=undef
use64bitint=define, use64bitall=define, uselongdouble=undef
usemymalloc=n, bincompat5005=undef
Compiler:
cc='cc', ccflags ='-fno-strict-aliasing -pipe -fstack-protector -I/usr/local/include -D_LARGEFILE_SOURCE -D_FILE_OFFSET_BITS=64',
optimize='-O2',
cppflags='-fno-strict-aliasing -pipe -fstack-protector -I/usr/local/include'
ccversion='', gccversion='4.7.2', gccosandvers=''
intsize=4, longsize=8, ptrsize=8, doublesize=8, byteorder=12345678
d_longlong=define, longlongsize=8, d_longdbl=define, longdblsize=16
ivtype='long', ivsize=8, nvtype='double', nvsize=8, Off_t='off_t', lseeksize=8
alignbytes=8, prototype=define
Linker and Libraries:
ld='cc', ldflags =' -fstack-protector -L/usr/local/lib'
libpth=/usr/local/lib /lib/../lib /usr/lib/../lib /lib /usr/lib
libs=-lnsl -lgdbm -ldb -ldl -lm -lcrypt -lutil -lc -lgdbm_compat
perllibs=-lnsl -ldl -lm -lcrypt -lutil -lc
libc=/lib/libc-2.16.so, so=so, useshrplib=false, libperl=libperl.a
gnulibc_version='2.16'
Dynamic Linking:
dlsrc=dl_dlopen.xs, dlext=so, d_dlsymun=undef, ccdlflags='-Wl,-E'
cccdlflags='-fPIC', lddlflags='-shared -O2 -L/usr/local/lib -fstack-protector'
Characteristics of this binary (from libperl):
Compile-time options: HAS_TIMES PERLIO_LAYERS PERL_DONT_CREATE_GVSV
PERL_MALLOC_WRAP PERL_PRESERVE_IVUV USE_64_BIT_ALL
USE_64_BIT_INT USE_LARGE_FILES USE_LOCALE
USE_LOCALE_COLLATE USE_LOCALE_CTYPE
USE_LOCALE_NUMERIC USE_PERLIO USE_PERL_ATOF
Built under linux
Compiled at Oct 12 2012 22:14:37
%ENV:
PERL5LIB=""
PERL5OPT=""
PERL5_CPANPLUS_IS_RUNNING="6420"
PERL5_CPAN_IS_RUNNING="6420"
PERL5_CPAN_IS_RUNNING_IN_RECURSION="21577,6420"
PERL_CR_SMOKER_CURRENT="Net-SAML2-0.17"
PERL_EXTUTILS_AUTOINSTALL="--defaultdeps"
PERL_MM_USE_DEFAULT="1"
@INC:
/home/graham/perls/perl-5.16.1/lib/site_perl/5.16.1/x86_64-linux
/home/graham/perls/perl-5.16.1/lib/site_perl/5.16.1
/home/graham/perls/perl-5.16.1/lib/5.16.1/x86_64-linux
/home/graham/perls/perl-5.16.1/lib/5.16.1
.