Report for Dist-Zilla-PluginBundle-Author-Celogeek-1.1

Back
From: metabase:user:b53c7f44-4c0e-11e4-9ced-a04ade49192c
Subject: PASS Dist-Zilla-PluginBundle-Author-Celogeek-1.1 v5.10.1 GNU/Linux
Date: 2014-12-21T01:18:32Z

This distribution has been tested as part of the CPAN Testers
project, supporting the Perl programming language.  See
http://wiki.cpantesters.org/ for more information or email
questions to cpan-testers-discuss@perl.org


--
Dear celogeek,

This is a computer-generated report for Dist-Zilla-PluginBundle-Author-Celogeek-1.1
on perl 5.10.1, created by CPAN-Reporter-1.2011.

Thank you for uploading your work to CPAN.  Congratulations!
All tests were successful.

Sections of this report:

    * Tester comments
    * Program output
    * Prerequisites
    * Environment and other context

------------------------------
TESTER COMMENTS
------------------------------

Additional comments from tester:

this report is from an automated smoke testing program
and was not reviewed by a human for accuracy

------------------------------
PROGRAM OUTPUT
------------------------------

Output from './Build test':

t/00-compile.t ............ ok
# Testing with Perl 5.010001, /opt/perl430-27-O0-5.10.1/bin/perl
#     Carp version is 1.3301
#     Class::MOP version is 2.1403
#     Dist::Zilla::App::Command::cover version is 1.101001
#     Dist::Zilla::Plugin::AutoPrereqs version is 5.029
#     Dist::Zilla::Plugin::CheckChangeLog version is 0.02
#     Dist::Zilla::Plugin::Git::NextVersion version is 2.028
#     Dist::Zilla::Plugin::MetaConfig version is 5.029
#     Dist::Zilla::Plugin::MetaJSON version is 5.029
#     Dist::Zilla::Plugin::MetaResourcesFromGit version is 1.103620
#     Dist::Zilla::Plugin::MinimumPerl version is 1.006
#     Dist::Zilla::Plugin::ModuleBuild version is 5.029
#     Dist::Zilla::Plugin::NextRelease version is 5.029
#     Dist::Zilla::Plugin::OurPkgVersion version is 0.005001
#     Dist::Zilla::Plugin::PerlTidy version is 0.19
#     Dist::Zilla::Plugin::PodCoverageTests version is 5.029
#     Dist::Zilla::Plugin::PodWeaver version is 4.006
#     Dist::Zilla::Plugin::Prepender version is 1.112280
#     Dist::Zilla::Plugin::Prereqs version is 5.029
#     Dist::Zilla::Plugin::PruneFiles version is 5.029
#     Dist::Zilla::Plugin::ReadmeMarkdownFromPod version is 0.141140
#     Dist::Zilla::Plugin::ReportVersions version is 1.110730
#     Dist::Zilla::Plugin::Run::BeforeRelease version is 0.028
#     Dist::Zilla::Plugin::Test::Compile version is 2.051
#     Dist::Zilla::Plugin::Test::Perl::Critic version is 2.112410
#     Dist::Zilla::Plugin::Test::UnusedVars version is 2.000006
#     Dist::Zilla::PluginBundle::Filter version is 5.029
#     Dist::Zilla::PluginBundle::Git version is 2.028
#     Dist::Zilla::Role::PluginBundle::Easy version is 5.029
#     Dist::Zilla::Role::PluginBundle::PluginRemover version is 0.102
#     File::Spec version is 3.47
#     IO::All version is 0.85
#     IO::Handle version is 1.28
#     IPC::Open3 version is 1.04
#     Module::Build version is 0.421
#     Moose version is 2.1403
#     Pod::Coverage::TrustPod version is 0.100003
#     Pod::Weaver::Config::Assembler version is 4.009
#     Scalar::Util version is 1.41
#     Test::More version is 1.001009
#     Test::Perl::Critic version is 1.02
#     namespace::autoclean version is 0.22
#     strict version is 1.04
#     warnings version is 1.06
t/000-report-versions.t ... ok
t/author-critic.t ......... skipped: these tests are for testing by the author
t/release-pod-coverage.t .. skipped: these tests are for release candidate testing
t/release-unused-vars.t ... skipped: these tests are for release candidate testing
All tests successful.
Files=5, Tests=45, 28 wallclock secs ( 0.22 usr  0.03 sys + 20.97 cusr  1.23 csys = 22.45 CPU)
Result: PASS

------------------------------
PREREQUISITES
------------------------------

Prerequisite modules loaded:

requires:

    Module                                         Need   Have    
    ---------------------------------------------- ------ --------
    Class::MOP                                     0      2.1403  
    Devel::Cover                                   0      1.17    
    Dist::Zilla::App::Command::cover               0      1.101001
    Dist::Zilla::Plugin::AutoPrereqs               0      5.029   
    Dist::Zilla::Plugin::CheckChangeLog            0      0.02    
    Dist::Zilla::Plugin::Git::NextVersion          0      2.028   
    Dist::Zilla::Plugin::MetaConfig                0      5.029   
    Dist::Zilla::Plugin::MetaJSON                  0      5.029   
    Dist::Zilla::Plugin::MetaResourcesFromGit      0      1.103620
    Dist::Zilla::Plugin::MinimumPerl               0      1.006   
    Dist::Zilla::Plugin::ModuleBuild               0      5.029   
    Dist::Zilla::Plugin::NextRelease               0      5.029   
    Dist::Zilla::Plugin::OurPkgVersion             0      0.005001
    Dist::Zilla::Plugin::PerlTidy                  0      0.19    
    Dist::Zilla::Plugin::PodCoverageTests          0      5.029   
    Dist::Zilla::Plugin::PodWeaver                 0      4.006   
    Dist::Zilla::Plugin::Prepender                 0      1.112280
    Dist::Zilla::Plugin::Prereqs                   0      5.029   
    Dist::Zilla::Plugin::PruneFiles                0      5.029   
    Dist::Zilla::Plugin::ReadmeMarkdownFromPod     0      0.141140
    Dist::Zilla::Plugin::ReportVersions            0      1.110730
    Dist::Zilla::Plugin::Run::BeforeRelease        0      0.028   
    Dist::Zilla::Plugin::Test::Compile             0      2.051   
    Dist::Zilla::Plugin::Test::Perl::Critic        0      2.112410
    Dist::Zilla::Plugin::Test::UnusedVars          0      2.000006
    Dist::Zilla::PluginBundle::Filter              0      5.029   
    Dist::Zilla::PluginBundle::Git                 0      2.028   
    Dist::Zilla::Role::PluginBundle::Easy          0      5.029   
    Dist::Zilla::Role::PluginBundle::PluginRemover 0      0.102   
    IO::All                                        0.45   0.85    
    Moose                                          0      2.1403  
    namespace::autoclean                           0      0.22    
    perl                                           5.006  5.010001
    Pod::Coverage::TrustPod                        0      0.100003
    Pod::Weaver::Config::Assembler                 0      4.009   
    strict                                         0      1.04    
    Test::Perl::Critic                             0      1.02    
    Test::Pod::Coverage                            1.08   1.10    
    warnings                                       0      1.06    

build_requires:

    Module                                         Need   Have    
    ---------------------------------------------- ------ --------
    Carp                                           0      1.3301  
    File::Spec                                     0      3.47    
    IO::Handle                                     0      1.28    
    IPC::Open3                                     0      1.04    
    Module::Build                                  0.3601 0.4210  
    perl                                           5.006  5.010001
    Scalar::Util                                   0      1.41    
    Test::More                                     0.94   1.001009

configure_requires:

    Module                                         Need   Have    
    ---------------------------------------------- ------ --------
    Module::Build                                  0.3601 0.4210  


------------------------------
ENVIRONMENT AND OTHER CONTEXT
------------------------------

Environment variables:

    AUTOMATED_TESTING = 1
    LANG = en_US.utf8
    MB_TEST_EXPERIMENTAL = 1
    NONINTERACTIVE_TESTING = 1
    PATH = /usr/lib/qt-3.3/bin:/usr/kerberos/sbin:/usr/kerberos/bin:/usr/lib/ccache:/usr/local/sbin:/usr/sbin:/sbin:/usr/local/bin:/usr/bin:/bin:/usr/lib/firebird/bin:/opt/real/RealPlayer:/root/bin:/usr/lib/firebird/bin:/opt/real/RealPlayer
    PERL5LIB = 
    PERL5OPT = 
    PERL5_CPANPLUS_IS_RUNNING = 5271
    PERL5_CPAN_IS_RUNNING = 5271
    PERL_ANYEVENT_MODEL = POE
    PERL_EXTUTILS_AUTOINSTALL = --defaultdeps
    PERL_MM_USE_DEFAULT = 1
    SHELL = /bin/bash
    TERM = xterm

Perl special variables (and OS-specific diagnostics, for MSWin32):

    $^X = /opt/perl430-27-O0-5.10.1/bin/perl
    $UID/$EUID = 0 / 0
    $GID = 0 0 1 2 3 4 6 10
    $EGID = 0 0 1 2 3 4 6 10

Perl module toolchain versions installed:

    Module              Have    
    ------------------- --------
    CPAN                2.05    
    CPAN::Meta          2.143240
    Cwd                 3.47    
    ExtUtils::CBuilder  0.280220
    ExtUtils::Command   1.16    
    ExtUtils::Install   2.04    
    ExtUtils::MakeMaker 7.04    
    ExtUtils::Manifest  1.69    
    ExtUtils::ParseXS   3.24    
    File::Spec          3.47    
    JSON                2.90    
    JSON::PP            2.27300 
    Module::Build       0.4210  
    Module::Signature   0.73    
    Parse::CPAN::Meta   1.4414  
    Test::Harness       3.34    
    Test::More          1.001009
    YAML                1.13    
    YAML::Syck          1.29    
    version             0.9909  


--

Summary of my perl5 (revision 5 version 10 subversion 1) configuration:
   
  Platform:
    osname=linux, osvers=2.6.27.25-78.2.56.fc9.i686, archname=i686-linux-thread-multi-64int-ld
    uname='linux localhost.localdomain 2.6.27.25-78.2.56.fc9.i686 #1 smp thu jun 18 12:47:50 edt 2009 i686 i686 i386 gnulinux '
    config_args='-Dcc=gcc -Dprefix=/opt/perl430-27-O0-5.10.1 -DDEBUGGING'
    hint=recommended, useposix=true, d_sigaction=define
    useithreads=define, usemultiplicity=define
    useperlio=define, d_sfio=undef, uselargefiles=define, usesocks=undef
    use64bitint=define, use64bitall=undef, uselongdouble=define
    usemymalloc=y, bincompat5005=undef
  Compiler:
    cc='gcc', ccflags ='-D_REENTRANT -D_GNU_SOURCE -DDEBUGGING -fno-strict-aliasing -pipe -fstack-protector -I/usr/local/include -D_LARGEFILE_SOURCE -D_FILE_OFFSET_BITS=64',
    optimize='-O0 -g',
    cppflags='-D_REENTRANT -D_GNU_SOURCE -DDEBUGGING -fno-strict-aliasing -pipe -fstack-protector -I/usr/local/include'
    ccversion='', gccversion='4.3.0 20080428 (Red Hat 4.3.0-8)', gccosandvers=''
    intsize=4, longsize=4, ptrsize=4, doublesize=8, byteorder=12345678
    d_longlong=define, longlongsize=8, d_longdbl=define, longdblsize=12
    ivtype='long long', ivsize=8, nvtype='long double', nvsize=12, Off_t='off_t', lseeksize=8
    alignbytes=4, prototype=define
  Linker and Libraries:
    ld='gcc', ldflags =' -fstack-protector -L/usr/local/lib'
    libpth=/usr/local/lib /lib /usr/lib
    libs=-lnsl -lgdbm -ldb -ldl -lm -lcrypt -lutil -lpthread -lc
    perllibs=-lnsl -ldl -lm -lcrypt -lutil -lpthread -lc
    libc=/lib/libc-2.8.so, so=so, useshrplib=true, libperl=libperl.so
    gnulibc_version='2.8'
  Dynamic Linking:
    dlsrc=dl_dlopen.xs, dlext=so, d_dlsymun=undef, ccdlflags='-Wl,-E -Wl,-rpath,/opt/perl430-27-O0-5.10.1/lib/5.10.1/i686-linux-thread-multi-64int-ld/CORE'
    cccdlflags='-fPIC', lddlflags='-shared -O0 -g -L/usr/local/lib -fstack-protector'


Characteristics of this binary (from libperl): 
  Compile-time options: DEBUGGING MULTIPLICITY MYMALLOC PERL_DONT_CREATE_GVSV
                        PERL_IMPLICIT_CONTEXT PERL_MAD PERL_MALLOC_WRAP
                        PERL_TRACK_MEMPOOL USE_64_BIT_INT USE_FAST_STDIO
                        USE_ITHREADS USE_LARGE_FILES USE_LONG_DOUBLE
                        USE_PERLIO USE_REENTRANT_API
  Built under linux
  Compiled at Oct 10 2014 08:48:46
  %ENV:
    PERL5LIB=""
    PERL5OPT=""
    PERL5_CPANPLUS_IS_RUNNING="5271"
    PERL5_CPAN_IS_RUNNING="5271"
    PERL_ANYEVENT_MODEL="POE"
    PERL_EXTUTILS_AUTOINSTALL="--defaultdeps"
    PERL_MM_USE_DEFAULT="1"
  @INC:
    /opt/perl430-27-O0-5.10.1/lib/5.10.1/i686-linux-thread-multi-64int-ld
    /opt/perl430-27-O0-5.10.1/lib/5.10.1
    /opt/perl430-27-O0-5.10.1/lib/site_perl/5.10.1/i686-linux-thread-multi-64int-ld
    /opt/perl430-27-O0-5.10.1/lib/site_perl/5.10.1
    .