Report for Jedi-Plugin-Template-0.02

Back
From: metabase:user:30977d10-2aae-11df-837a-5e0a49663a4f
Subject: PASS Jedi-Plugin-Template-0.02 v5.18.0 Mac OS X
Date: 2013-08-16T09:21:49Z

This distribution has been tested as part of the CPAN Testers
project, supporting the Perl programming language.  See
http://wiki.cpantesters.org/ for more information or email
questions to cpan-testers-discuss@perl.org


--
Dear celogeek,

This is a computer-generated report for Jedi-Plugin-Template-0.02
on perl 5.18.0, created by CPAN-Reporter-1.2010.

Thank you for uploading your work to CPAN.  Congratulations!
All tests were successful.

Sections of this report:

    * Tester comments
    * Program output
    * Prerequisites
    * Environment and other context

------------------------------
TESTER COMMENTS
------------------------------

Additional comments from tester:

this report is from an automated smoke testing program
and was not reviewed by a human for accuracy

------------------------------
PROGRAM OUTPUT
------------------------------

Output from './Build test':

t/00-compile.t ......................... ok
# Testing with Perl 5.018000, /Users/trushel/perl/5.18.0/bin/perl
#     Carp version is 1.29
#     Digest::SHA version is 5.84
#     File::Find version is 1.23
#     File::Temp version is 0.2301
#     HTTP::Date version is 6.02
#     HTTP::Request::Common version is 6.04
#     IO::Compress::Gzip version is 2.061
#     IO::Uncompress::Gunzip version is 2.061
#     Jedi version is 0.09
#     Jedi::App version is 0.09
#     MIME::Types version is 1.38
#     Module::Build version is 0.4007
#     Moo::Role version is undefined
#     Path::Class version is 0.32
#     Plack::Test version is undefined
#     Scalar::Util version is 1.29
#     Template version is 2.25
#     Test::More version is 0.98
#     Test::Most version is 0.31
#     feature version is 1.32
#     strict version is 1.07
#     warnings version is 1.18
t/000-report-versions.t ................ ok
t/TestApp/jedi-plugin-template.t ....... ok
t/TestTemplate/jedi-plugin-template.t .. ok
t/author-critic.t ...................... skipped: these tests are for testing by the author
t/release-pod-coverage.t ............... skipped: these tests are for release candidate testing
t/release-unused-vars.t ................ skipped: these tests are for release candidate testing
All tests successful.
Files=7, Tests=48,  1 wallclock secs ( 0.04 usr  0.02 sys +  1.06 cusr  0.11 csys =  1.23 CPU)
Result: PASS

------------------------------
PREREQUISITES
------------------------------

Prerequisite modules loaded:

requires:

    Module                 Need   Have    
    ---------------------- ------ --------
    Carp                   0      1.29    
    Digest::SHA            0      5.84    
    feature                0      1.32    
    HTTP::Date             0      6.02    
    IO::Compress::Gzip     0      2.061   
    Jedi                   0.09   0.09    
    MIME::Types            0      1.38    
    Moo::Role              0      0       
    Path::Class            0      0.32    
    perl                   5.010  5.018000
    Template               0      2.25    

build_requires:

    Module                 Need   Have    
    ---------------------- ------ --------
    File::Find             0      1.23    
    File::Temp             0      0.2301  
    HTTP::Request::Common  0      6.04    
    IO::Uncompress::Gunzip 0      2.061   
    Jedi                   0      0.09    
    Jedi::App              0      0.09    
    Module::Build          0.3601 0.4007  
    perl                   5.004  5.018000
    Plack::Test            0      0       
    Scalar::Util           0      1.29    
    strict                 0      1.07    
    Test::More             0.94   0.98    
    Test::Most             0      0.31    
    warnings               0      1.18    

configure_requires:

    Module                 Need   Have    
    ---------------------- ------ --------
    Module::Build          0.3601 0.4007  


------------------------------
ENVIRONMENT AND OTHER CONTEXT
------------------------------

Environment variables:

    AUTOMATED_TESTING = 1
    LANG = en_US.UTF-8
    PATH = /usr/bin:/bin:/usr/sbin:/sbin:/usr/local/bin:/usr/local/bin/g4bin:/usr/local/sbin
    PERL5LIB = 
    PERL5OPT = 
    PERL5_CPANPLUS_IS_RUNNING = 32300
    PERL5_CPAN_IS_RUNNING = 32300
    PERL5_CPAN_IS_RUNNING_IN_RECURSION = 80453,32300
    PERL_CR_SMOKER_CURRENT = Jedi-Plugin-Template-0.02
    PERL_EXTUTILS_AUTOINSTALL = --defaultdeps
    PERL_MM_USE_DEFAULT = 1
    SHELL = /bin/bash
    TERM = xterm-256color
    TMPDIR = /var/folders/00/11s1r000h01000cxqpysvccm004747/T/

Perl special variables (and OS-specific diagnostics, for MSWin32):

    $^X = /Users/trushel/perl/5.18.0/bin/perl
    $UID/$EUID = 138375 / 138375
    $GID = 5762 5762 21 981 980 12 33 62 80 81 98 100 204 401
    $EGID = 5762 5762 21 981 980 12 33 62 80 81 98 100 204 401

Perl module toolchain versions installed:

    Module              Have    
    ------------------- --------
    CPAN                2.00    
    CPAN::Meta          2.132140
    Cwd                 3.40    
    ExtUtils::CBuilder  0.280210
    ExtUtils::Command   1.17    
    ExtUtils::Install   1.59    
    ExtUtils::MakeMaker 6.72    
    ExtUtils::Manifest  1.63    
    ExtUtils::ParseXS   3.18    
    File::Spec          3.40    
    JSON                2.59    
    JSON::PP            2.27202 
    Module::Build       0.4007  
    Module::Signature   n/a     
    Parse::CPAN::Meta   1.4405  
    Test::Harness       3.26    
    Test::More          0.98    
    YAML                0.84    
    YAML::Syck          1.27    
    version             0.9902  


--

Summary of my perl5 (revision 5 version 18 subversion 0) configuration:
   
  Platform:
    osname=darwin, osvers=12.4.0, archname=darwin-2level
    uname='darwin trushel-macbookpro.local 12.4.0 darwin kernel version 12.4.0: wed may 1 17:57:12 pdt 2013; root:xnu-2050.24.15~1release_x86_64 x86_64 '
    config_args=''
    hint=recommended, useposix=true, d_sigaction=define
    useithreads=undef, usemultiplicity=undef
    useperlio=define, d_sfio=undef, uselargefiles=define, usesocks=undef
    use64bitint=define, use64bitall=define, uselongdouble=undef
    usemymalloc=n, bincompat5005=undef
  Compiler:
    cc='cc', ccflags ='-fno-common -DPERL_DARWIN -fno-strict-aliasing -pipe -fstack-protector',
    optimize='-O3',
    cppflags='-fno-common -DPERL_DARWIN -fno-strict-aliasing -pipe -fstack-protector'
    ccversion='', gccversion='4.2.1 Compatible Apple LLVM 4.2 (clang-425.0.28)', gccosandvers=''
    intsize=4, longsize=8, ptrsize=8, doublesize=8, byteorder=12345678
    d_longlong=define, longlongsize=8, d_longdbl=define, longdblsize=16
    ivtype='long', ivsize=8, nvtype='double', nvsize=8, Off_t='off_t', lseeksize=8
    alignbytes=8, prototype=define
  Linker and Libraries:
    ld='env MACOSX_DEPLOYMENT_TARGET=10.3 cc', ldflags =' -fstack-protector -L/usr/local/lib'
    libpth=/usr/local/lib /usr/lib
    libs=-ldbm -ldl -lm -lutil -lc
    perllibs=-ldl -lm -lutil -lc
    libc=, so=dylib, useshrplib=false, libperl=libperl.a
    gnulibc_version=''
  Dynamic Linking:
    dlsrc=dl_dlopen.xs, dlext=bundle, d_dlsymun=undef, ccdlflags=' '
    cccdlflags=' ', lddlflags=' -bundle -undefined dynamic_lookup -L/usr/local/lib -fstack-protector'


Characteristics of this binary (from libperl): 
  Compile-time options: HAS_TIMES PERLIO_LAYERS PERL_DONT_CREATE_GVSV
                        PERL_HASH_FUNC_ONE_AT_A_TIME_HARD PERL_MALLOC_WRAP
                        PERL_PRESERVE_IVUV PERL_SAWAMPERSAND USE_64_BIT_ALL
                        USE_64_BIT_INT USE_LARGE_FILES USE_LOCALE
                        USE_LOCALE_COLLATE USE_LOCALE_CTYPE
                        USE_LOCALE_NUMERIC USE_PERLIO USE_PERL_ATOF
  Built under darwin
  Compiled at Jul  8 2013 20:25:16
  %ENV:
    PERL5LIB=""
    PERL5OPT=""
    PERL5_CPANPLUS_IS_RUNNING="32300"
    PERL5_CPAN_IS_RUNNING="32300"
    PERL5_CPAN_IS_RUNNING_IN_RECURSION="80453,32300"
    PERL_CR_SMOKER_CURRENT="Jedi-Plugin-Template-0.02"
    PERL_EXTUTILS_AUTOINSTALL="--defaultdeps"
    PERL_MM_USE_DEFAULT="1"
  @INC:
    /Users/trushel/perl/5.18.0/lib/site_perl/5.18.0/darwin-2level
    /Users/trushel/perl/5.18.0/lib/site_perl/5.18.0
    /Users/trushel/perl/5.18.0/lib/5.18.0/darwin-2level
    /Users/trushel/perl/5.18.0/lib/5.18.0
    .