Back
From: metabase:user:20a45eae-6c1a-1014-abaf-4bc2b30e56df
Subject: PASS autodie-2.26 v5.21.1 Windows (Cygwin)
Date: 2015-02-23T14:12:59Z
This distribution has been tested as part of the CPAN Testers
project, supporting the Perl programming language. See
http://wiki.cpantesters.org/ for more information or email
questions to cpan-testers-discuss@perl.org
--
Dear Niels Thykier,
This is a computer-generated report for autodie-2.26
on perl 5.21.1, created by CPAN-Reporter-1.2011.
Thank you for uploading your work to CPAN. Congratulations!
All tests were successful.
Sections of this report:
* Tester comments
* Program output
* Prerequisites
* Environment and other context
------------------------------
TESTER COMMENTS
------------------------------
Additional comments from tester:
this report is from an automated smoke testing program
and was not reviewed by a human for accuracy
------------------------------
PROGRAM OUTPUT
------------------------------
Output from '/usr/bin/make test':
PERL_DL_NONLAZY=1 "/opt/perl5/cygwin_nt-6.1/1.7.33-2/x86_64/perl/5.21.1/cygwin-thread/bin/perl.exe" "-MExtUtils::Command::MM" "-MTest::Harness" "-e" "undef *Test::Harness::Switches; test_harness(0, 'blib/lib', 'blib/arch')" t/*.t
t/00-load.t ...................... ok
t/args.t ......................... ok
t/author-critic.t ................ skipped: these tests are for testing by the author
t/autodie.t ...................... ok
t/backcompat.t ................... ok
t/basic_exceptions.t ............. ok
t/binmode.t ...................... ok
t/blog_hints.t ................... ok
t/caller.t ....................... ok
t/chmod.t ........................ ok
t/chown.t ........................ ok
t/context.t ...................... ok
t/context_lexical.t .............. ok
t/core-trampoline-slurp.t ........ ok
t/crickey.t ...................... ok
t/critic.t ....................... skipped: Author test. Set $ENV{AUTHOR_TESTING} to true to run.
t/dbmopen.t ...................... ok
t/eval_error.t ................... ok
t/exception_class.t .............. ok
t/exceptions.t ................... ok
t/exec.t ......................... ok
t/Fatal.t ........................ ok
t/filehandles.t .................. ok
t/fileno.t ....................... ok
t/flock.t ........................ ok
t/fork.t ......................... skipped: BSD::Resource required to test fork()
t/format-clobber.t ............... ok
# Sub::Identify is loaded
t/hints.t ........................ ok
t/hints_insist.t ................. ok
t/hints_pod_examples.t ........... ok
t/hints_provider_does.t .......... ok
t/hints_provider_easy_does_it.t .. ok
t/hints_provider_isa.t ........... ok
t/import-into.t .................. ok
t/internal-backcompat.t .......... ok
t/internal.t ..................... ok
t/kill.t ......................... ok
t/kwalitee.t ..................... skipped: Author test. Set $ENV{RELEASE_TESTING} to true to run.
t/lethal.t ....................... ok
t/lex58.t ........................ skipped: IPC::System::Simple required
t/mkdir.t ........................ ok
t/no_carp.t ...................... ok
t/open.t ......................... ok
t/pod-coverage.t ................. skipped: Author test. Set $ENV{AUTHOR_TESTING} to true to run.
t/pod.t .......................... skipped: Author test. Set $ENV{AUTHOR_TESTING} to true to run.
t/read.t ......................... ok
t/recv.t ......................... ok
t/release-pod-coverage.t ......... skipped: these tests are for release candidate testing
t/release-pod-syntax.t ........... skipped: these tests are for release candidate testing
t/repeat.t ....................... ok
t/rt-74246.t ..................... ok
t/scope_leak.t ................... ok
t/skip.t ......................... ok
t/socket.t ....................... skipped: Author test. Set $ENV{AUTHOR_TESTING} to true to run.
t/string-eval-basic.t ............ ok
t/string-eval-leak.t ............. ok
t/sysopen.t ...................... ok
t/system.t ....................... skipped: IPC::System::Simple not installed
t/truncate.t ..................... ok
t/unlink.t ....................... ok
t/user-context.t ................. ok
t/usersub.t ...................... ok
t/utf8_open.t .................... ok
t/utime.t ........................ ok
t/version.t ...................... skipped: Release test. Set $ENV{RELEASE_TESTING} to true to run.
t/version_tag.t .................. ok
All tests successful.
Files=66, Tests=486, 7 wallclock secs ( 0.23 usr 0.12 sys + 3.07 cusr 3.53 csys = 6.96 CPU)
Result: PASS
------------------------------
PREREQUISITES
------------------------------
Prerequisite modules loaded:
requires:
Module Need Have
------------------- -------- --------
B 0 1.49
Carp 0 1.34
constant 0 1.31
Exporter 5.57 5.71
Fcntl 0 1.11
overload 0 1.22
parent 0 0.228
perl 5.008004 5.021001
POSIX 0 1.40
Scalar::Util 0 1.41
strict 0 1.08
Tie::RefHash 0 1.39
warnings 0 1.24
build_requires:
Module Need Have
------------------- -------- --------
ExtUtils::MakeMaker 0 7.04
File::Copy 0 2.29
File::Spec 0 3.48
File::Temp 0 0.2304
FindBin 0 1.51
if 0 0.0603
Import::Into 0 1.002004
IO::Handle 0 1.35
lib 0 0.63
open 0 1.10
Socket 0 2.016
Test::More 0 1.001009
configure_requires:
Module Need Have
------------------- -------- --------
ExtUtils::MakeMaker 0 7.04
------------------------------
ENVIRONMENT AND OTHER CONTEXT
------------------------------
Environment variables:
AUTOMATED_TESTING = 1
COMSPEC = C:\WINDOWS\system32\cmd.exe
LD_LIBRARY_PATH =
NUMBER_OF_PROCESSORS = 8
PATH = /opt/perl5/cygwin_nt-6.1/1.7.33-2/x86_64/bin/5.21.1/cygwin-thread:/opt/perl5/cygwin_nt-6.1/1.7.33-2/x86_64/perl/5.21.1/cygwin-thread/local/bin:/opt/perl5/cygwin_nt-6.1/1.7.33-2/x86_64/perl/5.21.1/cygwin-thread/bin:/usr/local/bin:/usr/bin
PERL5LIB = /opt/perl5/cygwin_nt-6.1/1.7.33-2/x86_64/perl/5.21.1/cygwin-thread/local/lib/site_perl/5.21.1:/opt/perl5/cygwin_nt-6.1/1.7.33-2/x86_64/perl/5.21.1/cygwin-thread/local/lib/5.21.1:/opt/perl5/cygwin_nt-6.1/1.7.33-2/x86_64/perl/5.21.1/cygwin-thread/local/lib/perl5
PERL5OPT =
PERL5_CPANPLUS_IS_RUNNING = 11568
PERL5_CPAN_IS_RUNNING = 11568
PERL_CPAN_REPORTER_CONFIG = /cygdrive/c/peter/.cpanreporter/config-cygwin-OSL110.ini
PERL_CPAN_REPORTER_DIR = /opt/perl5/cygwin_nt-6.1/1.7.33-2/x86_64/cpan/5.21.1/cygwin-thread/reporter
PERL_EXTUTILS_AUTOINSTALL = 1
PERL_MM_USE_DEFAULT = 1
PERL_MY_PREFIX = /opt/perl5
PERL_MY_SOURCE_DIR = /cygdrive/c/src/perl
PERL_TEST_CRITIC = 1
PERL_TEST_CRITIC = 1
PROCESSOR_IDENTIFIER = Intel64 Family 6 Model 60 Stepping 3, GenuineIntel
SHELL = /usr/bin/bash
TEMP = /tmp
TERM = xterm
Perl special variables (and OS-specific diagnostics, for MSWin32):
$^X = /opt/perl5/cygwin_nt-6.1/1.7.33-2/x86_64/perl/5.21.1/cygwin-thread/bin/perl
$UID/$EUID = 22755 / 22755
$GID = 10513 10513
$EGID = 10513 10513
Perl module toolchain versions installed:
Module Have
------------------- --------
CPAN 2.05
CPAN::Meta 2.143240
Cwd 3.48
ExtUtils::CBuilder 0.280220
ExtUtils::Command 1.18
ExtUtils::Install 2.04
ExtUtils::MakeMaker 7.04
ExtUtils::Manifest 1.69
ExtUtils::ParseXS 3.25
File::Spec 3.48
JSON 2.90
JSON::PP 2.27300
Module::Build 0.4210
Module::Signature n/a
Parse::CPAN::Meta 1.4414
Test::Harness 3.34
Test::More 1.001009
YAML 1.13
YAML::Syck n/a
version 0.9909
--
Summary of my perl5 (revision 5 version 21 subversion 1) configuration:
Platform:
osname=cygwin, osvers=1.7.33-2(0.28053), archname=cygwin-thread
uname='cygwin_nt-6.1 osl110 1.7.33-2(0.28053) 2014-11-13 15:47 x86_64 cygwin '
config_args='-de -Dmksymlinks -Dusedevel -Dcc=gcc -Dld=g++ -Uinc_version_list -Uinstallusrbinperl -Dusethreads -Uusemultiplicity -Duse64bitint -Uuselongdouble -Dprefix=/opt/perl5/cygwin_nt-6.1/1.7.33-2/x86_64/perl/5.21.1/cygwin-thread'
hint=recommended, useposix=true, d_sigaction=define
useithreads=define, usemultiplicity=undef
use64bitint=define, use64bitall=define, uselongdouble=undef
usemymalloc=n, bincompat5005=undef
Compiler:
cc='gcc', ccflags ='-DPERL_USE_SAFE_PUTENV -U__STRICT_ANSI__ -fwrapv -fno-strict-aliasing -pipe -fstack-protector',
optimize='-O3',
cppflags='-DPERL_USE_SAFE_PUTENV -U__STRICT_ANSI__ -fwrapv -fno-strict-aliasing -pipe -fstack-protector'
ccversion='', gccversion='4.8.3', gccosandvers=''
intsize=4, longsize=8, ptrsize=8, doublesize=8, byteorder=12345678
d_longlong=define, longlongsize=8, d_longdbl=define, longdblsize=16
ivtype='long', ivsize=8, nvtype='double', nvsize=8, Off_t='off_t', lseeksize=8
alignbytes=8, prototype=define
Linker and Libraries:
ld='g++', ldflags =' -Wl,--enable-auto-import -Wl,--export-all-symbols -Wl,--enable-auto-image-base -fstack-protector -L/usr/local/lib'
libpth=/usr/lib/gcc/x86_64-pc-cygwin/4.8.3/include-fixed /usr/lib /usr/lib/gcc/x86_64-pc-cygwin/4.8.3/../../../../lib/../include/w32api /usr/local/lib /lib
libs=-ldb -ldl -lcrypt
perllibs=-ldl -lcrypt
libc=/usr/lib/libc.a, so=dll, useshrplib=true, libperl=cygperl5_21_1.dll
gnulibc_version=''
Dynamic Linking:
dlsrc=dl_dlopen.xs, dlext=dll, d_dlsymun=undef, ccdlflags=' '
cccdlflags=' ', lddlflags=' --shared -Wl,--enable-auto-import -Wl,--export-all-symbols -Wl,--enable-auto-image-base -L/usr/local/lib -fstack-protector'
Characteristics of this binary (from libperl):
Compile-time options: HAS_TIMES MULTIPLICITY PERLIO_LAYERS
PERL_DONT_CREATE_GVSV
PERL_HASH_FUNC_ONE_AT_A_TIME_HARD
PERL_IMPLICIT_CONTEXT PERL_MALLOC_WRAP
PERL_NEW_COPY_ON_WRITE PERL_PRESERVE_IVUV
PERL_USE_DEVEL PERL_USE_SAFE_PUTENV USE_64_BIT_ALL
USE_64_BIT_INT USE_ITHREADS USE_LARGE_FILES
USE_LOCALE USE_LOCALE_COLLATE USE_LOCALE_CTYPE
USE_LOCALE_NUMERIC USE_PERLIO USE_PERL_ATOF
USE_REENTRANT_API
Built under cygwin
Compiled at Nov 24 2014 22:10:21
%ENV:
PERL5LIB="/opt/perl5/cygwin_nt-6.1/1.7.33-2/x86_64/perl/5.21.1/cygwin-thread/local/lib/site_perl/5.21.1:/opt/perl5/cygwin_nt-6.1/1.7.33-2/x86_64/perl/5.21.1/cygwin-thread/local/lib/5.21.1:/opt/perl5/cygwin_nt-6.1/1.7.33-2/x86_64/perl/5.21.1/cygwin-thread/local/lib/perl5"
PERL5OPT=""
PERL5_CPANPLUS_IS_RUNNING="11568"
PERL5_CPAN_IS_RUNNING="11568"
PERL_CPAN_REPORTER_CONFIG="/cygdrive/c/peter/.cpanreporter/config-cygwin-OSL110.ini"
PERL_CPAN_REPORTER_DIR="/opt/perl5/cygwin_nt-6.1/1.7.33-2/x86_64/cpan/5.21.1/cygwin-thread/reporter"
PERL_EXTUTILS_AUTOINSTALL="1"
PERL_MM_USE_DEFAULT="1"
PERL_MY_PREFIX="/opt/perl5"
PERL_MY_SOURCE_DIR="/cygdrive/c/src/perl"
PERL_TEST_CRITIC="1"
CYGWIN="codepage:utf8 nodosfilewarning"
@INC:
/opt/perl5/cygwin_nt-6.1/1.7.33-2/x86_64/perl/5.21.1/cygwin-thread/local/lib/site_perl/5.21.1/cygwin-thread
/opt/perl5/cygwin_nt-6.1/1.7.33-2/x86_64/perl/5.21.1/cygwin-thread/local/lib/site_perl/5.21.1
/opt/perl5/cygwin_nt-6.1/1.7.33-2/x86_64/perl/5.21.1/cygwin-thread/local/lib/5.21.1/cygwin-thread
/opt/perl5/cygwin_nt-6.1/1.7.33-2/x86_64/perl/5.21.1/cygwin-thread/local/lib/5.21.1
/opt/perl5/cygwin_nt-6.1/1.7.33-2/x86_64/perl/5.21.1/cygwin-thread/local/lib/perl5/cygwin-thread
/opt/perl5/cygwin_nt-6.1/1.7.33-2/x86_64/perl/5.21.1/cygwin-thread/local/lib/perl5
/opt/perl5/cygwin_nt-6.1/1.7.33-2/x86_64/perl/5.21.1/cygwin-thread/lib/site_perl/5.21.1/cygwin-thread
/opt/perl5/cygwin_nt-6.1/1.7.33-2/x86_64/perl/5.21.1/cygwin-thread/lib/site_perl/5.21.1
/opt/perl5/cygwin_nt-6.1/1.7.33-2/x86_64/perl/5.21.1/cygwin-thread/lib/5.21.1/cygwin-thread
/opt/perl5/cygwin_nt-6.1/1.7.33-2/x86_64/perl/5.21.1/cygwin-thread/lib/5.21.1
.