WebService-Pokemon v0.11 Perl 5 v5.30.2 amd64-openbsd
- Status
- Pass
- From
- Alceu Rodrigues de Freitas Junior
- Dist
-
WebService-Pokemon v0.11
- Platform
- Perl 5 v5.30.2 amd64-openbsd
- Date
- 2020-06-18 17:36:44
- ID
- 4768a26c-b18a-11ea-9572-9e15ce203db8
This distribution has been tested as part of the CPAN Testers
project, supporting the Perl programming language. See
http://wiki.cpantesters.org/ for more information or email
questions to cpan-testers-discuss@perl.org
--
Dear Kian Meng, Ang,
This is a computer-generated report for WebService-Pokemon-0.11
on perl 5.30.2, created by CPAN-Reporter-1.2018.
Thank you for uploading your work to CPAN. Congratulations!
All tests were successful.
Sections of this report:
* Tester comments
* Program output
* Prerequisites
* Environment and other context
------------------------------
TESTER COMMENTS
------------------------------
Additional comments from tester:
this report is from an automated smoke testing program
and was not reviewed by a human for accuracy
------------------------------
PROGRAM OUTPUT
------------------------------
Output from './Build test':
t/00-compile.t .............. ok
# Testing with Perl 5.030002, /usr/bin/perl
# Carp version is 1.50
# Dist::Zilla::App::Command::cover version is 1.101001
# File::Find version is 1.36
# File::Spec version is 3.78
# File::Temp version is 0.2309
# IO::Handle version is 1.40
# IPC::Open3 version is 1.20
# JSON version is 4.02
# Module::Build version is 0.4231
# Module::Build::Tiny version is 0.039
# Moo version is 2.004000
# REST::Client version is 273
# Role::REST::Client version is 0.23
# Scalar::Util version is 1.55
# Test::More version is 1.302175
# Types::Standard version is 1.010002
# URI::Fast version is 0.49
# namespace::clean version is 0.27
# strictures version is 2.000006
# utf8 version is 1.22
t/000-report-versions.t ..... ok
t/00_load.t ................. ok
t/02_request.t .............. skipped: $ENV{POKEAPI_LIVE} not set, skipping live tests
t/03_resource.t ............. skipped: $ENV{POKEAPI_LIVE} not set, skipping live tests
t/04_resource_by_url.t ...... skipped: $ENV{POKEAPI_LIVE} not set, skipping live tests
t/06_named_api_resource.t ... skipped: $ENV{POKEAPI_LIVE} not set, skipping live tests
t/author-eol.t .............. skipped: these tests are for testing by the author
t/author-minimum-version.t .. skipped: these tests are for testing by the author
t/author-pod-coverage.t ..... skipped: these tests are for testing by the author
t/author-pod-syntax.t ....... skipped: these tests are for testing by the author
t/release-distmeta.t ........ skipped: these tests are for release candidate testing
t/release-has-version.t ..... skipped: these tests are for release candidate testing
t/release-kwalitee.t ........ skipped: these tests are for release candidate testing
t/release-unused-vars.t ..... skipped: these tests are for release candidate testing
All tests successful.
Files=15, Tests=26, 7 wallclock secs ( 0.08 usr 0.26 sys + 4.60 cusr 1.69 csys = 6.63 CPU)
Result: PASS
------------------------------
PREREQUISITES
------------------------------
Prerequisite modules loaded:
requires:
Module Need Have
-------------------------------- ----- --------
JSON 0 4.02
Moo 0 2.004000
namespace::clean 0 0.27
REST::Client 0 273
Role::REST::Client 0 0.23
strictures 2 2.000006
Types::Standard 0 1.010002
URI::Fast 0 0.49
utf8 0 1.22
build_requires:
Module Need Have
-------------------------------- ----- --------
Carp 0 1.50
Dist::Zilla::App::Command::cover 0 1.101001
File::Find 0 1.36
File::Spec 0 3.78
File::Temp 0 0.2309
IO::Handle 0 1.40
IPC::Open3 0 1.20
Module::Build 0.28 0.4231
Scalar::Util 0 1.55
Test::More 0.94 1.302175
configure_requires:
Module Need Have
-------------------------------- ----- --------
Module::Build::Tiny 0.034 0.039
------------------------------
ENVIRONMENT AND OTHER CONTEXT
------------------------------
Environment variables:
AUTOMATED_TESTING = 1
DBD_MYSQL_TESTDB = test
DBD_MYSQL_TESTHOST = localhost
DBD_MYSQL_TESTPASSWORD =
DBD_MYSQL_TESTPORT = 3306
DBD_MYSQL_TESTUSER = goku
EXTENDED_TESTING = 1
PATH = /home/goku/perl5/perlbrew/bin:/home/goku/perl5/bin:/home/goku/bin:/usr/bin:/bin:/usr/sbin:/sbin:/usr/X11R6/bin:/usr/local/bin:/usr/local/sbin
PERL5LIB = /home/goku/perl5/lib/perl5
PERL5OPT =
PERL5_CPANPLUS_IS_RUNNING = 48864
PERL5_CPAN_IS_RUNNING = 48864
PERL5_CPAN_IS_RUNNING_IN_RECURSION = 36518,48864
PERLBREW_HOME = /home/goku/.perlbrew
PERLBREW_PATH = /home/goku/perl5/perlbrew/bin
PERLBREW_ROOT = /home/goku/perl5/perlbrew
PERLBREW_SHELLRC_VERSION = 0.88
PERLBREW_VERSION = 0.88
PERL_CR_SMOKER_CURRENT = WebService-Pokemon-0.11
PERL_EXTUTILS_AUTOINSTALL = --defaultdeps
PERL_LOCAL_LIB_ROOT = /home/goku/perl5
PERL_MB_OPT = --install_base "/home/goku/perl5"
PERL_MM_OPT = INSTALL_BASE=/home/goku/perl5
PERL_MM_USE_DEFAULT = 1
PERL_USE_UNSAFE_INC = 1
SHELL = /usr/local/bin/bash
TERM = xterm-256color
Perl special variables (and OS-specific diagnostics, for MSWin32):
$^X = /usr/bin/perl
$UID/$EUID = 1001 / 1001
$GID = 999 999 1001
$EGID = 999 999 1001
Perl module toolchain versions installed:
Module Have
------------------- --------
CPAN 2.28
CPAN::Meta 2.150010
Cwd 3.78
ExtUtils::CBuilder 0.280234
ExtUtils::Command 7.45_01
ExtUtils::Install 2.14
ExtUtils::MakeMaker 7.45_01
ExtUtils::Manifest 1.72
ExtUtils::ParseXS 3.40
File::Spec 3.78
JSON 4.02
JSON::PP 4.04
Module::Build 0.4231
Module::Signature 0.83
Parse::CPAN::Meta 2.150010
Test::Harness 3.43_02
Test::More 1.302175
YAML 1.30
YAML::Syck n/a
version 0.9924
--
Summary of my perl5 (revision 5 version 30 subversion 2) configuration:
Platform:
osname=openbsd
osvers=6.7
archname=amd64-openbsd
uname='openbsd'
config_args='-dsE -Dopenbsd_distribution=defined -Dccflags=-DNO_LOCALE_NUMERIC -DNO_LOCALE_COLLATE -Dmksymlinks'
hint=recommended
useposix=true
d_sigaction=define
useithreads=undef
usemultiplicity=undef
use64bitint=define
use64bitall=define
uselongdouble=undef
usemymalloc=n
default_inc_excludes_dot=define
bincompat5005=undef
Compiler:
cc='cc'
ccflags ='-DNO_LOCALE_NUMERIC -DNO_LOCALE_COLLATE -fno-strict-aliasing -fno-delete-null-pointer-checks -pipe -fstack-protector-strong -D_FORTIFY_SOURCE=2 -I/usr/local/include'
optimize='-O2'
cppflags='-DNO_LOCALE_NUMERIC -DNO_LOCALE_COLLATE -fno-strict-aliasing -fno-delete-null-pointer-checks -pipe -fstack-protector-strong -I/usr/local/include'
ccversion=''
gccversion='4.2.1 Compatible OpenBSD Clang 8.0.1 (tags/RELEASE_801/final)'
gccosandvers=''
intsize=4
longsize=8
ptrsize=8
doublesize=8
byteorder=12345678
doublekind=3
d_longlong=define
longlongsize=8
d_longdbl=define
longdblsize=16
longdblkind=3
ivtype='long'
ivsize=8
nvtype='double'
nvsize=8
Off_t='off_t'
lseeksize=8
alignbytes=8
prototype=define
Linker and Libraries:
ld='cc'
ldflags ='-Wl,-E -fstack-protector-strong -L/usr/local/lib'
libpth=/usr/lib /usr/lib
libs=-lm -lc
perllibs=-lm -lc
libc=/usr/lib/libc.a
so=so
useshrplib=true
libperl=libperl.so.20.0
gnulibc_version=''
Dynamic Linking:
dlsrc=dl_dlopen.xs
dlext=so
d_dlsymun=undef
ccdlflags='-Wl,-R/usr/libdata/perl5/amd64-openbsd/CORE'
cccdlflags='-DPIC -fPIC '
lddlflags='-shared -fPIC -fstack-protector-strong -L/usr/local/lib'
Characteristics of this binary (from libperl):
Compile-time options:
HAS_TIMES
PERLIO_LAYERS
PERL_COPY_ON_WRITE
PERL_DONT_CREATE_GVSV
PERL_MALLOC_WRAP
PERL_OP_PARENT
PERL_PRESERVE_IVUV
USE_64_BIT_ALL
USE_64_BIT_INT
USE_LARGE_FILES
USE_LOCALE
USE_LOCALE_CTYPE
USE_LOCALE_TIME
USE_PERLIO
USE_PERL_ATOF
Built under openbsd
%ENV:
PERL5LIB="/home/goku/perl5/lib/perl5"
PERL5OPT=""
PERL5_CPANPLUS_IS_RUNNING="48864"
PERL5_CPAN_IS_RUNNING="48864"
PERL5_CPAN_IS_RUNNING_IN_RECURSION="36518,48864"
PERLBREW_HOME="/home/goku/.perlbrew"
PERLBREW_PATH="/home/goku/perl5/perlbrew/bin"
PERLBREW_ROOT="/home/goku/perl5/perlbrew"
PERLBREW_SHELLRC_VERSION="0.88"
PERLBREW_VERSION="0.88"
PERL_CR_SMOKER_CURRENT="WebService-Pokemon-0.11"
PERL_EXTUTILS_AUTOINSTALL="--defaultdeps"
PERL_LOCAL_LIB_ROOT="/home/goku/perl5"
PERL_MB_OPT="--install_base "/home/goku/perl5""
PERL_MM_OPT="INSTALL_BASE=/home/goku/perl5"
PERL_MM_USE_DEFAULT="1"
PERL_USE_UNSAFE_INC="1"
@INC:
/home/goku/perl5/lib/perl5/5.30.2/amd64-openbsd
/home/goku/perl5/lib/perl5/5.30.2
/home/goku/perl5/lib/perl5/amd64-openbsd
/home/goku/perl5/lib/perl5
/usr/local/libdata/perl5/site_perl/amd64-openbsd
/usr/local/libdata/perl5/site_perl
/usr/libdata/perl5/amd64-openbsd
/usr/libdata/perl5
.