Mojolicious-Plugin-GraphQL v0.19 Perl 5 v5.30.3 x86_64-linux-thread-multi-ld

Status
Pass
From
Andreas J. König (ANDK)
Dist
Mojolicious-Plugin-GraphQL v0.19
Platform
Perl 5 v5.30.3 x86_64-linux-thread-multi-ld
Date
2022-02-11 22:45:15
ID
476eaa8a-8b8c-11ec-bf8a-fb6fe6218b3c
This distribution has been tested as part of the CPAN Testers
project, supporting the Perl programming language.  See
http://wiki.cpantesters.org/ for more information or email
questions to cpan-testers-discuss@perl.org


--
Dear Ed J,

This is a computer-generated report for Mojolicious-Plugin-GraphQL-0.19
on perl 5.30.3, created by CPAN-Reporter-1.2018.

Thank you for uploading your work to CPAN.  Congratulations!
All tests were successful.

Sections of this report:

    * Tester comments
    * Program output
    * Prerequisites
    * Environment and other context

------------------------------
TESTER COMMENTS
------------------------------

Additional comments from tester:

this report is from an automated smoke testing program
and was not reviewed by a human for accuracy

------------------------------
PROGRAM OUTPUT
------------------------------

Output from '/usr/bin/make test':

PERL_DL_NONLAZY=1 "/home/sand/src/perl/repoperls/installed-perls/host/k93msid/v5.30.3/8854/bin/perl" "-MExtUtils::Command::MM" "-MTest::Harness" "-e" "undef *Test::Harness::Switches; test_harness(0, 'blib/lib', 'blib/arch')" t/*.t
t/00-compile.t ......... ok
# 
# Versions for all modules listed in MYMETA.json (including optional ones):
# 
# === Configure Requires ===
# 
#     Module                 Want Have Where                                                                                        Howbig
#     ------------------- ------- ---- -------------------------------------------------------------------------------------------- ------
#     ExtUtils::MakeMaker 6.63_03 7.44 /home/sand/src/perl/repoperls/installed-perls/host/k93msid/v5.30.3/8854/lib/site_perl/5.30.3 109511
# 
# === Build Requires ===
# 
#     Module              Want Have Where                                                                                        Howbig
#     ------------------- ---- ---- -------------------------------------------------------------------------------------------- ------
#     ExtUtils::MakeMaker  any 7.44 /home/sand/src/perl/repoperls/installed-perls/host/k93msid/v5.30.3/8854/lib/site_perl/5.30.3 109511
# 
# === Test Requires ===
# 
#     Module     Want     Have Where                                                                                        Howbig
#     ---------- ---- -------- -------------------------------------------------------------------------------------------- ------
#     Test::More 0.92 1.302186 /home/sand/src/perl/repoperls/installed-perls/host/k93msid/v5.30.3/8854/lib/site_perl/5.30.3  52981
# 
# === Runtime Requires ===
# 
#     Module          Want     Have Where                                                                                        Howbig
#     --------------- ---- -------- -------------------------------------------------------------------------------------------- ------
#     GraphQL         0.39     0.53 /home/sand/src/perl/repoperls/installed-perls/host/k93msid/v5.30.3/8854/lib/site_perl/5.30.3   6444
#     Module::Runtime  any    0.016 /home/sand/src/perl/repoperls/installed-perls/host/k93msid/v5.30.3/8854/lib/site_perl/5.30.3  17521
#     Mojolicious     8.00     9.21 /home/sand/src/perl/repoperls/installed-perls/host/k93msid/v5.30.3/8854/lib/site_perl/5.30.3  29006
#     curry            any 2.000000 /home/sand/src/perl/repoperls/installed-perls/host/k93msid/v5.30.3/8854/lib/site_perl/5.30.3   2647
#     strict           any     1.11 /home/sand/src/perl/repoperls/installed-perls/host/k93msid/v5.30.3/8854/lib/5.30.3             4738
#     warnings         any     1.44 /home/sand/src/perl/repoperls/installed-perls/host/k93msid/v5.30.3/8854/lib/5.30.3            49989
# 
# === Runtime Recommends ===
# 
#     Module           Want Have Where                                                                                                                     Howbig
#     ---------------- ---- ---- ------------------------------------------------------------------------------------------------------------------------- ------
#     Cpanel::JSON::XS  any 4.19 /home/sand/src/perl/repoperls/installed-perls/host/k93msid/v5.30.3/8854/lib/site_perl/5.30.3/x86_64-linux-thread-multi-ld  90083
# 
t/00-report-prereqs.t .. ok
t/basic.t .............. ok
All tests successful.
Files=3, Tests=11,  3 wallclock secs ( 0.02 usr  0.02 sys +  1.39 cusr  0.21 csys =  1.64 CPU)
Result: PASS

------------------------------
PREREQUISITES
------------------------------

Prerequisite modules loaded:

requires:

    Module              Need    Have    
    ------------------- ------- --------
    curry               0       2.000000
    GraphQL             0.39    0.53    
    Module::Runtime     0       0.016   
    Mojolicious         8.00    9.21    
    perl                5.006   5.030003
    strict              0       1.11    
    warnings            0       1.44    

build_requires:

    Module              Need    Have    
    ------------------- ------- --------
    ExtUtils::MakeMaker 0       7.44    
    Test::More          0.92    1.302186

configure_requires:

    Module              Need    Have    
    ------------------- ------- --------
    ExtUtils::MakeMaker 6.63_03 7.44    

opt_requires:

    Module              Need    Have    
    ------------------- ------- --------
    Cpanel::JSON::XS    0       4.19    


------------------------------
ENVIRONMENT AND OTHER CONTEXT
------------------------------

Environment variables:

    AUTOMATED_TESTING = 1
    LANG = en_US.UTF-8
    NO_NETWORK_TESTING = 1
    PATH = /home/sand/bin:/usr/local/bin:/usr/bin:/bin:/usr/games:/usr/local/perl/bin:/usr/X11/bin:/sbin:/usr/sbin
    PERL5LIB = 
    PERL5OPT = 
    PERL5_CPANPLUS_IS_RUNNING = 946754
    PERL5_CPAN_IS_RUNNING = 946754
    PERL_CANARY_STABILITY_NOPROMPT = 1
    PERL_MM_USE_DEFAULT = 1
    PERL_USE_UNSAFE_INC = 1
    SHELL = /usr/bin/zsh
    TERM = screen

Perl special variables (and OS-specific diagnostics, for MSWin32):

    $^X = /home/sand/src/perl/repoperls/installed-perls/host/k93msid/v5.30.3/8854/bin/perl
    $UID/$EUID = 1005 / 1005
    $GID = 1005 1005
    $EGID = 1005 1005

Perl module toolchain versions installed:

    Module              Have    
    ------------------- --------
    CPAN                2.27    
    CPAN::Meta          2.150010
    Cwd                 3.78    
    ExtUtils::CBuilder  0.280234
    ExtUtils::Command   7.44    
    ExtUtils::Install   2.14    
    ExtUtils::MakeMaker 7.44    
    ExtUtils::Manifest  1.72    
    ExtUtils::ParseXS   3.40    
    File::Spec          3.78    
    JSON                4.03    
    JSON::PP            4.06    
    Module::Build       0.4231  
    Module::Signature   0.83    
    Parse::CPAN::Meta   2.150010
    Test::Harness       3.42    
    Test::More          1.302186
    YAML                1.30    
    YAML::Syck          1.32    
    version             0.9924  


--

Summary of my perl5 (revision 5 version 30 subversion 3) configuration:
  Commit id: 65ddc30325817c6cd4df6ca1d4a1af2383875c3f
  Platform:
    osname=linux
    osvers=5.3.0-2-amd64
    archname=x86_64-linux-thread-multi-ld
    uname='linux k93msid 5.3.0-2-amd64 #1 smp debian 5.3.9-3 (2019-11-19) x86_64 gnulinux '
    config_args='-Dprefix=/home/sand/src/perl/repoperls/installed-perls/host/k93msid/v5.30.3/8854 -Dmyhostname=k93msid -Dinstallusrbinperl=n -Uversiononly -Dusedevel -des -Ui_db -Dlibswanted=cl pthread socket inet nsl gdbm dbm malloc dl ld sun m crypt sec util c cposix posix ucb BSD gdbm_compat -Duseithreads -Duselongdouble -DEBUGGING=-g'
    hint=recommended
    useposix=true
    d_sigaction=define
    useithreads=define
    usemultiplicity=define
    use64bitint=define
    use64bitall=define
    uselongdouble=define
    usemymalloc=n
    default_inc_excludes_dot=define
    bincompat5005=undef
  Compiler:
    cc='cc'
    ccflags ='-D_REENTRANT -D_GNU_SOURCE -fwrapv -fno-strict-aliasing -pipe -fstack-protector-strong -I/usr/local/include -D_LARGEFILE_SOURCE -D_FILE_OFFSET_BITS=64 -D_FORTIFY_SOURCE=2'
    optimize='-O2 -g'
    cppflags='-D_REENTRANT -D_GNU_SOURCE -fwrapv -fno-strict-aliasing -pipe -fstack-protector-strong -I/usr/local/include'
    ccversion=''
    gccversion='9.2.1 20191109'
    gccosandvers=''
    intsize=4
    longsize=8
    ptrsize=8
    doublesize=8
    byteorder=12345678
    doublekind=3
    d_longlong=define
    longlongsize=8
    d_longdbl=define
    longdblsize=16
    longdblkind=3
    ivtype='long'
    ivsize=8
    nvtype='long double'
    nvsize=16
    Off_t='off_t'
    lseeksize=8
    alignbytes=16
    prototype=define
  Linker and Libraries:
    ld='cc'
    ldflags =' -fstack-protector-strong -L/usr/local/lib'
    libpth=/usr/local/lib /usr/lib/gcc/x86_64-linux-gnu/9/include-fixed /usr/include/x86_64-linux-gnu /usr/lib /lib/x86_64-linux-gnu /lib/../lib /usr/lib/x86_64-linux-gnu /usr/lib/../lib /lib
    libs=-lpthread -lnsl -ldl -lm -lcrypt -lutil -lc
    perllibs=-lpthread -lnsl -ldl -lm -lcrypt -lutil -lc
    libc=libc-2.29.so
    so=so
    useshrplib=false
    libperl=libperl.a
    gnulibc_version='2.29'
  Dynamic Linking:
    dlsrc=dl_dlopen.xs
    dlext=so
    d_dlsymun=undef
    ccdlflags='-Wl,-E'
    cccdlflags='-fPIC'
    lddlflags='-shared -O2 -g -L/usr/local/lib -fstack-protector-strong'


Characteristics of this binary (from libperl): 
  Compile-time options:
    HAS_TIMES
    MULTIPLICITY
    PERLIO_LAYERS
    PERL_COPY_ON_WRITE
    PERL_DONT_CREATE_GVSV
    PERL_IMPLICIT_CONTEXT
    PERL_MALLOC_WRAP
    PERL_OP_PARENT
    PERL_PRESERVE_IVUV
    PERL_USE_DEVEL
    USE_64_BIT_ALL
    USE_64_BIT_INT
    USE_ITHREADS
    USE_LARGE_FILES
    USE_LOCALE
    USE_LOCALE_COLLATE
    USE_LOCALE_CTYPE
    USE_LOCALE_NUMERIC
    USE_LOCALE_TIME
    USE_LONG_DOUBLE
    USE_PERLIO
    USE_PERL_ATOF
    USE_REENTRANT_API
    USE_THREAD_SAFE_LOCALE
  Built under linux
  Compiled at Jun  4 2020 05:06:33
  %ENV:
    PERL5LIB=""
    PERL5OPT=""
    PERL5_CPANPLUS_IS_RUNNING="946754"
    PERL5_CPAN_IS_RUNNING="946754"
    PERL_CANARY_STABILITY_NOPROMPT="1"
    PERL_MM_USE_DEFAULT="1"
    PERL_USE_UNSAFE_INC="1"
  @INC:
    /home/sand/src/perl/repoperls/installed-perls/host/k93msid/v5.30.3/8854/lib/site_perl/5.30.3/x86_64-linux-thread-multi-ld
    /home/sand/src/perl/repoperls/installed-perls/host/k93msid/v5.30.3/8854/lib/site_perl/5.30.3
    /home/sand/src/perl/repoperls/installed-perls/host/k93msid/v5.30.3/8854/lib/5.30.3/x86_64-linux-thread-multi-ld
    /home/sand/src/perl/repoperls/installed-perls/host/k93msid/v5.30.3/8854/lib/5.30.3
    .