Module-CPANTS-Analyse v1.02 Perl 5 v5.40.3 x86_64-cygwin-threads-multi

Status
Pass
From
Peter John Acklam (PJACKLAM)
Dist
Module-CPANTS-Analyse v1.02
Platform
Perl 5 v5.40.3 x86_64-cygwin-threads-multi
Date
2025-10-13 16:42:18
ID
4774b2ac-7fe8-1014-b7c5-eefc23a7f17e
This distribution has been tested as part of the CPAN Testers
project, supporting the Perl programming language.  See
http://wiki.cpantesters.org/ for more information or email
questions to cpan-testers-discuss@perl.org


--
Dear Kenichi Ishigaki,

This is a computer-generated report for Module-CPANTS-Analyse-1.02
on perl 5.40.3, created by CPAN-Reporter-1.2020.

Thank you for uploading your work to CPAN.  Congratulations!
All tests were successful.

Sections of this report:

    * Tester comments
    * Program output
    * Prerequisites
    * Environment and other context

------------------------------
TESTER COMMENTS
------------------------------

Additional comments from tester:

none provided

------------------------------
PROGRAM OUTPUT
------------------------------

Output from '/bin/make test':

PERL_DL_NONLAZY=1 "/usr/bin/perl.exe" "-MExtUtils::Command::MM" "-MTest::Harness" "-e" "undef *Test::Harness::Switches; test_harness(0, 'blib/lib', 'blib/arch')" t/*.t t/*/*.t
t/00_load.t .............. ok
t/05_testdir.t ........... ok
t/05_testfile.t .......... ok
t/analyse/manifest.t ..... ok
t/analyse/pod.t .......... ok
t/analyse/uses.t ......... ok
t/older_test_kwalitee.t .. ok
t/x_cpants.t ............. ok
All tests successful.
Files=8, Tests=54, 37 wallclock secs ( 0.11 usr  0.55 sys +  6.65 cusr 29.20 csys = 36.50 CPU)
Result: PASS

------------------------------
PREREQUISITES
------------------------------

Prerequisite modules loaded:

requires:

    Module                            Need     Have    
    --------------------------------- -------- --------
    Archive::Any::Lite                0.06     0.11    
    Archive::Tar                      1.76     3.02_001
    Array::Diff                       0.04     0.09    
    Class::Accessor                   0.19     0.51    
    CPAN::Meta::Validator             2.133380 2.150010
    CPAN::Meta::YAML                  0.008    0.018   
    Data::Binary                      0        0.01    
    File::Find::Object                v0.2.1   0.3.8   
    JSON::PP                          0        4.16    
    List::Util                        1.33     1.70    
    Module::Find                      0        0.17    
    Parse::Distname                   0        0.05    
    perl                              5.008001 5.040003
    Perl::PrereqScanner::NotQuiteLite 0.9901   0.9917  
    Software::License                 0.103012 0.104007
    Text::Balanced                    0        2.06    
    version                           0.73     0.9930  

build_requires:

    Module                            Need     Have    
    --------------------------------- -------- --------
    Cwd                               0        3.91    
    ExtUtils::MakeMaker               0        7.70    
    Test::FailWarnings                0        0.008   
    Test::More                        0.88     1.302214

configure_requires:

    Module                            Need     Have    
    --------------------------------- -------- --------
    ExtUtils::MakeMaker::CPANfile     0.09     0.09    
    perl                              5.008001 5.040003

opt_requires:

    Module                            Need     Have    
    --------------------------------- -------- --------
    Config::INI::Reader               0        0.029   
    Module::CPANfile                  0        1.1004  


------------------------------
ENVIRONMENT AND OTHER CONTEXT
------------------------------

Environment variables:

    COMSPEC = C:\WINDOWS\system32\cmd.exe
    LDFLAGS = -Wl,-rpath,/usr/local/lib -L/usr/local/lib
    NUMBER_OF_PROCESSORS = 8
    PATH = /usr/bin:/usr/lib/lapack:/usr/bin:/bin:/usr/local/bin
    PERL5LIB = /usr/local/lib/perl5/site_perl/5.40:/usr/local/lib/perl5/site_perl/5.40/x86_64-cygwin-threads-multi:/usr/local/lib/perl5/site_perl:/usr/local/lib/perl5/vendor_perl/5.40:/usr/local/lib/perl5/vendor_perl/5.40/x86_64-cygwin-threads-multi:/usr/local/lib/perl5/vendor_perl:/usr/local/lib/perl5/5.40:/usr/local/lib/perl5/5.40/x86_64-cygwin-threads-multi:/usr/local/lib/perl5:/usr/local/share/perl5/site_perl/5.40:/usr/local/share/perl5/site_perl/5.40/x86_64-cygwin-threads-multi:/usr/local/share/perl5/site_perl:/usr/local/share/perl5/vendor_perl/5.40:/usr/local/share/perl5/vendor_perl/5.40/x86_64-cygwin-threads-multi:/usr/local/share/perl5/vendor_perl:/usr/local/share/perl5/5.40:/usr/local/share/perl5/5.40/x86_64-cygwin-threads-multi:/usr/local/share/perl5
    PERL5OPT = 
    PERL5_CPANPLUS_IS_RUNNING = 1460774
    PERL5_CPAN_IS_RUNNING = 1460774
    PERL_CANARY_STABILITY_NOPROMPT = 1
    PERL_CPAN_REPORTER_CONFIG = /cygdrive/d/home/peter/.cpanreporter/config-cygwin-rigel.ini
    PERL_USE_UNSAFE_INC = 
    PROCESSOR_IDENTIFIER = Intel64 Family 6 Model 42 Stepping 7, GenuineIntel
    SHELL = /bin/bash
    TEMP = /tmp
    TERM = xterm

Perl special variables (and OS-specific diagnostics, for MSWin32):

    $^X = /usr/bin/perl
    $UID/$EUID = 197609 / 197609
    $GID = 197609 401408 545 4 66049 11 15 68380 113 4095 66048 262180
    $EGID = 197609 401408 545 4 66049 11 15 68380 113 4095 66048 262180

Perl module toolchain versions installed:

    Module              Have    
    ------------------- --------
    CPAN                2.38    
    CPAN::Meta          2.150010
    Cwd                 3.91    
    ExtUtils::CBuilder  0.280240
    ExtUtils::Command   7.70    
    ExtUtils::Install   2.22    
    ExtUtils::MakeMaker 7.70    
    ExtUtils::Manifest  1.75    
    ExtUtils::ParseXS   3.51    
    File::Spec          3.91    
    JSON                4.10    
    JSON::PP            4.16    
    Module::Build       0.4234  
    Module::Signature   n/a     
    Parse::CPAN::Meta   2.150010
    Test2               1.302214
    Test::Harness       3.48    
    Test::More          1.302214
    YAML                1.31    
    YAML::Syck          1.34    
    version             0.9930  


--

Summary of my perl5 (revision 5 version 40 subversion 3) configuration:
   
  Platform:
    osname=cygwin
    osvers=3.6.4-1.x86_64
    archname=x86_64-cygwin-threads-multi
    uname='cygwin_nt-10.0-26100 walter 3.6.4-1.x86_64 2025-07-15 07:55 utc x86_64 cygwin '
    config_args='-des -Dprefix=/usr -Dmksymlinks -Darchname=x86_64-cygwin-threads -Dlibperl=cygperl5_40.dll -Dcc=gcc -Dld=g++ -Accflags=-ggdb -O2 -pipe -Wall -Werror=format-security -D_FORTIFY_SOURCE=3 -fstack-protector-strong --param=ssp-buffer-size=4 -ffile-prefix-map=/mnt/share/cygpkgs/perl/perl.x86_64/build=/usr/src/debug/perl-5.40.3-1 -ffile-prefix-map=/mnt/share/cygpkgs/perl/perl.x86_64/src/perl-5.40.3=/usr/src/debug/perl-5.40.3-1 -fwrapv'
    hint=recommended
    useposix=true
    d_sigaction=define
    useithreads=define
    usemultiplicity=define
    use64bitint=define
    use64bitall=define
    uselongdouble=undef
    usemymalloc=n
    default_inc_excludes_dot=define
  Compiler:
    cc='gcc'
    ccflags ='-U__STRICT_ANSI__ -D_GNU_SOURCE -ggdb -O2 -pipe -Wall -Werror=format-security -D_FORTIFY_SOURCE=3 -fstack-protector-strong --param=ssp-buffer-size=4 -ffile-prefix-map=/mnt/share/cygpkgs/perl/perl.x86_64/build=/usr/src/debug/perl-5.40.3-1 -ffile-prefix-map=/mnt/share/cygpkgs/perl/perl.x86_64/src/perl-5.40.3=/usr/src/debug/perl-5.40.3-1 -fwrapv -fno-strict-aliasing'
    optimize='-O3'
    cppflags='-U__STRICT_ANSI__ -D_GNU_SOURCE -ggdb -O2 -pipe -Wall -Werror=format-security -D_FORTIFY_SOURCE=3 -fstack-protector-strong --param=ssp-buffer-size=4 -ffile-prefix-map=/mnt/share/cygpkgs/perl/perl.x86_64/build=/usr/src/debug/perl-5.40.3-1 -ffile-prefix-map=/mnt/share/cygpkgs/perl/perl.x86_64/src/perl-5.40.3=/usr/src/debug/perl-5.40.3-1 -fwrapv -fno-strict-aliasing'
    ccversion=''
    gccversion='13.4.0'
    gccosandvers=''
    intsize=4
    longsize=8
    ptrsize=8
    doublesize=8
    byteorder=12345678
    doublekind=3
    d_longlong=define
    longlongsize=8
    d_longdbl=define
    longdblsize=16
    longdblkind=3
    ivtype='long'
    ivsize=8
    nvtype='double'
    nvsize=8
    Off_t='off_t'
    lseeksize=8
    alignbytes=8
    prototype=define
  Linker and Libraries:
    ld='g++'
    ldflags =' -Wl,--enable-auto-import -Wl,--export-all-symbols -Wl,--enable-auto-image-base -fstack-protector-strong'
    libpth=/usr/lib
    libs=-lpthread -lgdbm -ldb -ldl -lcrypt -lgdbm_compat
    perllibs=-lpthread -ldl -lcrypt
    libc=/usr/lib/libcygwin.a
    so=dll
    useshrplib=true
    libperl=cygperl5_40.dll
    gnulibc_version=''
  Dynamic Linking:
    dlsrc=dl_dlopen.xs
    dlext=dll
    d_dlsymun=undef
    ccdlflags=' '
    cccdlflags=' '
    lddlflags=' --shared  -Wl,--enable-auto-import -Wl,--export-all-symbols -Wl,--enable-auto-image-base -fstack-protector-strong'


Characteristics of this binary (from libperl): 
  Compile-time options:
    HAS_LONG_DOUBLE
    HAS_STRTOLD
    HAS_TIMES
    MULTIPLICITY
    PERLIO_LAYERS
    PERL_COPY_ON_WRITE
    PERL_DONT_CREATE_GVSV
    PERL_HASH_FUNC_SIPHASH13
    PERL_HASH_USE_SBOX32
    PERL_OP_PARENT
    PERL_PRESERVE_IVUV
    PERL_USE_SAFE_PUTENV
    USE_64_BIT_ALL
    USE_64_BIT_INT
    USE_ITHREADS
    USE_LARGE_FILES
    USE_LOCALE
    USE_LOCALE_COLLATE
    USE_LOCALE_CTYPE
    USE_LOCALE_NUMERIC
    USE_LOCALE_TIME
    USE_PERLIO
    USE_PERL_ATOF
    USE_REENTRANT_API
    USE_THREAD_SAFE_LOCALE
  Locally applied patches:
    Cygwin: README
    Cygwin: modify hints
    Cygwin: Win32 correct UTF8 handling for tests
  Built under cygwin
  Compiled at Aug  3 2025 15:18:07
  %ENV:
    PERL5LIB="/usr/local/lib/perl5/site_perl/5.40:/usr/local/lib/perl5/site_perl/5.40/x86_64-cygwin-threads-multi:/usr/local/lib/perl5/site_perl:/usr/local/lib/perl5/vendor_perl/5.40:/usr/local/lib/perl5/vendor_perl/5.40/x86_64-cygwin-threads-multi:/usr/local/lib/perl5/vendor_perl:/usr/local/lib/perl5/5.40:/usr/local/lib/perl5/5.40/x86_64-cygwin-threads-multi:/usr/local/lib/perl5:/usr/local/share/perl5/site_perl/5.40:/usr/local/share/perl5/site_perl/5.40/x86_64-cygwin-threads-multi:/usr/local/share/perl5/site_perl:/usr/local/share/perl5/vendor_perl/5.40:/usr/local/share/perl5/vendor_perl/5.40/x86_64-cygwin-threads-multi:/usr/local/share/perl5/vendor_perl:/usr/local/share/perl5/5.40:/usr/local/share/perl5/5.40/x86_64-cygwin-threads-multi:/usr/local/share/perl5"
    PERL5OPT=""
    PERL5_CPANPLUS_IS_RUNNING="1460774"
    PERL5_CPAN_IS_RUNNING="1460774"
    PERL_CANARY_STABILITY_NOPROMPT="1"
    PERL_CPAN_REPORTER_CONFIG="/cygdrive/d/home/peter/.cpanreporter/config-cygwin-rigel.ini"
    PERL_USE_UNSAFE_INC=""
  @INC:
    /usr/local/lib/perl5/site_perl/5.40
    /usr/local/lib/perl5/site_perl/5.40/x86_64-cygwin-threads-multi
    /usr/local/lib/perl5/site_perl
    /usr/local/lib/perl5/vendor_perl/5.40
    /usr/local/lib/perl5/vendor_perl/5.40/x86_64-cygwin-threads-multi
    /usr/local/lib/perl5/vendor_perl
    /usr/local/lib/perl5/5.40
    /usr/local/lib/perl5/5.40/x86_64-cygwin-threads-multi
    /usr/local/lib/perl5/x86_64-cygwin-threads-multi
    /usr/local/lib/perl5
    /usr/local/share/perl5/site_perl/5.40
    /usr/local/share/perl5/site_perl/5.40/x86_64-cygwin-threads-multi
    /usr/local/share/perl5/site_perl
    /usr/local/share/perl5/vendor_perl/5.40
    /usr/local/share/perl5/vendor_perl/5.40/x86_64-cygwin-threads-multi
    /usr/local/share/perl5/vendor_perl
    /usr/local/share/perl5/5.40
    /usr/local/share/perl5/5.40/x86_64-cygwin-threads-multi
    /usr/local/share/perl5
    /usr/local/lib/perl5/site_perl/5.40/x86_64-cygwin-threads
    /usr/local/share/perl5/site_perl/5.40
    /usr/lib/perl5/vendor_perl/5.40/x86_64-cygwin-threads
    /usr/share/perl5/vendor_perl/5.40
    /usr/lib/perl5/5.40/x86_64-cygwin-threads
    /usr/share/perl5/5.40