HTTP-Message v7.00 Perl 5 v5.36.0 cygwin-thread-multi

Status
Pass
From
Nigel Horne
Dist
HTTP-Message v7.00
Platform
Perl 5 v5.36.0 cygwin-thread-multi
Date
2025-04-26 18:23:34
ID
477eff6c-6c21-1014-8ebd-917eaba6e17f
This distribution has been tested as part of the CPAN Testers
project, supporting the Perl programming language.  See
http://wiki.cpantesters.org/ for more information or email
questions to cpan-testers-discuss@perl.org


--
Dear Olaf Alders,

This is a computer-generated report for HTTP-Message-7.00
on perl 5.36.0, created by CPAN-Reporter-1.2020.

Thank you for uploading your work to CPAN.  Congratulations!
All tests were successful.

Sections of this report:

    * Tester comments
    * Program output
    * Prerequisites
    * Environment and other context

------------------------------
TESTER COMMENTS
------------------------------

Additional comments from tester:

none provided

------------------------------
PROGRAM OUTPUT
------------------------------

Output from '/usr/bin/make test':

PERL_DL_NONLAZY=1 "/home/Nigel/perl5/perlbrew/perls/perl-5.36.0/bin/perl5.36.0.exe" "-MExtUtils::Command::MM" "-MTest::Harness" "-e" "undef *Test::Harness::Switches; test_harness(0, 'blib/lib', 'blib/arch')" t/*.t
t/headers-auth.t ............... ok
# 
# Versions for all modules listed in MYMETA.json (including optional ones):
# 
# === Configure Requires ===
# 
#     Module               Want     Have
#     ------------------- ----- --------
#     ExtUtils::MakeMaker   any     7.64
#     perl                5.006 5.036000
# 
# === Configure Suggests ===
# 
#     Module      Want Have
#     -------- ------- ----
#     JSON::PP 2.27300 4.07
# 
# === Build Requires ===
# 
#     Module              Want Have
#     ------------------- ---- ----
#     ExtUtils::MakeMaker  any 7.64
# 
# === Test Requires ===
# 
#     Module                  Want     Have
#     ------------------- -------- --------
#     ExtUtils::MakeMaker      any     7.64
#     File::Spec               any     3.84
#     File::Temp               any   0.2311
#     PerlIO::encoding         any     0.30
#     Test::More              0.88 1.302190
#     Test::Needs              any 0.002010
#     Time::Local              any     1.30
#     Try::Tiny                any     0.32
#     URI::URL                 any     5.31
#     lib                      any     0.65
#     overload                 any     1.35
#     perl                5.008001 5.036000
# 
# === Test Recommends ===
# 
#     Module                     Want     Have
#     ---------------------- -------- --------
#     CPAN::Meta             2.120900 2.150010
#     IO::Compress::Brotli   0.004001  missing
#     IO::Uncompress::Brotli 0.004001  missing
# 
# === Runtime Requires ===
# 
#     Module                         Want     Have
#     -------------------------- -------- --------
#     Carp                            any     1.52
#     Clone                          0.46     0.47
#     Compress::Raw::Bzip2            any    2.103
#     Compress::Raw::Zlib           2.062    2.105
#     Encode                         3.01     3.17
#     Encode::Locale                    1     1.05
#     Exporter                       5.57     5.77
#     File::Spec                      any     3.84
#     HTTP::Date                        6     6.06
#     IO::Compress::Bzip2           2.021    2.106
#     IO::Compress::Deflate           any    2.106
#     IO::Compress::Gzip              any    2.106
#     IO::HTML                        any    1.004
#     IO::Uncompress::Inflate         any    2.106
#     IO::Uncompress::RawInflate      any    2.106
#     LWP::MediaTypes                   6     6.04
#     MIME::Base64                    2.1     3.16
#     MIME::QuotedPrint               any     3.16
#     URI                            1.10     5.31
#     parent                          any    0.238
#     perl                       5.008001 5.036000
#     strict                          any     1.12
#     warnings                        any     1.58
# 
# === Runtime Recommends ===
# 
#     Module                     Want    Have
#     ---------------------- -------- -------
#     IO::Compress::Brotli   0.004001 missing
#     IO::Uncompress::Brotli 0.004001 missing
# 
t/00-report-prereqs.t .......... ok
t/common-req.t ................. ok
t/headers.t .................... ok
t/headers-etag.t ............... ok
t/headers-util.t ............... ok
t/message-brotli.t ............. skipped: Need IO::Compress::Brotli, IO::Uncompress::Brotli
t/message-charset.t ............ ok
t/http-config.t ................ ok
t/message-decode-brotlibomb.t .. skipped: Need IO::Compress::Brotli, IO::Uncompress::Brotli
t/message-decode-xml.t ......... ok
t/message-old.t ................ ok
t/message-parts.t .............. ok
t/message-decode-zipbomb.t ..... ok
t/message-decode-bzipbomb.t .... ok
t/request_type_with_data.t ..... ok
t/status-old.t ................. ok
t/response.t ................... ok
t/request.t .................... ok
t/status.t ..................... ok
t/message.t .................... ok
All tests successful.
Files=21, Tests=841,  4 wallclock secs ( 0.20 usr  0.27 sys +  5.35 cusr 13.42 csys = 19.23 CPU)
Result: PASS

------------------------------
PREREQUISITES
------------------------------

Prerequisite modules loaded:

requires:

    Module                     Need     Have    
    -------------------------- -------- --------
    Carp                       0        1.52    
    Clone                      0.46     0.47    
    Compress::Raw::Bzip2       0        2.103   
    Compress::Raw::Zlib        2.062    2.105   
    Encode                     3.01     3.17    
    Encode::Locale             1        1.05    
    Exporter                   5.57     5.77    
    File::Spec                 0        3.84    
    HTTP::Date                 6        6.06    
    IO::Compress::Bzip2        2.021    2.106   
    IO::Compress::Deflate      0        2.106   
    IO::Compress::Gzip         0        2.106   
    IO::HTML                   0        1.004   
    IO::Uncompress::Inflate    0        2.106   
    IO::Uncompress::RawInflate 0        2.106   
    LWP::MediaTypes            6        6.04    
    MIME::Base64               2.1      3.16    
    MIME::QuotedPrint          0        3.16    
    parent                     0        0.238   
    perl                       5.008001 5.036000
    strict                     0        1.12    
    URI                        1.10     5.31    
    warnings                   0        1.58    

build_requires:

    Module                     Need     Have    
    -------------------------- -------- --------
    ExtUtils::MakeMaker        0        7.64    
    File::Spec                 0        3.84    
    File::Temp                 0        0.2311  
    lib                        0        0.65    
    overload                   0        1.35    
    PerlIO::encoding           0        0.30    
    Test::More                 0.88     1.302190
    Test::Needs                0        0.002010
    Time::Local                0        1.30    
    Try::Tiny                  0        0.32    
    URI::URL                   0        5.31    

configure_requires:

    Module                     Need     Have    
    -------------------------- -------- --------
    ExtUtils::MakeMaker        0        7.64    
    perl                       5.006    5.036000

opt_requires:

    Module                     Need     Have    
    -------------------------- -------- --------
  ! IO::Compress::Brotli       0.004001 n/a     
  ! IO::Uncompress::Brotli     0.004001 n/a     

opt_build_requires:

    Module                     Need     Have    
    -------------------------- -------- --------
    CPAN::Meta                 2.120900 2.150010
  ! IO::Compress::Brotli       0.004001 n/a     
  ! IO::Uncompress::Brotli     0.004001 n/a     


------------------------------
ENVIRONMENT AND OTHER CONTEXT
------------------------------

Environment variables:

    COMSPEC = C:\WINDOWS\system32\cmd.exe
    HARNESS_OPTIONS = c:j6
    LC_CTYPE = en_GB.UTF-8
    NONINTERACTIVE_TESTING = 1
    NUMBER_OF_PROCESSORS = 12
    PATH = /home/Nigel/perl5/perlbrew/bin:/home/Nigel/perl5/perlbrew/perls/perl-5.36.0/bin:/home/Nigel/bin::/home/Nigel/bin:/usr/local/bin:/usr/bin:/bin
    PERL5LIB = 
    PERL5OPT = 
    PERL5_CPANPLUS_IS_RUNNING = 8731
    PERL5_CPAN_IS_RUNNING = 8731
    PERLBREW_HOME = /home/Nigel/.perlbrew
    PERLBREW_MANPATH = /home/Nigel/perl5/perlbrew/perls/perl-5.36.0/man
    PERLBREW_PATH = /home/Nigel/perl5/perlbrew/bin:/home/Nigel/perl5/perlbrew/perls/perl-5.36.0/bin
    PERLBREW_PERL = perl-5.36.0
    PERLBREW_ROOT = /home/Nigel/perl5/perlbrew
    PERLBREW_SHELLRC_VERSION = 0.92
    PERLBREW_VERSION = 0.92
    PERL_MM_USE_DEFAULT = 1
    PERL_USE_UNSAFE_INC = 1
    PROCESSOR_IDENTIFIER = Intel64 Family 6 Model 62 Stepping 4, GenuineIntel
    SHELL = /bin/bash
    TEMP = /cygdrive/j/temp
    TERM = xterm
    TMPDIR = /cygdrive/j/temp

Perl special variables (and OS-specific diagnostics, for MSWin32):

    $^X = /home/Nigel/perl5/perlbrew/perls/perl-5.36.0/bin/perl5.36.0
    $UID/$EUID = 1001 / 1001
    $GID = 11001 401408 1002 559 545 4 66049 11 15 68354 113 4095 66048 262180
    $EGID = 11001 401408 1002 559 545 4 66049 11 15 68354 113 4095 66048 262180

Perl module toolchain versions installed:

    Module              Have    
    ------------------- --------
    CPAN                2.33    
    CPAN::Meta          2.150010
    Cwd                 3.84    
    ExtUtils::CBuilder  0.280236
    ExtUtils::Command   7.64    
    ExtUtils::Install   2.20    
    ExtUtils::MakeMaker 7.64    
    ExtUtils::Manifest  1.73    
    ExtUtils::ParseXS   3.45    
    File::Spec          3.84    
    JSON                n/a     
    JSON::PP            4.07    
    Module::Build       0.4234  
    Module::Signature   n/a     
    Parse::CPAN::Meta   2.150010
    Test2               1.302190
    Test::Harness       3.44    
    Test::More          1.302190
    YAML                1.31    
    YAML::Syck          n/a     
    version             0.9929  


--

Summary of my perl5 (revision 5 version 36 subversion 0) configuration:
   
  Platform:
    osname=cygwin
    osvers=3.4.6-1.x86_64
    archname=cygwin-thread-multi
    uname='cygwin_nt-10.0-19045 cyberpower 3.4.6-1.x86_64 2023-02-14 13:23 utc x86_64 cygwin '
    config_args='-de -Dprefix=/home/Nigel/perl5/perlbrew/perls/perl-5.36.0 -Dusedevel -Accflags=-O2 -W -Wformat=2 -Wswitch -Wshadow -Wwrite-strings -Wuninitialized -Wall -pipe -mtune=native -march=native -fomit-frame-pointer -msse2 -msse -mmmx -mfpmath=sse -D_FORTIFY_SOURCE=2 -Wpointer-arith -Wstrict-prototypes -fstack-protector -Wstack-protector -Wextra -Wbad-function-cast -Wcast-align -Wcast-qual -Wdisabled-optimization -Wendif-labels -Wfloat-equal -Wformat-nonliteral -Winline -Wmissing-declarations -Wmissing-prototypes -Wnested-externs -Wpointer-arith -Wundef -Wformat-security -ftree-vectorize -mtune=native -march=native -Aeval:scriptdir=/home/Nigel/perl5/perlbrew/perls/perl-5.36.0/bin'
    hint=recommended
    useposix=true
    d_sigaction=define
    useithreads=define
    usemultiplicity=define
    use64bitint=define
    use64bitall=define
    uselongdouble=undef
    usemymalloc=n
    default_inc_excludes_dot=define
  Compiler:
    cc='gcc'
    ccflags ='-DPERL_USE_SAFE_PUTENV -U__STRICT_ANSI__ -O2 -W -Wformat=2 -Wswitch -Wshadow -Wwrite-strings -Wuninitialized -Wall -pipe -mtune=native -march=native -fomit-frame-pointer -msse2 -msse -mmmx -mfpmath=sse -D_FORTIFY_SOURCE=2 -Wpointer-arith -Wstrict-prototypes -fstack-protector -Wstack-protector -Wextra -Wbad-function-cast -Wcast-align -Wcast-qual -Wdisabled-optimization -Wendif-labels -Wfloat-equal -Wformat-nonliteral -Winline -Wmissing-declarations -Wmissing-prototypes -Wnested-externs -Wpointer-arith -Wundef -Wformat-security -ftree-vectorize -mtune=native -march=native -fwrapv -fno-strict-aliasing -fstack-protector-strong'
    optimize='-O3'
    cppflags='-DPERL_USE_SAFE_PUTENV -U__STRICT_ANSI__ -O2 -W -Wformat=2 -Wswitch -Wshadow -Wwrite-strings -Wuninitialized -Wall -pipe -mtune=native -march=native -fomit-frame-pointer -msse2 -msse -mmmx -mfpmath=sse -D_FORTIFY_SOURCE=2 -Wpointer-arith -Wstrict-prototypes -fstack-protector -Wstack-protector -Wextra -Wbad-function-cast -Wcast-align -Wcast-qual -Wdisabled-optimization -Wendif-labels -Wfloat-equal -Wformat-nonliteral -Winline -Wmissing-declarations -Wmissing-prototypes -Wnested-externs -Wpointer-arith -Wundef -Wformat-security -ftree-vectorize -mtune=native -march=native -fwrapv -fno-strict-aliasing -fstack-protector-strong'
    ccversion=''
    gccversion='11.3.0'
    gccosandvers=''
    intsize=4
    longsize=8
    ptrsize=8
    doublesize=8
    byteorder=12345678
    doublekind=3
    d_longlong=define
    longlongsize=8
    d_longdbl=define
    longdblsize=16
    longdblkind=3
    ivtype='long'
    ivsize=8
    nvtype='double'
    nvsize=8
    Off_t='off_t'
    lseeksize=8
    alignbytes=8
    prototype=define
  Linker and Libraries:
    ld='g++'
    ldflags =' -Wl,--enable-auto-import -Wl,--export-all-symbols -Wl,--enable-auto-image-base -fstack-protector-strong -L/usr/local/lib'
    libpth=/usr/lib /usr/lib/w32api /usr/local/lib /lib
    libs=-lpthread -ldl
    perllibs=-lpthread -ldl
    libc=/usr/lib/libc.a
    so=dll
    useshrplib=true
    libperl=cygperl5_36_0.dll
    gnulibc_version=''
  Dynamic Linking:
    dlsrc=dl_dlopen.xs
    dlext=dll
    d_dlsymun=undef
    ccdlflags=' '
    cccdlflags=' '
    lddlflags=' --shared  -Wl,--enable-auto-import -Wl,--export-all-symbols -Wl,--enable-auto-image-base -L/usr/local/lib -fstack-protector-strong'


Characteristics of this binary (from libperl): 
  Compile-time options:
    HAS_TIMES
    MULTIPLICITY
    PERLIO_LAYERS
    PERL_COPY_ON_WRITE
    PERL_DONT_CREATE_GVSV
    PERL_MALLOC_WRAP
    PERL_OP_PARENT
    PERL_PRESERVE_IVUV
    PERL_USE_DEVEL
    PERL_USE_SAFE_PUTENV
    USE_64_BIT_ALL
    USE_64_BIT_INT
    USE_ITHREADS
    USE_LARGE_FILES
    USE_LOCALE
    USE_LOCALE_COLLATE
    USE_LOCALE_CTYPE
    USE_LOCALE_NUMERIC
    USE_LOCALE_TIME
    USE_PERLIO
    USE_PERL_ATOF
    USE_REENTRANT_API
    USE_THREAD_SAFE_LOCALE
  Built under cygwin
  Compiled at Mar 18 2023 12:07:42
  %ENV:
    PERL5LIB=""
    PERL5OPT=""
    PERL5_CPANPLUS_IS_RUNNING="8731"
    PERL5_CPAN_IS_RUNNING="8731"
    PERLBREW_HOME="/home/Nigel/.perlbrew"
    PERLBREW_MANPATH="/home/Nigel/perl5/perlbrew/perls/perl-5.36.0/man"
    PERLBREW_PATH="/home/Nigel/perl5/perlbrew/bin:/home/Nigel/perl5/perlbrew/perls/perl-5.36.0/bin"
    PERLBREW_PERL="perl-5.36.0"
    PERLBREW_ROOT="/home/Nigel/perl5/perlbrew"
    PERLBREW_SHELLRC_VERSION="0.92"
    PERLBREW_VERSION="0.92"
    PERL_MM_USE_DEFAULT="1"
    PERL_USE_UNSAFE_INC="1"
  @INC:
    /home/Nigel/perl5/perlbrew/perls/perl-5.36.0/lib/site_perl/5.36.0/cygwin-thread-multi
    /home/Nigel/perl5/perlbrew/perls/perl-5.36.0/lib/site_perl/5.36.0
    /home/Nigel/perl5/perlbrew/perls/perl-5.36.0/lib/5.36.0/cygwin-thread-multi
    /home/Nigel/perl5/perlbrew/perls/perl-5.36.0/lib/5.36.0
    .