Report for Test-Differences-0.62

Back
From: metabase:user:5d3557d2-3c72-11e3-a020-0dfbcd73216e
Subject: PASS Test-Differences-0.62 v5.18.2 Mac OS X
Date: 2014-11-05T10:12:42Z

This distribution has been tested as part of the CPAN Testers
project, supporting the Perl programming language.  See
http://wiki.cpantesters.org/ for more information or email
questions to cpan-testers-discuss@perl.org


--
Dear David Cantrell,

This is a computer-generated report for Test-Differences-0.62
on perl 5.18.2, created by CPAN-Reporter-1.2011.

Thank you for uploading your work to CPAN.  Congratulations!
All tests were successful.

Sections of this report:

    * Tester comments
    * Program output
    * Prerequisites
    * Environment and other context

------------------------------
TESTER COMMENTS
------------------------------

Additional comments from tester:

none provided

------------------------------
PROGRAM OUTPUT
------------------------------

Output from './Build test':

# Testing Test::Differences 0.62, Perl 5.018002, /Users/sno/perl5/perlbrew/perls/perl-5.18.2-thread-multi/bin/perl
t/00-load.t ......... ok
t/boilerplate.t ..... ok
t/column-headers.t .. ok
t/diff_styles.t ..... ok
t/example.t ......... ok
t/flatten.t ......... ok
t/pass.t ............ ok
t/pod-coverage.t .... ok
t/pod.t ............. ok
t/regression.t ...... ok
t/struct.t .......... ok
# This test misuses TODO: these TODOs are actually real tests.
t/test.t ............ ok
t/text_vs_data.t .... ok
t/undef.t ........... ok
All tests successful.
Files=14, Tests=47,  1 wallclock secs ( 0.06 usr  0.04 sys +  0.63 cusr  0.11 csys =  0.84 CPU)
Result: PASS

------------------------------
PREREQUISITES
------------------------------

Prerequisite modules loaded:

requires:

    Module              Need  Have    
    ------------------- ----- --------
    Capture::Tiny       0.24  0.27    
    Data::Dumper        2.126 2.154   
    Test::More          0     1.001003
    Text::Diff          0.35  1.41    

configure_requires:

    Module              Need  Have    
    ------------------- ----- --------
    ExtUtils::MakeMaker 0     7.00    


------------------------------
ENVIRONMENT AND OTHER CONTEXT
------------------------------

Environment variables:

    LANG = de_DE.UTF-8
    PATH = /Users/sno/perl5/perlbrew/bin:/Users/sno/perl5/perlbrew/perls/perl-5.18.2-thread-multi/bin:/Users/sno/bin:/opt/pkg/bin:/opt/pkg/sbin:/usr/bin:/bin:/usr/sbin:/sbin:/usr/local/bin:/opt/X11/bin
    PERL5LIB = 
    PERL5OPT = 
    PERL5_CPANPLUS_IS_RUNNING = 97993
    PERL5_CPAN_IS_RUNNING = 97993
    PERLBREW_BASHRC_VERSION = 0.54
    PERLBREW_HOME = /Users/sno/.perlbrew
    PERLBREW_MANPATH = /Users/sno/perl5/perlbrew/perls/perl-5.18.2-thread-multi/man
    PERLBREW_PATH = /Users/sno/perl5/perlbrew/bin:/Users/sno/perl5/perlbrew/perls/perl-5.18.2-thread-multi/bin
    PERLBREW_PERL = perl-5.18.2-thread-multi
    PERLBREW_ROOT = /Users/sno/perl5/perlbrew
    PERLBREW_VERSION = 0.64
    SHELL = /bin/bash
    TERM = xterm
    TMPDIR = /var/folders/5s/sk58jrwj7jj73phc9lcx9nh80000gn/T/

Perl special variables (and OS-specific diagnostics, for MSWin32):

    $^X = /Users/sno/perl5/perlbrew/perls/perl-5.18.2-thread-multi/bin/perl
    $UID/$EUID = 501 / 501
    $GID = 20 20 501 12 61 79 80 81 98 33 100 204 398 399
    $EGID = 20 20 501 12 61 79 80 81 98 33 100 204 398 399

Perl module toolchain versions installed:

    Module              Have    
    ------------------- --------
    CPAN                2.05    
    CPAN::Meta          2.142690
    Cwd                 3.47    
    ExtUtils::CBuilder  0.280220
    ExtUtils::Command   1.18    
    ExtUtils::Install   2.04    
    ExtUtils::MakeMaker 7.00    
    ExtUtils::Manifest  1.68    
    ExtUtils::ParseXS   3.24    
    File::Spec          3.47    
    JSON                2.90    
    JSON::PP            2.27300 
    Module::Build       0.4210  
    Module::Signature   n/a     
    Parse::CPAN::Meta   1.4414  
    Test::Harness       3.30    
    Test::More          1.001003
    YAML                0.92    
    YAML::Syck          n/a     
    version             0.9909  


--

Summary of my perl5 (revision 5 version 18 subversion 2) configuration:
   
  Platform:
    osname=darwin, osvers=13.0.0, archname=darwin-thread-multi-2level
    uname='darwin ernie.muppets.liwing.de 13.0.0 darwin kernel version 13.0.0: thu sep 19 22:22:27 pdt 2013; root:xnu-2422.1.72~6release_x86_64 x86_64 '
    config_args='-de -Dprefix=/Users/sno/perl5/perlbrew/perls/perl-5.18.2-thread-multi -Dusethreads -Dusemultiplicity -Aeval:scriptdir=/Users/sno/perl5/perlbrew/perls/perl-5.18.2-thread-multi/bin'
    hint=recommended, useposix=true, d_sigaction=define
    useithreads=define, usemultiplicity=define
    useperlio=define, d_sfio=undef, uselargefiles=define, usesocks=undef
    use64bitint=define, use64bitall=define, uselongdouble=undef
    usemymalloc=n, bincompat5005=undef
  Compiler:
    cc='cc', ccflags ='-fno-common -DPERL_DARWIN -fno-strict-aliasing -pipe -fstack-protector',
    optimize='-O3',
    cppflags='-fno-common -DPERL_DARWIN -fno-strict-aliasing -pipe -fstack-protector'
    ccversion='', gccversion='4.2.1 Compatible Apple LLVM 5.0 (clang-500.2.79)', gccosandvers=''
    intsize=4, longsize=8, ptrsize=8, doublesize=8, byteorder=12345678
    d_longlong=define, longlongsize=8, d_longdbl=define, longdblsize=16
    ivtype='long', ivsize=8, nvtype='double', nvsize=8, Off_t='off_t', lseeksize=8
    alignbytes=8, prototype=define
  Linker and Libraries:
    ld='env MACOSX_DEPLOYMENT_TARGET=10.3 cc', ldflags =' -fstack-protector'
    libpth=/usr/lib
    libs=-ldbm -ldl -lm -lutil -lc
    perllibs=-ldl -lm -lutil -lc
    libc=, so=dylib, useshrplib=false, libperl=libperl.a
    gnulibc_version=''
  Dynamic Linking:
    dlsrc=dl_dlopen.xs, dlext=bundle, d_dlsymun=undef, ccdlflags=' '
    cccdlflags=' ', lddlflags=' -bundle -undefined dynamic_lookup -fstack-protector'


Characteristics of this binary (from libperl): 
  Compile-time options: HAS_TIMES MULTIPLICITY PERLIO_LAYERS
                        PERL_DONT_CREATE_GVSV
                        PERL_HASH_FUNC_ONE_AT_A_TIME_HARD
                        PERL_IMPLICIT_CONTEXT PERL_MALLOC_WRAP
                        PERL_PRESERVE_IVUV PERL_SAWAMPERSAND USE_64_BIT_ALL
                        USE_64_BIT_INT USE_ITHREADS USE_LARGE_FILES
                        USE_LOCALE USE_LOCALE_COLLATE USE_LOCALE_CTYPE
                        USE_LOCALE_NUMERIC USE_PERLIO USE_PERL_ATOF
                        USE_REENTRANT_API
  Built under darwin
  Compiled at Feb  1 2014 16:21:59
  %ENV:
    PERL5LIB=""
    PERL5OPT=""
    PERL5_CPANPLUS_IS_RUNNING="97993"
    PERL5_CPAN_IS_RUNNING="97993"
    PERLBREW_BASHRC_VERSION="0.54"
    PERLBREW_HOME="/Users/sno/.perlbrew"
    PERLBREW_MANPATH="/Users/sno/perl5/perlbrew/perls/perl-5.18.2-thread-multi/man"
    PERLBREW_PATH="/Users/sno/perl5/perlbrew/bin:/Users/sno/perl5/perlbrew/perls/perl-5.18.2-thread-multi/bin"
    PERLBREW_PERL="perl-5.18.2-thread-multi"
    PERLBREW_ROOT="/Users/sno/perl5/perlbrew"
    PERLBREW_VERSION="0.64"
  @INC:
    /Users/sno/perl5/perlbrew/perls/perl-5.18.2-thread-multi/lib/site_perl/5.18.2/darwin-thread-multi-2level
    /Users/sno/perl5/perlbrew/perls/perl-5.18.2-thread-multi/lib/site_perl/5.18.2
    /Users/sno/perl5/perlbrew/perls/perl-5.18.2-thread-multi/lib/5.18.2/darwin-thread-multi-2level
    /Users/sno/perl5/perlbrew/perls/perl-5.18.2-thread-multi/lib/5.18.2
    .