Back
From: metabase:user:8286d1fc-3d52-11e2-9ec4-cb9cdd236785
Subject: PASS Constant-Exporter-0.01 v5.8.8 GNU/Linux
Date: 2014-02-21T01:48:36Z
This distribution has been tested as part of the CPAN Testers
project, supporting the Perl programming language. See
http://wiki.cpantesters.org/ for more information or email
questions to cpan-testers-discuss@perl.org
--
Dear punipuni,
This is a computer-generated report for Constant-Exporter-0.01
on perl 5.8.8, created by CPAN-Reporter-1.2010.
Thank you for uploading your work to CPAN. Congratulations!
All tests were successful.
Sections of this report:
* Tester comments
* Program output
* Prerequisites
* Environment and other context
------------------------------
TESTER COMMENTS
------------------------------
Additional comments from tester:
this report is from an automated smoke testing program
and was not reviewed by a human for accuracy
------------------------------
PROGRAM OUTPUT
------------------------------
Output from './Build test':
t/export.t .............. ok
t/export_tag.t .......... ok
t/mixed.t ............... ok
t/release-pod-syntax.t .. skipped: these tests are for release candidate testing
All tests successful.
Files=4, Tests=6, 1 wallclock secs ( 0.11 usr 0.03 sys + 0.30 cusr 0.07 csys = 0.51 CPU)
Result: PASS
------------------------------
PREREQUISITES
------------------------------
Prerequisite modules loaded:
requires:
Module Need Have
------------------- -------- --------
perl 5.008005 5.008008
build_requires:
Module Need Have
------------------- -------- --------
Test::More 0.88 1.001002
configure_requires:
Module Need Have
------------------- -------- --------
Module::Build::Tiny 0.023 0.034
------------------------------
ENVIRONMENT AND OTHER CONTEXT
------------------------------
Environment variables:
AUTOMATED_TESTING = 1
LANG = en_US.UTF-8
LD_LIBRARY_PATH = /usr/local/lib
PATH = /usr/lib/qt-3.3/bin:/usr/kerberos/sbin:/usr/kerberos/bin:/usr/lib/ccache:/usr/local/sbin:/usr/local/bin:/sbin:/bin:/usr/sbin:/usr/bin:/usr/X11R6/bin:/usr/lib/alliance/bin:/opt/real/RealPlayer:/root/bin:/usr/lib/alliance/bin:/opt/real/RealPlayer
PERL5LIB = /root/.cpan/build/Class-Exporter-0.03-Oo_JW4/blib/arch:/root/.cpan/build/Class-Exporter-0.03-Oo_JW4/blib/lib:/root/.cpan/build/CGI-Listman-0.02-b7L6vn/blib/arch:/root/.cpan/build/CGI-Listman-0.02-b7L6vn/blib/lib:/root/.cpan/build/Attribute-Exporter-0.01-ZUrh_P/blib/arch:/root/.cpan/build/Attribute-Exporter-0.01-ZUrh_P/blib/lib:/root/.cpan/build/AppConfig-Exporter-1.5-v6y2Ek/blib/arch:/root/.cpan/build/AppConfig-Exporter-1.5-v6y2Ek/blib/lib:/root/.cpan/build/ActionExporter-0.02-9VZ1X4/blib/arch:/root/.cpan/build/ActionExporter-0.02-9VZ1X4/blib/lib
PERL5OPT =
PERL5_CPANPLUS_IS_RUNNING = 14069
PERL5_CPAN_IS_RUNNING = 14069
PERL_MM_USE_DEFAULT = 1
SHELL = /bin/bash
TERM = xterm
Perl special variables (and OS-specific diagnostics, for MSWin32):
$^X = /opt/perl444-27-5.8.8/bin/perl
$UID/$EUID = 0 / 0
$GID = 0 10 6 4 3 2 1 0
$EGID = 0 10 6 4 3 2 1 0
Perl module toolchain versions installed:
Module Have
------------------- --------
CPAN 2.03
CPAN::Meta 2.133380
Cwd 3.40
ExtUtils::CBuilder 0.280212
ExtUtils::Command 1.18
ExtUtils::Install 1.54
ExtUtils::MakeMaker 6.88
ExtUtils::Manifest 1.63
ExtUtils::ParseXS 3.22
File::Spec 3.40
JSON 2.90
JSON::PP 2.27203
Module::Build 0.4205
Module::Signature 0.73
Parse::CPAN::Meta 1.4409
Test::Harness 3.30
Test::More 1.001002
YAML 0.90
YAML::Syck 1.27
version 0.9908
--
Summary of my perl5 (revision 5 version 8 subversion 8) configuration:
Platform:
osname=linux, osvers=2.6.27-repin.1, archname=i686-linux-thread-multi-64int-ld
uname='linux localhost.localdomain 2.6.27-repin.1 #1 smp tue jan 25 20:07:21 msk 2011 i686 i686 i386 gnulinux '
config_args='-Dcc=/opt/444/bin/gcc -Doptimize=-g -DDMALLOC=/usr/local/bin/dmalloc -Dprefix=/opt/perl444-27-5.8.8 -DDEBUGGING'
hint=recommended, useposix=true, d_sigaction=define
usethreads=define use5005threads=undef useithreads=define usemultiplicity=define
useperlio=define d_sfio=undef uselargefiles=define usesocks=undef
use64bitint=define use64bitall=undef uselongdouble=define
usemymalloc=n, bincompat5005=undef
Compiler:
cc='/opt/444/bin/gcc', ccflags ='-DDMALLOC -D_LARGEFILE_SOURCE -D_FILE_OFFSET_BITS=64 -I/usr/include/gdbm',
optimize='-g',
cppflags='-DDMALLOC -I/usr/include/gdbm'
ccversion='', gccversion='4.4.4', gccosandvers=''
intsize=4, longsize=4, ptrsize=4, doublesize=8, byteorder=12345678
d_longlong=define, longlongsize=8, d_longdbl=define, longdblsize=12
ivtype='long long', ivsize=8, nvtype='long double', nvsize=12, Off_t='off_t', lseeksize=8
alignbytes=4, prototype=define
Linker and Libraries:
ld='/opt/444/bin/gcc', ldflags =' -L/usr/local/lib'
libpth=/usr/local/lib /lib /usr/lib
libs=-lnsl -lgdbm -ldb -ldl -lm -lcrypt -lutil -lpthread -lc
perllibs=-lnsl -ldl -lm -lcrypt -lutil -lpthread -lc
libc=/lib/libc-2.5.so, so=so, useshrplib=true, libperl=libperl.so
gnulibc_version='2.5'
Dynamic Linking:
dlsrc=dl_dlopen.xs, dlext=so, d_dlsymun=undef, ccdlflags='-Wl,-E -Wl,-rpath,/opt/perl444-27-5.8.8/lib/5.8.8/i686-linux-thread-multi-64int-ld/CORE'
cccdlflags='-fpic', lddlflags='-shared -L/usr/local/lib'
Characteristics of this binary (from libperl):
Compile-time options: MULTIPLICITY PERL_IMPLICIT_CONTEXT
PERL_MALLOC_WRAP USE_64_BIT_INT USE_ITHREADS
USE_LARGE_FILES USE_LONG_DOUBLE USE_PERLIO
USE_REENTRANT_API
Built under linux
Compiled at Oct 3 2013 00:09:11
%ENV:
PERL5LIB="/root/.cpan/build/Class-Exporter-0.03-Oo_JW4/blib/arch:/root/.cpan/build/Class-Exporter-0.03-Oo_JW4/blib/lib:/root/.cpan/build/CGI-Listman-0.02-b7L6vn/blib/arch:/root/.cpan/build/CGI-Listman-0.02-b7L6vn/blib/lib:/root/.cpan/build/Attribute-Exporter-0.01-ZUrh_P/blib/arch:/root/.cpan/build/Attribute-Exporter-0.01-ZUrh_P/blib/lib:/root/.cpan/build/AppConfig-Exporter-1.5-v6y2Ek/blib/arch:/root/.cpan/build/AppConfig-Exporter-1.5-v6y2Ek/blib/lib:/root/.cpan/build/ActionExporter-0.02-9VZ1X4/blib/arch:/root/.cpan/build/ActionExporter-0.02-9VZ1X4/blib/lib"
PERL5OPT=""
PERL5_CPANPLUS_IS_RUNNING="14069"
PERL5_CPAN_IS_RUNNING="14069"
PERL_MM_USE_DEFAULT="1"
@INC:
/root/.cpan/build/Class-Exporter-0.03-Oo_JW4/blib/arch
/root/.cpan/build/Class-Exporter-0.03-Oo_JW4/blib/lib
/root/.cpan/build/CGI-Listman-0.02-b7L6vn/blib/arch
/root/.cpan/build/CGI-Listman-0.02-b7L6vn/blib/lib
/root/.cpan/build/Attribute-Exporter-0.01-ZUrh_P/blib/arch
/root/.cpan/build/Attribute-Exporter-0.01-ZUrh_P/blib/lib
/root/.cpan/build/AppConfig-Exporter-1.5-v6y2Ek/blib/arch
/root/.cpan/build/AppConfig-Exporter-1.5-v6y2Ek/blib/lib
/root/.cpan/build/ActionExporter-0.02-9VZ1X4/blib/arch
/root/.cpan/build/ActionExporter-0.02-9VZ1X4/blib/lib
/opt/perl444-27-5.8.8/lib/5.8.8/i686-linux-thread-multi-64int-ld
/opt/perl444-27-5.8.8/lib/5.8.8
/opt/perl444-27-5.8.8/lib/site_perl/5.8.8/i686-linux-thread-multi-64int-ld
/opt/perl444-27-5.8.8/lib/site_perl/5.8.8
/opt/perl444-27-5.8.8/lib/site_perl
.