XML-Feed v0.62 Perl 5 v5.22.2 x86_64-linux

Status
Pass
From
Slaven Rezić
Dist
XML-Feed v0.62
Platform
Perl 5 v5.22.2 x86_64-linux
Date
2021-05-24 15:39:51
ID
47ab75d8-bca6-11eb-acd2-3c231f24ea8f
This distribution has been tested as part of the CPAN Testers
project, supporting the Perl programming language.  See
http://wiki.cpantesters.org/ for more information or email
questions to cpan-testers-discuss@perl.org


--
Dear Dave Cross,

This is a computer-generated report for XML-Feed-0.62
on perl 5.22.2, created by CPAN-Reporter-1.2018.

Thank you for uploading your work to CPAN.  Congratulations!
All tests were successful.

Sections of this report:

    * Tester comments
    * Program output
    * Prerequisites
    * Environment and other context

------------------------------
TESTER COMMENTS
------------------------------

Additional comments from tester:

none provided

------------------------------
PROGRAM OUTPUT
------------------------------

Output from './Build test':

t/00-compile.t .................. ok
t/01-parse.t .................... ok
t/02-create.t ................... ok
t/04-splice-atom.t .............. ok
t/04-splice-rss.t ............... ok
t/05-atom10-link.t .............. ok
t/06-atom10.t ................... ok
t/07-atom10-create.t ............ ok
t/08-convert-summary-bug.t ...... ok
t/09-missing-content-bug.t ...... ok
t/10-mix-and-match.t ............ ok
t/11-xml-base-atom.t ............ ok
t/11-xml-base-rss.t ............. ok
t/12-multi-categories-atom.t .... ok
t/12-multi-categories-rss.t ..... ok
t/12-multi-subjects-rss.t ....... ok
t/13-category-hash-bug.t ........ skipped: XML::RSS::LibXML is required.
t/14-enclosures.t ............... ok
t/14-multi-enclosures.t ......... ok
t/15-odd-date.t ................. ok
t/16-convert-mult-categories.t .. ok
t/17-double.t ................... ok
t/18-double2.t .................. ok
t/19-double3.t .................. ok
t/20-no-enclosures.t ............ ok
t/21-rss2-permalinks.t .......... ok
t/22-bug73160.t ................. ok
t/23-eval.t ..................... ok
t/24-identify-feed.t ............ ok
t/25-date-format-bug.t .......... ok
t/26-content-encoded.t .......... ok
t/27-dummy-content-encoded.t .... ok
t/28-rss-guid.t ................. ok
t/29-date-parsing.t ............. ok
t/has-version.t ................. ok
t/pod-coverage.t ................ ok
t/pod.t ......................... ok
t/relative-links.t .............. ok
All tests successful.
Files=38, Tests=814,  9 wallclock secs ( 0.06 usr  0.07 sys +  6.68 cusr  0.98 csys =  7.79 CPU)
Result: PASS

------------------------------
PREREQUISITES
------------------------------

Prerequisite modules loaded:

requires:

    Module                     Need    Have    
    -------------------------- ------- --------
    Class::ErrorHandler        0       0.04    
    DateTime                   0       1.36    
    DateTime::Format::Flexible 0       0.26    
    DateTime::Format::ISO8601  0       0.08    
    DateTime::Format::Mail     0       0.403   
    DateTime::Format::Natural  0       1.04    
    DateTime::Format::W3CDTF   0       0.06    
    Feed::Find                 0       0.07    
    HTML::Entities             0       3.69    
    HTML::TokeParser           0       3.69    
    List::Util                 0       1.45    
    LWP::UserAgent             0       6.15    
    Module::Pluggable          0       5.2     
    perl                       v5.10.0 5.022002
    Scalar::Util               0       1.45    
    Test::More                 0       1.302052
    URI::Fetch                 0       0.13    
    XML::Atom                  0.38    0.41    
    XML::LibXML                1.66    2.0128  
    XML::RSS                   1.47    1.59    

build_requires:

    Module                     Need    Have    
    -------------------------- ------- --------
    URI                        0       1.71    
    XML::XPath                 0       1.37    

configure_requires:

    Module                     Need    Have    
    -------------------------- ------- --------
    Module::Build              0.42    0.4220  


------------------------------
ENVIRONMENT AND OTHER CONTEXT
------------------------------

Environment variables:

    LANG = en_US.UTF-8
    LANGUAGE = en_US:en
    LC_ALL = en_US.UTF-8
    PATH = /usr/local/bin:/usr/bin:/bin:/usr/local/sbin:/usr/sbin:/sbin:/home/cpansand/bin/linux-gnu:/home/cpansand/bin/sh:/home/cpansand/bin:/usr/games:/home/cpansand/devel:/home/eserte/src/srezic-misc/scripts
    PERL5LIB = /home/cpansand/.cpan/build/2021052417/Text-Wrap-Smart-XS-0.07-1/blib/arch:/home/cpansand/.cpan/build/2021052417/Text-Wrap-Smart-XS-0.07-1/blib/lib
    PERL5OPT = 
    PERL5_CPANPLUS_IS_RUNNING = 386
    PERL5_CPAN_IS_RUNNING = 386
    PERL5_CPAN_IS_RUNNING_IN_RECURSION = 32546,386
    PERLDOC = -MPod::Perldoc::ToTextOverstrike
    PERL_BATCH = yes
    PERL_CANARY_STABILITY_NOPROMPT = 1
    PERL_CPAN_REPORTER_CONFIG = /var/tmp/cpansmoker-1023/2021052417/cpanreporter_000_config.ini
    PERL_EXTUTILS_AUTOINSTALL = --defaultdeps
    PERL_USE_UNSAFE_INC = 1
    SHELL = /bin/zsh
    TERM = screen
    TMPDIR = /var/tmp/cpansmoker-1023/2021052417

Perl special variables (and OS-specific diagnostics, for MSWin32):

    $^X = /opt/perl-5.22.2/bin/perl
    $UID/$EUID = 1023 / 1023
    $GID = 1023 1023
    $EGID = 1023 1023

Perl module toolchain versions installed:

    Module              Have    
    ------------------- --------
    CPAN                2.16    
    CPAN::Meta          2.150010
    Cwd                 3.62    
    ExtUtils::CBuilder  0.280221
    ExtUtils::Command   7.24    
    ExtUtils::Install   2.04    
    ExtUtils::MakeMaker 7.24    
    ExtUtils::Manifest  1.70    
    ExtUtils::ParseXS   3.28    
    File::Spec          3.62    
    JSON                2.90    
    JSON::PP            2.27300 
    Module::Build       0.4220  
    Module::Signature   0.81    
    Parse::CPAN::Meta   2.150010
    Test::Harness       3.35    
    Test::More          1.302052
    YAML                1.17    
    YAML::Syck          1.29    
    version             0.9917  


--

Summary of my perl5 (revision 5 version 22 subversion 2) configuration:
   
  Platform:
    osname=linux, osvers=3.2.0-4-amd64, archname=x86_64-linux
    uname='linux cvrsnica-wheezy 3.2.0-4-amd64 #1 smp debian 3.2.54-2 x86_64 gnulinux '
    config_args='-ds -e -Dprefix=/opt/perl-5.22.2 -Dcf_email=srezic@cpan.org'
    hint=recommended, useposix=true, d_sigaction=define
    useithreads=undef, usemultiplicity=undef
    use64bitint=define, use64bitall=define, uselongdouble=undef
    usemymalloc=n, bincompat5005=undef
  Compiler:
    cc='cc', ccflags ='-fwrapv -fno-strict-aliasing -pipe -fstack-protector -I/usr/local/include -D_LARGEFILE_SOURCE -D_FILE_OFFSET_BITS=64 -D_FORTIFY_SOURCE=2',
    optimize='-O2',
    cppflags='-fwrapv -fno-strict-aliasing -pipe -fstack-protector -I/usr/local/include'
    ccversion='', gccversion='4.7.2', gccosandvers=''
    intsize=4, longsize=8, ptrsize=8, doublesize=8, byteorder=12345678, doublekind=3
    d_longlong=define, longlongsize=8, d_longdbl=define, longdblsize=16, longdblkind=3
    ivtype='long', ivsize=8, nvtype='double', nvsize=8, Off_t='off_t', lseeksize=8
    alignbytes=8, prototype=define
  Linker and Libraries:
    ld='cc', ldflags =' -fstack-protector -L/usr/local/lib'
    libpth=/usr/local/lib /usr/lib/gcc/x86_64-linux-gnu/4.7/include-fixed /usr/include/x86_64-linux-gnu /usr/lib /lib/x86_64-linux-gnu /lib/../lib /usr/lib/x86_64-linux-gnu /usr/lib/../lib /lib
    libs=-lpthread -lnsl -ldb -ldl -lm -lcrypt -lutil -lc
    perllibs=-lpthread -lnsl -ldl -lm -lcrypt -lutil -lc
    libc=libc-2.13.so, so=so, useshrplib=false, libperl=libperl.a
    gnulibc_version='2.13'
  Dynamic Linking:
    dlsrc=dl_dlopen.xs, dlext=so, d_dlsymun=undef, ccdlflags='-Wl,-E'
    cccdlflags='-fPIC', lddlflags='-shared -O2 -L/usr/local/lib -fstack-protector'


Characteristics of this binary (from libperl): 
  Compile-time options: HAS_TIMES PERLIO_LAYERS PERL_DONT_CREATE_GVSV
                        PERL_HASH_FUNC_ONE_AT_A_TIME_HARD PERL_MALLOC_WRAP
                        PERL_NEW_COPY_ON_WRITE PERL_PRESERVE_IVUV
                        USE_64_BIT_ALL USE_64_BIT_INT USE_LARGE_FILES
                        USE_LOCALE USE_LOCALE_COLLATE USE_LOCALE_CTYPE
                        USE_LOCALE_NUMERIC USE_LOCALE_TIME USE_PERLIO
                        USE_PERL_ATOF
  Built under linux
  Compiled at May 29 2016 23:41:57
  %ENV:
    PERL5LIB="/home/cpansand/.cpan/build/2021052417/Text-Wrap-Smart-XS-0.07-1/blib/arch:/home/cpansand/.cpan/build/2021052417/Text-Wrap-Smart-XS-0.07-1/blib/lib"
    PERL5OPT=""
    PERL5_CPANPLUS_IS_RUNNING="386"
    PERL5_CPAN_IS_RUNNING="386"
    PERL5_CPAN_IS_RUNNING_IN_RECURSION="32546,386"
    PERLDOC="-MPod::Perldoc::ToTextOverstrike"
    PERL_BATCH="yes"
    PERL_CANARY_STABILITY_NOPROMPT="1"
    PERL_CPAN_REPORTER_CONFIG="/var/tmp/cpansmoker-1023/2021052417/cpanreporter_000_config.ini"
    PERL_EXTUTILS_AUTOINSTALL="--defaultdeps"
    PERL_USE_UNSAFE_INC="1"
  @INC:
    /home/cpansand/.cpan/build/2021052417/Text-Wrap-Smart-XS-0.07-1/blib/arch
    /home/cpansand/.cpan/build/2021052417/Text-Wrap-Smart-XS-0.07-1/blib/lib
    /opt/perl-5.22.2/lib/site_perl/5.22.2/x86_64-linux
    /opt/perl-5.22.2/lib/site_perl/5.22.2
    /opt/perl-5.22.2/lib/5.22.2/x86_64-linux
    /opt/perl-5.22.2/lib/5.22.2
    .