Report for CGI-Easy-SendFile-1.0.1

Back
From: metabase:user:019ce9d0-85a3-11e1-b7f2-1e88e517de85
Subject: PASS CGI-Easy-SendFile-1.0.1 v5.12.5 GNU/Linux
Date: 2012-11-26T17:54:10Z

This distribution has been tested as part of the CPAN Testers
project, supporting the Perl programming language.  See
http://wiki.cpantesters.org/ for more information or email
questions to cpan-testers-discuss@perl.org


--
Dear Alex Efros,

This is a computer-generated report for CGI-Easy-SendFile-1.0.1
on perl 5.12.5, created by CPAN-Reporter-1.2006.

Thank you for uploading your work to CPAN.  Congratulations!
All tests were successful.

Sections of this report:

    * Tester comments
    * Program output
    * Prerequisites
    * Environment and other context

------------------------------
TESTER COMMENTS
------------------------------

Additional comments from tester:

this report is from an automated smoke testing program
and was not reviewed by a human for accuracy

------------------------------
PROGRAM OUTPUT
------------------------------

Output from '/usr/bin/make test':

PERL_DL_NONLAZY=1 /root/perl5/perlbrew/perls/perl-5.12.5/bin/perl "-MExtUtils::Command::MM" "-e" "test_harness(0, 'inc', 'blib/lib', 'blib/arch')" t/00.load.t t/manifest.t t/perlcritic.t t/pod-coverage.t t/pod.t t/send_file.t
# Testing CGI::Easy::SendFile 1.0.1, Perl 5.012005, /root/perl5/perlbrew/perls/perl-5.12.5/bin/perl
t/00.load.t ....... ok
t/manifest.t ...... skipped: Author tests not required for installation
t/perlcritic.t .... skipped: Author test.  Set $ENV{TEST_AUTHOR} to a true value to run.
t/pod-coverage.t .. skipped: Test::Pod::Coverage 1.08 required for testing POD coverage
t/pod.t ........... ok
t/send_file.t ..... ok
All tests successful.
Files=6, Tests=52,  0 wallclock secs ( 0.02 usr  0.01 sys +  0.13 cusr  0.02 csys =  0.18 CPU)
Result: PASS

------------------------------
PREREQUISITES
------------------------------

Prerequisite modules loaded:

requires:

    Module               Need Have 
    -------------------- ---- -----
    CGI::Easy            0    1.0.1
    List::Util           0    1.22 
    Perl6::Export::Attrs 0    0.0.3
    Test::More           0    0.98 
    version              0    0.88 

build_requires:

    Module               Need Have 
    -------------------- ---- -----
    ExtUtils::MakeMaker  6.36 6.62 
    Test::More           0    0.98 

configure_requires:

    Module               Need Have 
    -------------------- ---- -----
    ExtUtils::MakeMaker  6.36 6.62 


------------------------------
ENVIRONMENT AND OTHER CONTEXT
------------------------------

Environment variables:

    AUTOMATED_TESTING = 1
    LANG = en_US.UTF-8
    PATH = /root/perl5/perlbrew/bin:/root/perl5/perlbrew/perls/perl-5.12.5/bin:/home/glens/.gem/ruby/1.9.1/bin:/home/glens/bin:~/bin:/home/glens/.gem/ruby/1.9.1/bin:/home/glens/bin:~/bin:/home/glens/.gem/ruby/1.9.1/bin:/home/glens/bin:~/bin:/usr/lib64/qt-3.3/bin:/usr/local/sbin:/usr/local/bin:/sbin:/bin:/usr/sbin:/usr/bin
    PERL5LIB = /root/.cpan/build/CGI-Easy-1.0.1-wFTSz_/blib/arch:/root/.cpan/build/CGI-Easy-1.0.1-wFTSz_/blib/lib:/root/.cpan/build/Perl6-Export-Attrs-0.0.3-8SFojL/blib/arch:/root/.cpan/build/Perl6-Export-Attrs-0.0.3-8SFojL/blib/lib
    PERL5OPT = 
    PERL5_CPANPLUS_IS_RUNNING = 27164
    PERL5_CPAN_IS_RUNNING = 27164
    PERL5_CPAN_IS_RUNNING_IN_RECURSION = 53042,27164
    PERLBREW_BASHRC_VERSION = 0.58
    PERLBREW_HOME = /root/.perlbrew
    PERLBREW_MANPATH = /root/perl5/perlbrew/perls/perl-5.12.5/man
    PERLBREW_PATH = /root/perl5/perlbrew/bin:/root/perl5/perlbrew/perls/perl-5.12.5/bin
    PERLBREW_PERL = perl-5.12.5
    PERLBREW_ROOT = /root/perl5/perlbrew
    PERLBREW_VERSION = 0.55
    PERL_CR_SMOKER_CURRENT = CGI-Easy-SendFile-1.0.1
    PERL_EXTUTILS_AUTOINSTALL = --defaultdeps
    PERL_MM_USE_DEFAULT = 1
    SHELL = /bin/bash
    TERM = xterm

Perl special variables (and OS-specific diagnostics, for MSWin32):

    $^X = /root/perl5/perlbrew/perls/perl-5.12.5/bin/perl
    $UID/$EUID = 0 / 0
    $GID = 0 0 1 2 3 4 6 10
    $EGID = 0 0 1 2 3 4 6 10

Perl module toolchain versions installed:

    Module              Have    
    ------------------- --------
    CPAN                1.94_56 
    CPAN::Meta          2.112150
    Cwd                 3.31    
    ExtUtils::CBuilder  0.27    
    ExtUtils::Command   1.16    
    ExtUtils::Install   1.55    
    ExtUtils::MakeMaker 6.62    
    ExtUtils::Manifest  1.58    
    ExtUtils::ParseXS   2.21    
    File::Spec          3.31_01 
    JSON                2.53    
    JSON::PP            2.27104 
    Module::Build       0.3603  
    Module::Signature   n/a     
    Parse::CPAN::Meta   1.4401  
    Test::Harness       3.17    
    Test::More          0.98    
    YAML                0.84    
    YAML::Syck          n/a     
    version             0.88    


--

Summary of my perl5 (revision 5 version 12 subversion 5) configuration:
   
  Platform:
    osname=linux, osvers=2.6.32-279.11.1.el6.x86_64, archname=x86_64-linux
    uname='linux tlhdevvm 2.6.32-279.11.1.el6.x86_64 #1 smp tue oct 16 15:57:10 utc 2012 x86_64 x86_64 x86_64 gnulinux '
    config_args='-de -Dprefix=/root/perl5/perlbrew/perls/perl-5.12.5 -Aeval:scriptdir=/root/perl5/perlbrew/perls/perl-5.12.5/bin'
    hint=recommended, useposix=true, d_sigaction=define
    useithreads=undef, usemultiplicity=undef
    useperlio=define, d_sfio=undef, uselargefiles=define, usesocks=undef
    use64bitint=define, use64bitall=define, uselongdouble=undef
    usemymalloc=n, bincompat5005=undef
  Compiler:
    cc='cc', ccflags ='-fno-strict-aliasing -pipe -fstack-protector -I/usr/local/include -D_LARGEFILE_SOURCE -D_FILE_OFFSET_BITS=64',
    optimize='-O2',
    cppflags='-fno-strict-aliasing -pipe -fstack-protector -I/usr/local/include'
    ccversion='', gccversion='4.4.6 20120305 (Red Hat 4.4.6-4)', gccosandvers=''
    intsize=4, longsize=8, ptrsize=8, doublesize=8, byteorder=12345678
    d_longlong=define, longlongsize=8, d_longdbl=define, longdblsize=16
    ivtype='long', ivsize=8, nvtype='double', nvsize=8, Off_t='off_t', lseeksize=8
    alignbytes=8, prototype=define
  Linker and Libraries:
    ld='cc', ldflags =' -fstack-protector -L/usr/local/lib'
    libpth=/usr/local/lib /lib/../lib64 /usr/lib/../lib64 /lib /usr/lib /lib64 /usr/lib64 /usr/local/lib64
    libs=-lnsl -ldb -ldl -lm -lcrypt -lutil -lc
    perllibs=-lnsl -ldl -lm -lcrypt -lutil -lc
    libc=, so=so, useshrplib=false, libperl=libperl.a
    gnulibc_version='2.12'
  Dynamic Linking:
    dlsrc=dl_dlopen.xs, dlext=so, d_dlsymun=undef, ccdlflags='-Wl,-E'
    cccdlflags='-fPIC', lddlflags='-shared -O2 -L/usr/local/lib -fstack-protector'


Characteristics of this binary (from libperl): 
  Compile-time options: PERL_DONT_CREATE_GVSV PERL_MALLOC_WRAP USE_64_BIT_ALL
                        USE_64_BIT_INT USE_LARGE_FILES USE_PERLIO
                        USE_PERL_ATOF
  Built under linux
  Compiled at Nov 16 2012 11:03:03
  %ENV:
    PERL5LIB="/root/.cpan/build/CGI-Easy-1.0.1-wFTSz_/blib/arch:/root/.cpan/build/CGI-Easy-1.0.1-wFTSz_/blib/lib:/root/.cpan/build/Perl6-Export-Attrs-0.0.3-8SFojL/blib/arch:/root/.cpan/build/Perl6-Export-Attrs-0.0.3-8SFojL/blib/lib"
    PERL5OPT=""
    PERL5_CPANPLUS_IS_RUNNING="27164"
    PERL5_CPAN_IS_RUNNING="27164"
    PERL5_CPAN_IS_RUNNING_IN_RECURSION="53042,27164"
    PERLBREW_BASHRC_VERSION="0.58"
    PERLBREW_HOME="/root/.perlbrew"
    PERLBREW_MANPATH="/root/perl5/perlbrew/perls/perl-5.12.5/man"
    PERLBREW_PATH="/root/perl5/perlbrew/bin:/root/perl5/perlbrew/perls/perl-5.12.5/bin"
    PERLBREW_PERL="perl-5.12.5"
    PERLBREW_ROOT="/root/perl5/perlbrew"
    PERLBREW_VERSION="0.55"
    PERL_CR_SMOKER_CURRENT="CGI-Easy-SendFile-1.0.1"
    PERL_EXTUTILS_AUTOINSTALL="--defaultdeps"
    PERL_MM_USE_DEFAULT="1"
  @INC:
    /root/.cpan/build/CGI-Easy-1.0.1-wFTSz_/blib/arch
    /root/.cpan/build/CGI-Easy-1.0.1-wFTSz_/blib/lib
    /root/.cpan/build/Perl6-Export-Attrs-0.0.3-8SFojL/blib/arch
    /root/.cpan/build/Perl6-Export-Attrs-0.0.3-8SFojL/blib/lib
    /root/perl5/perlbrew/perls/perl-5.12.5/lib/site_perl/5.12.5/x86_64-linux
    /root/perl5/perlbrew/perls/perl-5.12.5/lib/site_perl/5.12.5
    /root/perl5/perlbrew/perls/perl-5.12.5/lib/5.12.5/x86_64-linux
    /root/perl5/perlbrew/perls/perl-5.12.5/lib/5.12.5
    .