HTML-Rebase v0.05 Perl 5 v5.22.2 x86_64-linux

Status
Pass
From
Slaven Rezić (SREZIC)
Dist
HTML-Rebase v0.05
Platform
Perl 5 v5.22.2 x86_64-linux
Date
2018-11-30 19:36:49
ID
47c36c36-f4d7-11e8-a00b-a9159e957100
This distribution has been tested as part of the CPAN Testers
project, supporting the Perl programming language.  See
http://wiki.cpantesters.org/ for more information or email
questions to cpan-testers-discuss@perl.org


--
Dear Max Maischein,

This is a computer-generated report for HTML-Rebase-0.05
on perl 5.22.2, created by CPAN-Reporter-1.2018.

Thank you for uploading your work to CPAN.  Congratulations!
All tests were successful.

Sections of this report:

    * Tester comments
    * Program output
    * Prerequisites
    * Environment and other context

------------------------------
TESTER COMMENTS
------------------------------

Additional comments from tester:

none provided

------------------------------
PROGRAM OUTPUT
------------------------------

Output from '/usr/bin/make test':

PERL_DL_NONLAZY=1 "/opt/perl-5.22.2/bin/perl" "-MExtUtils::Command::MM" "-MTest::Harness" "-e" "undef *Test::Harness::Switches; test_harness(0, 'blib/lib', 'blib/arch')" t/00-load.t t/01-synopsis.t t/02-quotes.t t/03-base.t t/04-case.t t/05-rebase-css.t t/06-relative-url.t
# Testing HTML::Rebase 0.05, Perl 5.022002
# Carp 1.50
# Config 5.022002
# Cwd 3.75
# DynaLoader 1.32
# Encode 2.98
# Encode::Alias 2.24
# Encode::Config 2.05
# Encode::Encoding 2.08
# Encode::MIME::Name 1.03
# Exporter 5.72
# Exporter::Heavy 5.72
# ExtUtils::Liblist 7.34
# ExtUtils::Liblist::Kid 7.34
# ExtUtils::MM 7.34
# ExtUtils::MM_Any 7.34
# ExtUtils::MM_Unix 7.34
# ExtUtils::MY 7.34
# ExtUtils::MakeMaker 7.34
# ExtUtils::MakeMaker::Config 7.34
# ExtUtils::MakeMaker::Locale 7.34
# ExtUtils::MakeMaker::version 7.34
# Fcntl 1.13
# File::Basename 2.85
# File::Glob 1.24
# File::Path 2.15
# File::Spec 3.75
# File::Spec::Unix 3.75
# HTML::Rebase 0.05
# I18N::Langinfo 0.12
# List::Util 1.5
# POSIX 1.53_01
# PerlIO 1.09
# Scalar::Util 1.5
# Storable 3.11
# Storable::Limit <unknown>
# Test::Builder 1.302140
# Test::Builder::Formatter 1.302140
# Test::Builder::Module 1.302140
# Test::Builder::TodoDiag 1.302140
# Test::More 1.302140
# Test2::API 1.302140
# Test2::API::Context 1.302140
# Test2::API::Instance 1.302140
# Test2::API::Stack 1.302140
# Test2::Event 1.302140
# Test2::Event::Bail 1.302140
# Test2::Event::Diag 1.302140
# Test2::Event::Exception 1.302140
# Test2::Event::Fail 1.302140
# Test2::Event::Note 1.302140
# Test2::Event::Ok 1.302140
# Test2::Event::Pass 1.302140
# Test2::Event::Plan 1.302140
# Test2::Event::Skip 1.302140
# Test2::Event::Subtest 1.302140
# Test2::Event::V2 1.302140
# Test2::Event::Waiting 1.302140
# Test2::EventFacet 1.302140
# Test2::EventFacet::About 1.302140
# Test2::EventFacet::Amnesty 1.302140
# Test2::EventFacet::Assert 1.302140
# Test2::EventFacet::Control 1.302140
# Test2::EventFacet::Error 1.302140
# Test2::EventFacet::Hub 1.302140
# Test2::EventFacet::Info 1.302140
# Test2::EventFacet::Meta 1.302140
# Test2::EventFacet::Parent 1.302140
# Test2::EventFacet::Plan 1.302140
# Test2::EventFacet::Trace 1.302140
# Test2::Formatter 1.302140
# Test2::Formatter::TAP 1.302140
# Test2::Hub 1.302140
# Test2::Hub::Interceptor 1.302140
# Test2::Hub::Interceptor::Terminator 1.302140
# Test2::Hub::Subtest 1.302140
# Test2::Util 1.302140
# Test2::Util::ExternalMeta 1.302140
# Test2::Util::Facets2Legacy 1.302140
# Test2::Util::HashBase 1.302140
# Test2::Util::Trace 1.302140
# Tie::Hash 1.05
# URI 1.74
# URI::Escape 3.31
# URI::URL 5.04
# URI::WithBase 2.20
# XSLoader 0.24
# base 2.22
# bytes 1.04
# constant 1.33
# mro 1.17
# overload 1.26
# overloading 0.02
# parent 0.236
# re 0.32
# strict 1.09
# vars 1.03
# version 0.9923
# version::regex 0.9923
# version::vxs 0.9923
# warnings 1.34
# warnings::register 1.04
t/00-load.t .......... ok
t/01-synopsis.t ...... ok
t/02-quotes.t ........ ok
t/03-base.t .......... ok
t/04-case.t .......... ok
t/05-rebase-css.t .... ok
t/06-relative-url.t .. ok
All tests successful.
Files=7, Tests=12,  1 wallclock secs ( 0.02 usr  0.04 sys +  0.48 cusr  0.09 csys =  0.63 CPU)
Result: PASS

------------------------------
PREREQUISITES
------------------------------

Prerequisite modules loaded:

requires:

    Module              Need  Have    
    ------------------- ----- --------
    Carp                0     1.50    
    Exporter            5     5.72    
    perl                5.006 5.022002
    URI::URL            0     5.04    
    URI::WithBase       0     2.20    

build_requires:

    Module              Need  Have    
    ------------------- ----- --------
    ExtUtils::MakeMaker 0     7.34    
    Test::More          0     1.302140

configure_requires:

    Module              Need  Have    
    ------------------- ----- --------
    ExtUtils::MakeMaker 0     7.34    


------------------------------
ENVIRONMENT AND OTHER CONTEXT
------------------------------

Environment variables:

    LANG = C
    PATH = /usr/local/bin:/usr/bin:/bin:/usr/local/sbin:/usr/sbin:/sbin:/home/cpansand/bin/linux-gnu:/home/cpansand/bin/sh:/home/cpansand/bin:/usr/games:/home/cpansand/devel:/home/eserte/src/srezic-misc/scripts
    PERL5LIB = 
    PERL5OPT = 
    PERL5_CPANPLUS_IS_RUNNING = 4189
    PERL5_CPAN_IS_RUNNING = 4189
    PERL5_CPAN_IS_RUNNING_IN_RECURSION = 21013,4189
    PERLDOC = -MPod::Perldoc::ToTextOverstrike
    PERL_BATCH = yes
    PERL_CANARY_STABILITY_NOPROMPT = 1
    PERL_CPAN_REPORTER_CONFIG = /var/tmp/cpansmoker-1023/2018113018/cpanreporter_000_config.ini
    PERL_EXTUTILS_AUTOINSTALL = --defaultdeps
    PERL_USE_UNSAFE_INC = 1
    SHELL = /usr/bin/zsh
    TERM = screen
    TMPDIR = /var/tmp/cpansmoker-1023/2018113018

Perl special variables (and OS-specific diagnostics, for MSWin32):

    $^X = /opt/perl-5.22.2/bin/perl
    $UID/$EUID = 1023 / 1023
    $GID = 1023 1023
    $EGID = 1023 1023

Perl module toolchain versions installed:

    Module              Have    
    ------------------- --------
    CPAN                2.16    
    CPAN::Meta          2.150010
    Cwd                 3.75    
    ExtUtils::CBuilder  0.280230
    ExtUtils::Command   7.34    
    ExtUtils::Install   2.14    
    ExtUtils::MakeMaker 7.34    
    ExtUtils::Manifest  1.70    
    ExtUtils::ParseXS   3.35    
    File::Spec          3.75    
    JSON                2.97001 
    JSON::PP            2.97001 
    Module::Build       0.4224  
    Module::Signature   0.83    
    Parse::CPAN::Meta   2.150010
    Test::Harness       3.42    
    Test::More          1.302140
    YAML                1.26    
    YAML::Syck          1.30    
    version             0.9923  


--

Summary of my perl5 (revision 5 version 22 subversion 2) configuration:
   
  Platform:
    osname=linux, osvers=4.9.0-3-amd64, archname=x86_64-linux
    uname='linux debian9 4.9.0-3-amd64 #1 smp debian 4.9.30-2+deb9u1 (2017-06-18) x86_64 gnulinux '
    config_args='-ds -e -Dprefix=/opt/perl-5.22.2 -Dcf_email=srezic@cpan.org'
    hint=recommended, useposix=true, d_sigaction=define
    useithreads=undef, usemultiplicity=undef
    use64bitint=define, use64bitall=define, uselongdouble=undef
    usemymalloc=n, bincompat5005=undef
  Compiler:
    cc='cc', ccflags ='-fwrapv -fno-strict-aliasing -pipe -fstack-protector-strong -I/usr/local/include -D_LARGEFILE_SOURCE -D_FILE_OFFSET_BITS=64',
    optimize='-O2',
    cppflags='-fwrapv -fno-strict-aliasing -pipe -fstack-protector-strong -I/usr/local/include'
    ccversion='', gccversion='6.3.0 20170516', gccosandvers=''
    intsize=4, longsize=8, ptrsize=8, doublesize=8, byteorder=12345678, doublekind=3
    d_longlong=define, longlongsize=8, d_longdbl=define, longdblsize=16, longdblkind=3
    ivtype='long', ivsize=8, nvtype='double', nvsize=8, Off_t='off_t', lseeksize=8
    alignbytes=8, prototype=define
  Linker and Libraries:
    ld='cc', ldflags =' -fstack-protector-strong -L/usr/local/lib'
    libpth=/usr/local/lib /usr/lib/gcc/x86_64-linux-gnu/6/include-fixed /usr/include/x86_64-linux-gnu /usr/lib /lib/x86_64-linux-gnu /lib/../lib /usr/lib/x86_64-linux-gnu /usr/lib/../lib /lib
    libs=-lpthread -lnsl -lgdbm -ldb -ldl -lm -lcrypt -lutil -lc -lgdbm_compat
    perllibs=-lpthread -lnsl -ldl -lm -lcrypt -lutil -lc
    libc=libc-2.24.so, so=so, useshrplib=false, libperl=libperl.a
    gnulibc_version='2.24'
  Dynamic Linking:
    dlsrc=dl_dlopen.xs, dlext=so, d_dlsymun=undef, ccdlflags='-Wl,-E'
    cccdlflags='-fPIC', lddlflags='-shared -O2 -L/usr/local/lib -fstack-protector-strong'


Characteristics of this binary (from libperl): 
  Compile-time options: HAS_TIMES PERLIO_LAYERS PERL_DONT_CREATE_GVSV
                        PERL_HASH_FUNC_ONE_AT_A_TIME_HARD PERL_MALLOC_WRAP
                        PERL_NEW_COPY_ON_WRITE PERL_PRESERVE_IVUV
                        USE_64_BIT_ALL USE_64_BIT_INT USE_LARGE_FILES
                        USE_LOCALE USE_LOCALE_COLLATE USE_LOCALE_CTYPE
                        USE_LOCALE_NUMERIC USE_LOCALE_TIME USE_PERLIO
                        USE_PERL_ATOF
  Built under linux
  Compiled at Jun 22 2017 19:24:38
  %ENV:
    PERL5LIB=""
    PERL5OPT=""
    PERL5_CPANPLUS_IS_RUNNING="4189"
    PERL5_CPAN_IS_RUNNING="4189"
    PERL5_CPAN_IS_RUNNING_IN_RECURSION="21013,4189"
    PERLDOC="-MPod::Perldoc::ToTextOverstrike"
    PERL_BATCH="yes"
    PERL_CANARY_STABILITY_NOPROMPT="1"
    PERL_CPAN_REPORTER_CONFIG="/var/tmp/cpansmoker-1023/2018113018/cpanreporter_000_config.ini"
    PERL_EXTUTILS_AUTOINSTALL="--defaultdeps"
    PERL_USE_UNSAFE_INC="1"
  @INC:
    /opt/perl-5.22.2/lib/site_perl/5.22.2/x86_64-linux
    /opt/perl-5.22.2/lib/site_perl/5.22.2
    /opt/perl-5.22.2/lib/5.22.2/x86_64-linux
    /opt/perl-5.22.2/lib/5.22.2
    .