HTTP-AnyUA v0.904 Perl 5 v5.31.9 amd64-freebsd

Status
Pass
From
Slaven Rezić (SREZIC)
Dist
HTTP-AnyUA v0.904
Platform
Perl 5 v5.31.9 amd64-freebsd
Date
2020-03-16 02:24:36
ID
47d1823e-672d-11ea-b12d-5a2b1f24ea8f
This distribution has been tested as part of the CPAN Testers
project, supporting the Perl programming language.  See
http://wiki.cpantesters.org/ for more information or email
questions to cpan-testers-discuss@perl.org


--
Dear Charles McGarvey,

This is a computer-generated report for HTTP-AnyUA-0.904
on perl 5.31.9, created by CPAN-Reporter-1.2018.

Thank you for uploading your work to CPAN.  Congratulations!
All tests were successful.

Sections of this report:

    * Tester comments
    * Program output
    * Prerequisites
    * Environment and other context

------------------------------
TESTER COMMENTS
------------------------------

Additional comments from tester:

none provided

------------------------------
PROGRAM OUTPUT
------------------------------

Output from '/usr/bin/make test':

PERL_DL_NONLAZY=1 "/usr/perl5.31.9p/bin/perl5.31.9" "-MExtUtils::Command::MM" "-MTest::Harness" "-e" "undef *Test::Harness::Switches; test_harness(0, 'blib/lib', 'blib/arch')" t/*.t
t/00-compile.t ..................... ok
# 
# Versions for all modules listed in MYMETA.json (including optional ones):
# 
# === Configure Requires ===
# 
#     Module              Want Have
#     ------------------- ---- ----
#     ExtUtils::MakeMaker  any 7.44
# 
# === Build Requires ===
# 
#     Module              Want Have
#     ------------------- ---- ----
#     ExtUtils::MakeMaker  any 7.44
# 
# === Test Requires ===
# 
#     Module              Want     Have
#     ------------------- ---- --------
#     ExtUtils::MakeMaker  any     7.44
#     File::Spec           any     3.78
#     IO::Handle           any     1.42
#     IPC::Open3           any     1.20
#     Test2::API           any 1.302172
#     Test::Exception      any     0.43
#     Test::More           any 1.302172
#     lib                  any     0.65
#     namespace::clean     any     0.27
# 
# === Test Recommends ===
# 
#     Module         Want     Have
#     ---------- -------- --------
#     CPAN::Meta 2.120900 2.150010
# 
# === Test Suggests ===
# 
#     Module          Want    Have
#     --------------- ---- -------
#     AnyEvent::HTTP   any missing
#     Furl             any    3.13
#     HTTP::Tiny       any   0.076
#     JSON             any    4.02
#     LWP::UserAgent   any    6.43
#     Mojo::UserAgent  any   undef
#     Net::Curl::Easy  any    0.44
#     Plack::Runner    any   undef
#     Starman          any missing
# 
# === Runtime Requires ===
# 
#     Module         Want   Have
#     -------------- ---- ------
#     Carp            any   1.50
#     Exporter        any   5.74
#     Fcntl           any   1.13
#     Future          any   0.43
#     MIME::Base64    any   3.15
#     Module::Loader  any   0.03
#     Scalar::Util    any   1.54
#     Time::HiRes     any 1.9764
#     Time::Local     any   1.28
#     bytes           any   1.07
#     parent          any  0.238
#     strict          any   1.11
#     warnings        any   1.46
# 
# === Runtime Recommends ===
# 
#     Module     Want  Have
#     ---------- ---- -----
#     HTTP::Tiny  any 0.076
# 
t/00-report-prereqs.t .............. ok
t/01-new.t ......................... ok
t/02-shortcuts.t ................... ok
t/03-post_form.t ................... ok
    # Can't locate AnyEvent/HTTP.pm in @INC (you may need to install the AnyEvent::HTTP module) (@INC contains: t/lib /usr/home/cpansand/.cpan/build/2020031602/HTTP-AnyUA-0.904-2/blib/lib /usr/home/cpansand/.cpan/build/2020031602/HTTP-AnyUA-0.904-2/blib/arch /usr/perl5.31.9p/lib/site_perl/5.31.9/amd64-freebsd /usr/perl5.31.9p/lib/site_perl/5.31.9 /usr/perl5.31.9p/lib/5.31.9/amd64-freebsd /usr/perl5.31.9p/lib/5.31.9 .) at (eval 41) line 1.
Use of uninitialized value in numeric eq (==) at /usr/perl5.31.9p/lib/5.31.9/HTTP/Tiny.pm line 615.
Use of uninitialized value $port in numeric eq (==) at /usr/perl5.31.9p/lib/5.31.9/HTTP/Tiny.pm line 615.
t/04-internal-exception.t .......... ok
    # Can't locate AnyEvent/HTTP.pm in @INC (you may need to install the AnyEvent::HTTP module) (@INC contains: t/lib /usr/home/cpansand/.cpan/build/2020031602/HTTP-AnyUA-0.904-2/blib/lib /usr/home/cpansand/.cpan/build/2020031602/HTTP-AnyUA-0.904-2/blib/arch /usr/perl5.31.9p/lib/site_perl/5.31.9/amd64-freebsd /usr/perl5.31.9p/lib/site_perl/5.31.9 /usr/perl5.31.9p/lib/5.31.9/amd64-freebsd /usr/perl5.31.9p/lib/5.31.9 .) at (eval 42) line 1, <$pipe> line 1.
t/10-get.t ......................... ok
    # Can't locate AnyEvent/HTTP.pm in @INC (you may need to install the AnyEvent::HTTP module) (@INC contains: t/lib /usr/home/cpansand/.cpan/build/2020031602/HTTP-AnyUA-0.904-2/blib/lib /usr/home/cpansand/.cpan/build/2020031602/HTTP-AnyUA-0.904-2/blib/arch /usr/perl5.31.9p/lib/site_perl/5.31.9/amd64-freebsd /usr/perl5.31.9p/lib/site_perl/5.31.9 /usr/perl5.31.9p/lib/5.31.9/amd64-freebsd /usr/perl5.31.9p/lib/5.31.9 .) at (eval 42) line 1, <$pipe> line 1.
t/11-post.t ........................ ok
    # Can't locate AnyEvent/HTTP.pm in @INC (you may need to install the AnyEvent::HTTP module) (@INC contains: t/lib /usr/home/cpansand/.cpan/build/2020031602/HTTP-AnyUA-0.904-2/blib/lib /usr/home/cpansand/.cpan/build/2020031602/HTTP-AnyUA-0.904-2/blib/arch /usr/perl5.31.9p/lib/site_perl/5.31.9/amd64-freebsd /usr/perl5.31.9p/lib/site_perl/5.31.9 /usr/perl5.31.9p/lib/5.31.9/amd64-freebsd /usr/perl5.31.9p/lib/5.31.9 .) at (eval 42) line 1, <$pipe> line 1.
t/12-put.t ......................... ok
    # Can't locate AnyEvent/HTTP.pm in @INC (you may need to install the AnyEvent::HTTP module) (@INC contains: t/lib /usr/home/cpansand/.cpan/build/2020031602/HTTP-AnyUA-0.904-2/blib/lib /usr/home/cpansand/.cpan/build/2020031602/HTTP-AnyUA-0.904-2/blib/arch /usr/perl5.31.9p/lib/site_perl/5.31.9/amd64-freebsd /usr/perl5.31.9p/lib/site_perl/5.31.9 /usr/perl5.31.9p/lib/5.31.9/amd64-freebsd /usr/perl5.31.9p/lib/5.31.9 .) at (eval 42) line 1, <$pipe> line 1.
t/13-head.t ........................ ok
    # Can't locate AnyEvent/HTTP.pm in @INC (you may need to install the AnyEvent::HTTP module) (@INC contains: t/lib /usr/home/cpansand/.cpan/build/2020031602/HTTP-AnyUA-0.904-2/blib/lib /usr/home/cpansand/.cpan/build/2020031602/HTTP-AnyUA-0.904-2/blib/arch /usr/perl5.31.9p/lib/site_perl/5.31.9/amd64-freebsd /usr/perl5.31.9p/lib/site_perl/5.31.9 /usr/perl5.31.9p/lib/5.31.9/amd64-freebsd /usr/perl5.31.9p/lib/5.31.9 .) at (eval 42) line 1, <$pipe> line 1.
t/14-delete.t ...................... ok
    # Can't locate AnyEvent/HTTP.pm in @INC (you may need to install the AnyEvent::HTTP module) (@INC contains: t/lib /usr/home/cpansand/.cpan/build/2020031602/HTTP-AnyUA-0.904-2/blib/lib /usr/home/cpansand/.cpan/build/2020031602/HTTP-AnyUA-0.904-2/blib/arch /usr/perl5.31.9p/lib/site_perl/5.31.9/amd64-freebsd /usr/perl5.31.9p/lib/site_perl/5.31.9 /usr/perl5.31.9p/lib/5.31.9/amd64-freebsd /usr/perl5.31.9p/lib/5.31.9 .) at (eval 42) line 1, <$pipe> line 1.
t/15-custom-method.t ............... ok
    # Can't locate AnyEvent/HTTP.pm in @INC (you may need to install the AnyEvent::HTTP module) (@INC contains: t/lib /usr/home/cpansand/.cpan/build/2020031602/HTTP-AnyUA-0.904-2/blib/lib /usr/home/cpansand/.cpan/build/2020031602/HTTP-AnyUA-0.904-2/blib/arch /usr/perl5.31.9p/lib/site_perl/5.31.9/amd64-freebsd /usr/perl5.31.9p/lib/site_perl/5.31.9 /usr/perl5.31.9p/lib/5.31.9/amd64-freebsd /usr/perl5.31.9p/lib/5.31.9 .) at (eval 42) line 1, <$pipe> line 1.
t/20-data_callback.t ............... ok
    # Can't locate AnyEvent/HTTP.pm in @INC (you may need to install the AnyEvent::HTTP module) (@INC contains: t/lib /usr/home/cpansand/.cpan/build/2020031602/HTTP-AnyUA-0.904-2/blib/lib /usr/home/cpansand/.cpan/build/2020031602/HTTP-AnyUA-0.904-2/blib/arch /usr/perl5.31.9p/lib/site_perl/5.31.9/amd64-freebsd /usr/perl5.31.9p/lib/site_perl/5.31.9 /usr/perl5.31.9p/lib/5.31.9/amd64-freebsd /usr/perl5.31.9p/lib/5.31.9 .) at (eval 42) line 1, <$pipe> line 1.
t/21-basic-auth.t .................. ok
    # Can't locate AnyEvent/HTTP.pm in @INC (you may need to install the AnyEvent::HTTP module) (@INC contains: t/lib /usr/home/cpansand/.cpan/build/2020031602/HTTP-AnyUA-0.904-2/blib/lib /usr/home/cpansand/.cpan/build/2020031602/HTTP-AnyUA-0.904-2/blib/arch /usr/perl5.31.9p/lib/site_perl/5.31.9/amd64-freebsd /usr/perl5.31.9p/lib/site_perl/5.31.9 /usr/perl5.31.9p/lib/5.31.9/amd64-freebsd /usr/perl5.31.9p/lib/5.31.9 .) at (eval 42) line 1, <$pipe> line 1.
t/22-redirects.t ................... ok
# Could not start test server at t/lib/Server.pm line 100.
t/23-content-coderef.t ............. skipped: Could not start test server.
t/40-middleware-content-length.t ... ok
t/40-middleware-request-headers.t .. ok
t/40-middleware-runtime.t .......... ok
    # Can't locate AnyEvent/HTTP.pm in @INC (you may need to install the AnyEvent::HTTP module) (@INC contains: t/lib /usr/home/cpansand/.cpan/build/2020031602/HTTP-AnyUA-0.904-2/blib/lib /usr/home/cpansand/.cpan/build/2020031602/HTTP-AnyUA-0.904-2/blib/arch /usr/perl5.31.9p/lib/site_perl/5.31.9/amd64-freebsd /usr/perl5.31.9p/lib/site_perl/5.31.9 /usr/perl5.31.9p/lib/5.31.9/amd64-freebsd /usr/perl5.31.9p/lib/5.31.9 .) at (eval 139) line 1.
t/50-future-subclass.t ............. ok
All tests successful.
Files=20, Tests=104, 17 wallclock secs ( 0.27 usr  0.07 sys +  6.63 cusr  1.80 csys =  8.77 CPU)
Result: PASS

------------------------------
PREREQUISITES
------------------------------

Prerequisite modules loaded:

requires:

    Module              Need  Have    
    ------------------- ----- --------
    bytes               0     1.07    
    Carp                0     1.50    
    Exporter            0     5.74    
    Fcntl               0     1.13    
    Future              0     0.43    
    MIME::Base64        0     3.15    
    Module::Loader      0     0.03    
    parent              0     0.238   
    perl                5.010 5.031009
    Scalar::Util        0     1.54    
    strict              0     1.11    
    Time::HiRes         0     1.9764  
    Time::Local         0     1.28    
    warnings            0     1.46    

build_requires:

    Module              Need  Have    
    ------------------- ----- --------
    ExtUtils::MakeMaker 0     7.44    
    File::Spec          0     3.78    
    IO::Handle          0     1.42    
    IPC::Open3          0     1.20    
    lib                 0     0.65    
    namespace::clean    0     0.27    
    Test2::API          0     1.302172
    Test::Exception     0     0.43    
    Test::More          0     1.302172

configure_requires:

    Module              Need  Have    
    ------------------- ----- --------
    ExtUtils::MakeMaker 0     7.44    


------------------------------
ENVIRONMENT AND OTHER CONTEXT
------------------------------

Environment variables:

    PATH = /usr/local/bin:/usr/bin:/bin:/usr/local/sbin:/usr/sbin:/sbin:/home/cpansand/bin/sh:/home/cpansand/bin:/usr/games:/home/cpansand/devel:/usr/home/eserte/src/srezic-misc/scripts
    PERL5LIB = 
    PERL5OPT = 
    PERL5_CPANPLUS_IS_RUNNING = 37296
    PERL5_CPAN_IS_RUNNING = 37296
    PERL5_CPAN_IS_RUNNING_IN_RECURSION = 33680,37296
    PERL_BATCH = yes
    PERL_CANARY_STABILITY_NOPROMPT = 1
    PERL_CPAN_REPORTER_CONFIG = /var/tmp/cpansmoker-1023/2020031602/cpanreporter_000_config.ini
    PERL_EXTUTILS_AUTOINSTALL = --defaultdeps
    PERL_USE_UNSAFE_INC = 1
    SHELL = /bin/sh
    TMPDIR = /var/tmp/cpansmoker-1023/2020031602

Perl special variables (and OS-specific diagnostics, for MSWin32):

    $^X = /usr/perl5.31.9p/bin/perl5.31.9
    $UID/$EUID = 1023 / 1023
    $GID = 1023 1023
    $EGID = 1023 1023

Perl module toolchain versions installed:

    Module              Have    
    ------------------- --------
    CPAN                2.27    
    CPAN::Meta          2.150010
    Cwd                 3.78    
    ExtUtils::CBuilder  0.280234
    ExtUtils::Command   7.44    
    ExtUtils::Install   2.14    
    ExtUtils::MakeMaker 7.44    
    ExtUtils::Manifest  1.72    
    ExtUtils::ParseXS   3.40    
    File::Spec          3.78    
    JSON                4.02    
    JSON::PP            4.04    
    Module::Build       0.4231  
    Module::Signature   n/a     
    Parse::CPAN::Meta   2.150010
    Test::Harness       3.42    
    Test::More          1.302172
    YAML                1.30    
    YAML::Syck          1.32    
    version             0.9924  


--

Summary of my perl5 (revision 5 version 31 subversion 9) configuration:
   
  Platform:
    osname=freebsd
    osvers=12.1-stable
    archname=amd64-freebsd
    uname='freebsd cloud1.bbbike.org 12.1-stable freebsd 12.1-stable 9bc8f31ae35(stable12) generic amd64 '
    config_args='-ds -e -Dprefix=/usr/perl5.31.9p -Dusedevel -Dusemallocwrap=no -Dcf_email=srezic@cpan.org -Doptimize=-O2 -pipe'
    hint=recommended
    useposix=true
    d_sigaction=define
    useithreads=undef
    usemultiplicity=undef
    use64bitint=define
    use64bitall=define
    uselongdouble=undef
    usemymalloc=n
    default_inc_excludes_dot=define
    bincompat5005=undef
  Compiler:
    cc='cc'
    ccflags ='-DHAS_FPSETMASK -DHAS_FLOATINGPOINT_H -fno-strict-aliasing -pipe -fstack-protector-strong -I/usr/local/include'
    optimize='-O2 -pipe'
    cppflags='-DHAS_FPSETMASK -DHAS_FLOATINGPOINT_H -fno-strict-aliasing -pipe -fstack-protector-strong -I/usr/local/include'
    ccversion=''
    gccversion='FreeBSD Clang 9.0.1 (git@github.com:llvm/llvm-project.git c1a0a213378a458fbea1a5c77b315c7dce08fd05)'
    gccosandvers=''
    intsize=4
    longsize=8
    ptrsize=8
    doublesize=8
    byteorder=12345678
    doublekind=3
    d_longlong=define
    longlongsize=8
    d_longdbl=define
    longdblsize=16
    longdblkind=3
    ivtype='long'
    ivsize=8
    nvtype='double'
    nvsize=8
    Off_t='off_t'
    lseeksize=8
    alignbytes=8
    prototype=define
  Linker and Libraries:
    ld='cc'
    ldflags ='-pthread -Wl,-E  -fstack-protector-strong -L/usr/local/lib'
    libpth=/usr/lib /usr/local/lib /usr/lib/clang/9.0.1/lib /usr/lib
    libs=-lpthread -lgdbm -ldl -lm -lcrypt -lutil -lc
    perllibs=-lpthread -ldl -lm -lcrypt -lutil -lc
    libc=
    so=so
    useshrplib=false
    libperl=libperl.a
    gnulibc_version=''
  Dynamic Linking:
    dlsrc=dl_dlopen.xs
    dlext=so
    d_dlsymun=undef
    ccdlflags=' '
    cccdlflags='-DPIC -fPIC'
    lddlflags='-shared  -L/usr/local/lib -fstack-protector-strong'


Characteristics of this binary (from libperl): 
  Compile-time options:
    HAS_TIMES
    PERLIO_LAYERS
    PERL_COPY_ON_WRITE
    PERL_DONT_CREATE_GVSV
    PERL_OP_PARENT
    PERL_PRESERVE_IVUV
    PERL_USE_DEVEL
    USE_64_BIT_ALL
    USE_64_BIT_INT
    USE_LARGE_FILES
    USE_LOCALE
    USE_LOCALE_COLLATE
    USE_LOCALE_CTYPE
    USE_LOCALE_NUMERIC
    USE_LOCALE_TIME
    USE_PERLIO
    USE_PERL_ATOF
  Built under freebsd
  Compiled at Feb 21 2020 18:23:36
  %ENV:
    PERL5LIB=""
    PERL5OPT=""
    PERL5_CPANPLUS_IS_RUNNING="37296"
    PERL5_CPAN_IS_RUNNING="37296"
    PERL5_CPAN_IS_RUNNING_IN_RECURSION="33680,37296"
    PERL_BATCH="yes"
    PERL_CANARY_STABILITY_NOPROMPT="1"
    PERL_CPAN_REPORTER_CONFIG="/var/tmp/cpansmoker-1023/2020031602/cpanreporter_000_config.ini"
    PERL_EXTUTILS_AUTOINSTALL="--defaultdeps"
    PERL_USE_UNSAFE_INC="1"
  @INC:
    /usr/perl5.31.9p/lib/site_perl/5.31.9/amd64-freebsd
    /usr/perl5.31.9p/lib/site_perl/5.31.9
    /usr/perl5.31.9p/lib/5.31.9/amd64-freebsd
    /usr/perl5.31.9p/lib/5.31.9
    .