Google-Ads-AdWords-Client v5.8.2 Perl 5 v5.40.0 RC1 x86_64-linux-thread-multi-ld

Status
Pass
From
Andreas J. König (ANDK)
Dist
Google-Ads-AdWords-Client v5.8.2
Platform
Perl 5 v5.40.0 RC1 x86_64-linux-thread-multi-ld
Date
2024-05-27 11:57:24
ID
47e4d29c-1c20-11ef-9924-f35f6a6ed94a
This distribution has been tested as part of the CPAN Testers
project, supporting the Perl programming language.  See
http://wiki.cpantesters.org/ for more information or email
questions to cpan-testers-discuss@perl.org


--
Dear Nadine Sundquist Wang,

This is a computer-generated report for Google-Ads-AdWords-Client-5.8.2
on perl 5.40.0, created by CPAN-Reporter-1.2019.

Thank you for uploading your work to CPAN.  Congratulations!
All tests were successful.

Sections of this report:

    * Tester comments
    * Program output
    * Prerequisites
    * Environment and other context

------------------------------
TESTER COMMENTS
------------------------------

Additional comments from tester:

this report is from an automated smoke testing program
and was not reviewed by a human for accuracy

------------------------------
PROGRAM OUTPUT
------------------------------

Output from '/usr/bin/make test':

PERL_DL_NONLAZY=1 "/tmp/basesmoker-reloperl-Sej4/bin/perl" "-MExtUtils::Command::MM" "-MTest::Harness" "-e" "undef *Test::Harness::Switches; test_harness(0, 'blib/lib', 'blib/arch')" t/*.t
t/001_require.t ....................... ok
Attempt to call undefined import method with arguments ("2.00.10") via package "SOAP::WSDL" (Perhaps you forgot to load the package?) at /tmp/loop_over_bdir-358318-zInRe0/Google-Ads-AdWords-Client-5.8.2-0/blib/lib/Google/Ads/AdWords/Client.pm line 31.
t/011_Client.t ........................ ok
Attempt to call undefined import method with arguments ("2.00.10") via package "SOAP::WSDL" (Perhaps you forgot to load the package?) at /tmp/loop_over_bdir-358318-zInRe0/Google-Ads-AdWords-Client-5.8.2-0/blib/lib/Google/Ads/AdWords/Client.pm line 31.
t/012_Serializer.t .................... ok
Attempt to call undefined import method with arguments ("2.00.10") via package "SOAP::WSDL" (Perhaps you forgot to load the package?) at /tmp/loop_over_bdir-358318-zInRe0/Google-Ads-AdWords-Client-5.8.2-0/blib/lib/Google/Ads/AdWords/Client.pm line 31.
t/013_Deserializer.t .................. ok
t/014_XPathSAXParser.t ................ ok
Attempt to call undefined import method with arguments ("2.00.10") via package "SOAP::WSDL" (Perhaps you forgot to load the package?) at lib/Google/Ads/AdWords/Client.pm line 31.
t/015_RequestStats.t .................. ok
Attempt to call undefined import method with arguments ("2.00.10") via package "SOAP::WSDL" (Perhaps you forgot to load the package?) at lib/Google/Ads/AdWords/Client.pm line 31.
t/017_OAuth2ApplicationsHandler.t ..... ok
Attempt to call undefined import method with arguments ("2.00.10") via package "SOAP::WSDL" (Perhaps you forgot to load the package?) at lib/Google/Ads/AdWords/Client.pm line 31.
t/018_MapUtils.t ...................... ok
Attempt to call undefined import method with arguments ("2.00.10") via package "SOAP::WSDL" (Perhaps you forgot to load the package?) at lib/Google/Ads/AdWords/Client.pm line 31.
t/019_OAuth2ServiceAccountsHandler.t .. ok
Attempt to call undefined import method with arguments ("2.00.10") via package "SOAP::WSDL" (Perhaps you forgot to load the package?) at lib/Google/Ads/AdWords/Client.pm line 31.
t/020_GenerateOfflineCredentials.t .... ok
Attempt to call undefined import method with arguments ("2.00.10") via package "SOAP::WSDL" (Perhaps you forgot to load the package?) at lib/Google/Ads/AdWords/Client.pm line 31.
t/021_ReportingConfiguration.t ........ ok
Attempt to call undefined import method with arguments ("2.00.10") via package "SOAP::WSDL" (Perhaps you forgot to load the package?) at lib/Google/Ads/AdWords/Client.pm line 31.
t/022_ReportUtils.t ................... ok
t/023_AdsUtilityRegistry.t ............ ok
Attempt to call undefined import method with arguments ("2.00.10") via package "SOAP::WSDL" (Perhaps you forgot to load the package?) at lib/Google/Ads/AdWords/Client.pm line 31.
t/024_BatchJobHandler.t ............... ok
Attempt to call undefined import method with arguments ("2.00.10") via package "SOAP::WSDL" (Perhaps you forgot to load the package?) at lib/Google/Ads/AdWords/Client.pm line 31.
t/025_ReportQueryBuilder.t ............ ok
Attempt to call undefined import method with arguments ("2.00.10") via package "SOAP::WSDL" (Perhaps you forgot to load the package?) at lib/Google/Ads/AdWords/Client.pm line 31.
t/026_ServiceQueryBuilder.t ........... ok
All tests successful.
Files=16, Tests=1859, 13 wallclock secs ( 0.18 usr  0.07 sys +  7.76 cusr  1.33 csys =  9.34 CPU)
Result: PASS

------------------------------
PREREQUISITES
------------------------------

Prerequisite modules loaded:

requires:

    Module                    Need     Have      
    ------------------------- -------- ----------
    Class::Load               0        0.25      
    Class::Std::Fast          0.000005 0.0.8     
    Config::Properties        0        1.80      
    Crypt::OpenSSL::RSA       0        0.33      
    Cwd                       0        3.90      
    Data::Uniqid              0        0.12      
    Date::Format              0        2.24      
    Date::Parse               0        2.33      
    Digest::SHA               0        6.04      
    File::Basename            0        2.86      
    File::HomeDir             0        1.006     
    File::Path                0        2.18      
    File::Spec                0        3.90      
    File::Temp                0        0.2311    
    Getopt::Long              0        2.57      
    HTTP::Server::Simple::CGI 0        0         
    IO::Socket::SSL           0        2.085     
    JSON::Parse               0        0.62      
    List::Util                0        1.63      
    Log::Log4perl             0        1.57      
    LWP::Protocol::https      0        6.14      
    LWP::UserAgent            0        6.77      
    Math::Random::MT          0        1.17      
    Module::Build             0        0.4234    
    POSIX                     0        2.20      
    SOAP::WSDL                2.000010 3.004     
    Template                  0        3.101     
    Test::Deep                0        1.204     
    Test::Exception           0        0.43      
    Test::MockObject          0        1.20200122
    Test::MockObject::Extends 0        1.20200122
    Test::More                0        1.302199  
    URI::Escape               0        5.28      
    XML::LibXML               0        2.0210    
    XML::Simple               0        2.25      
    XML::XPath                0        1.48      

build_requires:

    Module                    Need     Have      
    ------------------------- -------- ----------
    ExtUtils::MakeMaker       0        7.70      

configure_requires:

    Module                    Need     Have      
    ------------------------- -------- ----------
    Module::Build             0.42     0.4234    


------------------------------
ENVIRONMENT AND OTHER CONTEXT
------------------------------

Environment variables:

    AUTOMATED_TESTING = 1
    LANG = en_US.UTF-8
    LC_ADDRESS = de_DE.UTF-8
    LC_IDENTIFICATION = de_DE.UTF-8
    LC_MEASUREMENT = de_DE.UTF-8
    LC_MONETARY = de_DE.UTF-8
    LC_NAME = de_DE.UTF-8
    LC_NUMERIC = de_DE.UTF-8
    LC_PAPER = de_DE.UTF-8
    LC_TELEPHONE = de_DE.UTF-8
    LC_TIME = de_DE.UTF-8
    PATH = /home/sand/bin:/usr/local/bin:/usr/local/sbin:/usr/sbin:/usr/bin:/sbin:/bin:/usr/games:/usr/local/games:/snap/bin:/usr/local/perl/bin:/usr/X11/bin
    PERL = /tmp/basesmoker-reloperl-Sej4/bin/perl
    PERL5LIB = /tmp/loop_over_bdir-358318-zInRe0/mmds-1.902-0/blib/arch:/tmp/loop_over_bdir-358318-zInRe0/mmds-1.902-0/blib/lib:/tmp/loop_over_bdir-358318-zInRe0/dta-tokwrap-0.98-0/blib/arch:/tmp/loop_over_bdir-358318-zInRe0/dta-tokwrap-0.98-0/blib/lib:/tmp/loop_over_bdir-358318-zInRe0/downsexta-0/blib/arch:/tmp/loop_over_bdir-358318-zInRe0/downsexta-0/blib/lib:/tmp/loop_over_bdir-358318-zInRe0/Dpkg-1.22.6-0/blib/arch:/tmp/loop_over_bdir-358318-zInRe0/Dpkg-1.22.6-0/blib/lib:/tmp/loop_over_bdir-358318-zInRe0/App-rmcd-0.280-0/blib/arch:/tmp/loop_over_bdir-358318-zInRe0/App-rmcd-0.280-0/blib/lib
    PERL5OPT = 
    PERL5_CPANPLUS_IS_RUNNING = 358326
    PERL5_CPAN_IS_RUNNING = 358326
    PERL_CANARY_STABILITY_NOPROMPT = 1
    PERL_MM_USE_DEFAULT = 1
    PERL_USE_UNSAFE_INC = 1
    SHELL = /usr/bin/zsh
    TERM = screen

Perl special variables (and OS-specific diagnostics, for MSWin32):

    $^X = /tmp/basesmoker-reloperl-Sej4/bin/perl
    $UID/$EUID = 1005 / 1005
    $GID = 1005 1005
    $EGID = 1005 1005

Perl module toolchain versions installed:

    Module              Have    
    ------------------- --------
    CPAN                2.36    
    CPAN::Meta          2.150010
    Cwd                 3.90    
    ExtUtils::CBuilder  0.280240
    ExtUtils::Command   7.70    
    ExtUtils::Install   2.22    
    ExtUtils::MakeMaker 7.70    
    ExtUtils::Manifest  1.75    
    ExtUtils::ParseXS   3.51    
    File::Spec          3.90    
    JSON                4.10    
    JSON::PP            4.16    
    Module::Build       0.4234  
    Module::Signature   0.88    
    Parse::CPAN::Meta   2.150010
    Test2               1.302199
    Test::Harness       3.48    
    Test::More          1.302199
    YAML                1.31    
    YAML::Syck          1.34    
    version             0.9932  


--

Summary of my perl5 (revision 5 version 40 subversion 0) configuration:
  Commit id: 9028e12473e7fa76ca5a5787af6d1b2e6d110b78
  Platform:
    osname=linux
    osvers=6.5.0-35-generic
    archname=x86_64-linux-thread-multi-ld
    uname='linux k93jammy 6.5.0-35-generic #35~22.04.1-ubuntu smp preempt_dynamic tue may 7 09:00:52 utc 2 x86_64 x86_64 x86_64 gnulinux '
    config_args='-Dprefix=/home/sand/src/perl/repoperls/installed-perls/host/k93jammy/v5.40.0-RC1/322f -Dmyhostname=k93jammy -Dinstallusrbinperl=n -Uversiononly -Dusedevel -des -Ui_db -Dlibswanted=cl pthread socket inet nsl gdbm dbm malloc dl ld sun m crypt sec util c cposix posix ucb BSD gdbm_compat -Duseithreads -Duselongdouble -DEBUGGING=-g'
    hint=recommended
    useposix=true
    d_sigaction=define
    useithreads=define
    usemultiplicity=define
    use64bitint=define
    use64bitall=define
    uselongdouble=define
    usemymalloc=n
    default_inc_excludes_dot=define
  Compiler:
    cc='cc'
    ccflags ='-D_REENTRANT -D_GNU_SOURCE -fwrapv -fno-strict-aliasing -pipe -fstack-protector-strong -I/usr/local/include -D_LARGEFILE_SOURCE -D_FILE_OFFSET_BITS=64'
    optimize='-O2 -g'
    cppflags='-D_REENTRANT -D_GNU_SOURCE -fwrapv -fno-strict-aliasing -pipe -fstack-protector-strong -I/usr/local/include'
    ccversion=''
    gccversion='11.4.0'
    gccosandvers=''
    intsize=4
    longsize=8
    ptrsize=8
    doublesize=8
    byteorder=12345678
    doublekind=3
    d_longlong=define
    longlongsize=8
    d_longdbl=define
    longdblsize=16
    longdblkind=3
    ivtype='long'
    ivsize=8
    nvtype='long double'
    nvsize=16
    Off_t='off_t'
    lseeksize=8
    alignbytes=16
    prototype=define
  Linker and Libraries:
    ld='cc'
    ldflags =' -fstack-protector-strong -L/usr/local/lib'
    libpth=/usr/local/lib /usr/lib/x86_64-linux-gnu /usr/lib /usr/lib64
    libs=-lpthread -lnsl -ldl -lm -lcrypt -lutil -lc
    perllibs=-lpthread -lnsl -ldl -lm -lcrypt -lutil -lc
    libc=/lib/x86_64-linux-gnu/libc.so.6
    so=so
    useshrplib=false
    libperl=libperl.a
    gnulibc_version='2.35'
  Dynamic Linking:
    dlsrc=dl_dlopen.xs
    dlext=so
    d_dlsymun=undef
    ccdlflags='-Wl,-E'
    cccdlflags='-fPIC'
    lddlflags='-shared -O2 -g -L/usr/local/lib -fstack-protector-strong'


Characteristics of this binary (from libperl): 
  Compile-time options:
    HAS_LONG_DOUBLE
    HAS_STRTOLD
    HAS_TIMES
    MULTIPLICITY
    PERLIO_LAYERS
    PERL_COPY_ON_WRITE
    PERL_DONT_CREATE_GVSV
    PERL_HASH_FUNC_SIPHASH13
    PERL_HASH_USE_SBOX32
    PERL_MALLOC_WRAP
    PERL_OP_PARENT
    PERL_PRESERVE_IVUV
    PERL_USE_DEVEL
    PERL_USE_SAFE_PUTENV
    USE_64_BIT_ALL
    USE_64_BIT_INT
    USE_ITHREADS
    USE_LARGE_FILES
    USE_LOCALE
    USE_LOCALE_COLLATE
    USE_LOCALE_CTYPE
    USE_LOCALE_NUMERIC
    USE_LOCALE_TIME
    USE_LONG_DOUBLE
    USE_PERLIO
    USE_PERL_ATOF
    USE_REENTRANT_API
    USE_THREAD_SAFE_LOCALE
  Locally applied patches:
    RC1
  Built under linux
  Compiled at May 25 2024 17:54:32
  %ENV:
    PERL="/tmp/basesmoker-reloperl-Sej4/bin/perl"
    PERL5LIB="/tmp/loop_over_bdir-358318-zInRe0/mmds-1.902-0/blib/arch:/tmp/loop_over_bdir-358318-zInRe0/mmds-1.902-0/blib/lib:/tmp/loop_over_bdir-358318-zInRe0/dta-tokwrap-0.98-0/blib/arch:/tmp/loop_over_bdir-358318-zInRe0/dta-tokwrap-0.98-0/blib/lib:/tmp/loop_over_bdir-358318-zInRe0/downsexta-0/blib/arch:/tmp/loop_over_bdir-358318-zInRe0/downsexta-0/blib/lib:/tmp/loop_over_bdir-358318-zInRe0/Dpkg-1.22.6-0/blib/arch:/tmp/loop_over_bdir-358318-zInRe0/Dpkg-1.22.6-0/blib/lib:/tmp/loop_over_bdir-358318-zInRe0/App-rmcd-0.280-0/blib/arch:/tmp/loop_over_bdir-358318-zInRe0/App-rmcd-0.280-0/blib/lib"
    PERL5OPT=""
    PERL5_CPANPLUS_IS_RUNNING="358326"
    PERL5_CPAN_IS_RUNNING="358326"
    PERL_CANARY_STABILITY_NOPROMPT="1"
    PERL_MM_USE_DEFAULT="1"
    PERL_USE_UNSAFE_INC="1"
  @INC:
    /tmp/loop_over_bdir-358318-zInRe0/mmds-1.902-0/blib/arch
    /tmp/loop_over_bdir-358318-zInRe0/mmds-1.902-0/blib/lib
    /tmp/loop_over_bdir-358318-zInRe0/dta-tokwrap-0.98-0/blib/arch
    /tmp/loop_over_bdir-358318-zInRe0/dta-tokwrap-0.98-0/blib/lib
    /tmp/loop_over_bdir-358318-zInRe0/downsexta-0/blib/arch
    /tmp/loop_over_bdir-358318-zInRe0/downsexta-0/blib/lib
    /tmp/loop_over_bdir-358318-zInRe0/Dpkg-1.22.6-0/blib/arch
    /tmp/loop_over_bdir-358318-zInRe0/Dpkg-1.22.6-0/blib/lib
    /tmp/loop_over_bdir-358318-zInRe0/App-rmcd-0.280-0/blib/arch
    /tmp/loop_over_bdir-358318-zInRe0/App-rmcd-0.280-0/blib/lib
    /home/sand/src/perl/repoperls/installed-perls/host/k93jammy/v5.40.0-RC1/322f/lib/site_perl/5.40.0/x86_64-linux-thread-multi-ld
    /home/sand/src/perl/repoperls/installed-perls/host/k93jammy/v5.40.0-RC1/322f/lib/site_perl/5.40.0
    /home/sand/src/perl/repoperls/installed-perls/host/k93jammy/v5.40.0-RC1/322f/lib/5.40.0/x86_64-linux-thread-multi-ld
    /home/sand/src/perl/repoperls/installed-perls/host/k93jammy/v5.40.0-RC1/322f/lib/5.40.0
    .