Report for Tk-JComboBox-1.14

Back
From: metabase:user:30ae4450-2aae-11df-837a-5e0a49663a4f
Subject: PASS Tk-JComboBox-1.14 v5.16.0 
Date: 2014-01-11T15:00:55Z

This distribution has been tested as part of the CPAN Testers
project, supporting the Perl programming language.  See
http://wiki.cpantesters.org/ for more information or email
questions to cpan-testers-discuss@perl.org


--
Dear Rob Seegel,

This is a computer-generated report for Tk-JComboBox-1.14
on perl 5.16.0, created by CPAN-Reporter-1.2010_01.

Thank you for uploading your work to CPAN.  Congratulations!
All tests were successful.

Sections of this report:

    * Tester comments
    * Program output
    * Prerequisites
    * Environment and other context

------------------------------
TESTER COMMENTS
------------------------------

Additional comments from tester:

this report is from an automated smoke testing program
and was not reviewed by a human for accuracy

------------------------------
PROGRAM OUTPUT
------------------------------

Output from 'C:\strawberry160\c\bin\dmake.exe test':

C:\strawberry160\perl\bin\perl.exe "-MExtUtils::Command::MM" "-MTest::Harness" "-e" "undef *Test::Harness::Switches; test_harness(0, 'blib\lib', 'blib\arch')" t/*.t
t/01_Create.t ............ ok
# 
# 
# Test arrowbitmap:
# 
# Test arrowimage
# 
# Test background
# 
# Test borderwidth:
# 
# Test cursor:
# 
# Test entrybackground:
# 
# Test entrywidth:
# 
# Test foreground:
# 
# Test gap:
# 
# Test highlightthickness:
# 
# Test highlight:
# 
# Test listwidth:
# 
# Test pady:
# 
# Test relief:
# 
# Test selectbackground:
# 
# Test selectforeground:
# 
# Test selectborderwidth:
# 
# Test takefocus:
# 
# Test TextVariable:
t/02_Options_Basic.t ..... ok
# 
# 
# testing buttoncommand:
# 
# testing keycommand: 
Use of uninitialized value $args{"-type"} in lc at
	C:\strawberry160\cpan\build\Tk-JComboBox-1.14-5Ip51n\blib\lib/Tk/JComboBox.pm line 528 (#1)
    (W uninitialized) An undefined value was used as if it were already
    defined.  It was interpreted as a "" or a 0, but maybe it was a mistake.
    To suppress this warning assign a defined value to your variables.
    
    To help you figure out what was undefined, perl will try to tell you
    the name of the variable (if any) that was undefined.  In some cases
    it cannot do this, so it also tells you what operation you used the
    undefined value in.  Note, however, that perl optimizes your program
    anid the operation displayed in the warning may not necessarily appear
    literally in your program.  For example, "that $foo" is usually
    optimized into "that " . $foo, and the warning will refer to the
    concatenation (.) operator, even though there is no . in
    your program.
    
# 
# testing popupcreate/modify:
# 
# testing selectcommand:
Use of uninitialized value $args{"-mode"} in lc at
	C:\strawberry160\cpan\build\Tk-JComboBox-1.14-5Ip51n\blib\lib/Tk/JComboBox.pm line 1210 (#1)
# 
# testing validation:
t/03_Options_Callback.t .. ok
# 
# 
# testing autofind:
Use of uninitialized value $args{"-type"} in lc at
	C:\strawberry160\cpan\build\Tk-JComboBox-1.14-5Ip51n\blib\lib/Tk/JComboBox.pm line 528 (#1)
    (W uninitialized) An undefined value was used as if it were already
    defined.  It was interpreted as a "" or a 0, but maybe it was a mistake.
    To suppress this warning assign a defined value to your variables.
    
    To help you figure out what was undefined, perl will try to tell you
    the name of the variable (if any) that was undefined.  In some cases
    it cannot do this, so it also tells you what operation you used the
    undefined value in.  Note, however, that perl optimizes your program
    anid the operation displayed in the warning may not necessarily appear
    literally in your program.  For example, "that $foo" is usually
    optimized into "that " . $foo, and the warning will refer to the
    concatenation (.) operator, even though there is no . in
    your program.
    
Use of uninitialized value $args{"-mode"} in lc at
	C:\strawberry160\cpan\build\Tk-JComboBox-1.14-5Ip51n\blib\lib/Tk/JComboBox.pm line 1210 (#1)
# 
# testing choices:
# 
# Test Choices - FETCHSIZE
# 
# Test Choices - CLEAR
# 
# Test Choices - PUSH
# 
# Test Choices - POP
# 
# Test Choices - SHIFT
# 
# Test Choices - STORE
# 
# 
# Test Choices - FETCH
# 
# Test Choices - UNSHIFT
# 
# Test Choices - DELETE
# 
# testing listhighlight:
# 
# testing maxrows:
# 
# testing state:
# 
# testing updownselect:
t/04_Options_Misc.t ...... ok
# 
# 
# Test existance of public methods
# 
# Testing Add Functionality:
Use of uninitialized value $args{"-type"} in lc at
	C:\strawberry160\cpan\build\Tk-JComboBox-1.14-5Ip51n\blib\lib/Tk/JComboBox.pm line 528 (#1)
    (W uninitialized) An undefined value was used as if it were already
    defined.  It was interpreted as a "" or a 0, but maybe it was a mistake.
    To suppress this warning assign a defined value to your variables.
    
    To help you figure out what was undefined, perl will try to tell you
    the name of the variable (if any) that was undefined.  In some cases
    it cannot do this, so it also tells you what operation you used the
    undefined value in.  Note, however, that perl optimizes your program
    anid the operation displayed in the warning may not necessarily appear
    literally in your program.  For example, "that $foo" is usually
    optimized into "that " . $foo, and the warning will refer to the
    concatenation (.) operator, even though there is no . in
    your program.
    
Use of uninitialized value $args{"-mode"} in lc at
	C:\strawberry160\cpan\build\Tk-JComboBox-1.14-5Ip51n\blib\lib/Tk/JComboBox.pm line 1210 (#1)
# 
# Testing Remove Functionality:
# 
# Test Popup-related methods:
# 
# Test Selection-related methods:
# 
# Test Index-related methods:
t/05_Methods.t ........... ok
# 
# 
# Test Item Visible After AutoFind
Use of uninitialized value $args{"-type"} in lc at
	C:\strawberry160\cpan\build\Tk-JComboBox-1.14-5Ip51n\blib\lib/Tk/JComboBox.pm line 528 (#1)
    (W uninitialized) An undefined value was used as if it were already
    defined.  It was interpreted as a "" or a 0, but maybe it was a mistake.
    To suppress this warning assign a defined value to your variables.
    
    To help you figure out what was undefined, perl will try to tell you
    the name of the variable (if any) that was undefined.  In some cases
    it cannot do this, so it also tells you what operation you used the
    undefined value in.  Note, however, that perl optimizes your program
    anid the operation displayed in the warning may not necessarily appear
    literally in your program.  For example, "that $foo" is usually
    optimized into "that " . $foo, and the warning will refer to the
    concatenation (.) operator, even though there is no . in
    your program.
    
# 
# Test that stolen grab (local) was returned
# 
# Test that stolen grab (global) was returned
t/06_Bugs.t .............. ok
t/07_Pod.t ............... ok
All tests successful.
Files=7, Tests=725,  7 wallclock secs ( 0.10 usr +  0.12 sys =  0.22 CPU)
Result: PASS

------------------------------
PREREQUISITES
------------------------------

Prerequisite modules loaded:

requires:

    Module              Need    Have   
    ------------------- ------- -------
    Tie::Watch          0       1.302  
    Tk                  800.024 804.031

build_requires:

    Module              Need    Have   
    ------------------- ------- -------
    ExtUtils::MakeMaker 0       6.84   


------------------------------
ENVIRONMENT AND OTHER CONTEXT
------------------------------

Environment variables:

    AUTOMATED_TESTING = 1
    COMSPEC = C:\WINDOWS\system32\cmd.exe
    NUMBER_OF_PROCESSORS = 1
    PATH = C:\Program Files\Far Manager\;C:\WINDOWS\system32;C:\WINDOWS;C:\WINDOWS\System32\Wbem;C:\strawberry160\c\bin;C:\strawberry160\perl\site\bin;C:\strawberry160\perl\bin
    PERL5LIB = 
    PERL5OPT = 
    PERL5_CPANPLUS_IS_RUNNING = 15232
    PERL5_CPAN_IS_RUNNING = 15232
    PERL5_CPAN_IS_RUNNING_IN_RECURSION = 412,15232
    PERL_CR_SMOKER_CURRENT = Tk-JComboBox-1.14
    PERL_EXTUTILS_AUTOINSTALL = --defaultdeps
    PERL_JSON_BACKEND = JSON::XS
    PERL_MM_USE_DEFAULT = 1
    PERL_YAML_BACKEND = YAML
    PROCESSOR_IDENTIFIER = x86 Family 16 Model 5 Stepping 3, AuthenticAMD
    TEMP = C:\DOCUME~1\a\LOCALS~1\Temp
    TERM = dumb

Perl special variables (and OS-specific diagnostics, for MSWin32):

    $^X = C:\strawberry160\perl\bin\perl.exe
    $UID/$EUID = 0 / 0
    $GID = 0
    $EGID = 0
    Win32::GetOSName = WinXP/.Net
    Win32::GetOSVersion = Service Pack 3, 5, 1, 2600, 2, 3, 0, 256, 1
    Win32::FsType = NTFS
    Win32::IsAdminUser = 1

Perl module toolchain versions installed:

    Module              Have    
    ------------------- --------
    CPAN                2.00    
    CPAN::Meta          2.133380
    Cwd                 3.40    
    ExtUtils::CBuilder  0.280206
    ExtUtils::Command   1.17    
    ExtUtils::Install   1.58    
    ExtUtils::MakeMaker 6.84    
    ExtUtils::Manifest  1.61    
    ExtUtils::ParseXS   3.22    
    File::Spec          3.40    
    JSON                2.53    
    JSON::PP            2.27203 
    Module::Build       0.4203  
    Module::Signature   0.68    
    Parse::CPAN::Meta   1.4405  
    Test::Harness       3.30    
    Test::More          1.001002
    YAML                0.88    
    YAML::Syck          1.27    
    version             0.9904  


--

Summary of my perl5 (revision 5 version 16 subversion 0) configuration:
   
  Platform:
    osname=MSWin32, osvers=4.0, archname=MSWin32-x86-multi-thread
    uname='Win32 strawberry-perl 5.16.0.1 #1 Mon May 21 22:07:30 2012 i386'
    config_args='undef'
    hint=recommended, useposix=true, d_sigaction=undef
    useithreads=define, usemultiplicity=define
    useperlio=define, d_sfio=undef, uselargefiles=define, usesocks=undef
    use64bitint=undef, use64bitall=undef, uselongdouble=undef
    usemymalloc=n, bincompat5005=undef
  Compiler:
    cc='gcc', ccflags =' -s -O2 -DWIN32  -DPERL_TEXTMODE_SCRIPTS -DPERL_IMPLICIT_CONTEXT -DPERL_IMPLICIT_SYS -fno-strict-aliasing -mms-bitfields',
    optimize='-s -O2',
    cppflags='-DWIN32'
    ccversion='', gccversion='4.6.3', gccosandvers=''
    intsize=4, longsize=4, ptrsize=4, doublesize=8, byteorder=1234
    d_longlong=undef, longlongsize=8, d_longdbl=define, longdblsize=12
    ivtype='long', ivsize=4, nvtype='double', nvsize=8, Off_t='long long', lseeksize=8
    alignbytes=8, prototype=define
  Linker and Libraries:
    ld='g++', ldflags ='-s -L"C:\strawberry160\perl\lib\CORE" -L"C:\strawberry160\c\lib"'
    libpth=C:\strawberry160\c\lib C:\strawberry160\c\i686-w64-mingw32\lib
    libs=-lmoldname -lkernel32 -luser32 -lgdi32 -lwinspool -lcomdlg32 -ladvapi32 -lshell32 -lole32 -loleaut32 -lnetapi32 -luuid -lws2_32 -lmpr -lwinmm -lversion -lodbc32 -lodbccp32 -lcomctl32
    perllibs=-lmoldname -lkernel32 -luser32 -lgdi32 -lwinspool -lcomdlg32 -ladvapi32 -lshell32 -lole32 -loleaut32 -lnetapi32 -luuid -lws2_32 -lmpr -lwinmm -lversion -lodbc32 -lodbccp32 -lcomctl32
    libc=, so=dll, useshrplib=true, libperl=libperl516.a
    gnulibc_version=''
  Dynamic Linking:
    dlsrc=dl_win32.xs, dlext=dll, d_dlsymun=undef, ccdlflags=' '
    cccdlflags=' ', lddlflags='-mdll -s -L"C:\strawberry160\perl\lib\CORE" -L"C:\strawberry160\c\lib"'


Characteristics of this binary (from libperl): 
  Compile-time options: HAS_TIMES HAVE_INTERP_INTERN MULTIPLICITY
                        PERLIO_LAYERS PERL_DONT_CREATE_GVSV
                        PERL_IMPLICIT_CONTEXT PERL_IMPLICIT_SYS
                        PERL_MALLOC_WRAP PERL_PRESERVE_IVUV PL_OP_SLAB_ALLOC
                        USE_ITHREADS USE_LARGE_FILES USE_LOCALE
                        USE_LOCALE_COLLATE USE_LOCALE_CTYPE
                        USE_LOCALE_NUMERIC USE_PERLIO USE_PERL_ATOF
  Built under MSWin32
  Compiled at May 21 2012 22:15:38
  %ENV:
    PERL5_CPANPLUS_IS_RUNNING="15232"
    PERL5_CPAN_IS_RUNNING="15232"
    PERL5_CPAN_IS_RUNNING_IN_RECURSION="412,15232"
    PERL_CR_SMOKER_CURRENT="Tk-JComboBox-1.14"
    PERL_EXTUTILS_AUTOINSTALL="--defaultdeps"
    PERL_JSON_BACKEND="JSON::XS"
    PERL_MM_USE_DEFAULT="1"
    PERL_YAML_BACKEND="YAML"
  @INC:
    C:/strawberry160/perl/site/lib/MSWin32-x86-multi-thread
    C:/strawberry160/perl/site/lib
    C:/strawberry160/perl/vendor/lib
    C:/strawberry160/perl/lib
    .