Dist-Zilla-Plugin-Git-Contributors v0.038 Perl 5 v5.14.4 amd64-freebsd

Status
Pass
From
Slaven Rezić
Dist
Dist-Zilla-Plugin-Git-Contributors v0.038
Platform
Perl 5 v5.14.4 amd64-freebsd
Date
2025-03-23 23:12:24
ID
47ef4e1c-083c-11f0-bfa7-ea3a6e8775ea
This distribution has been tested as part of the CPAN Testers
project, supporting the Perl programming language.  See
http://wiki.cpantesters.org/ for more information or email
questions to cpan-testers-discuss@perl.org


--
Dear Karen Etheridge,

This is a computer-generated report for Dist-Zilla-Plugin-Git-Contributors-0.038
on perl 5.14.4, created by CPAN-Reporter-1.2019.

Thank you for uploading your work to CPAN.  Congratulations!
All tests were successful.

Sections of this report:

    * Tester comments
    * Program output
    * Prerequisites
    * Environment and other context

------------------------------
TESTER COMMENTS
------------------------------

Additional comments from tester:

this report is from an automated smoke testing program
and was not reviewed by a human for accuracy

------------------------------
PROGRAM OUTPUT
------------------------------

Output from './Build test':

# 
# Versions for all modules listed in MYMETA.json (including optional ones):
# 
# === Configure Requires ===
# 
#     Module               Want     Have
#     ------------------- ----- --------
#     Module::Build::Tiny 0.034    0.051
#     perl                5.006 5.014004
# 
# === Test Requires ===
# 
#     Module            Want     Have
#     ---------------- ----- --------
#     Exporter          5.57     5.78
#     File::Spec         any     3.75
#     Git::Wrapper     0.038    0.048
#     Module::Metadata   any 1.000038
#     Sort::Versions     any     1.62
#     Term::ANSIColor    any     5.01
#     Test::DZil         any    6.017
#     Test::Deep         any    1.204
#     Test::Fatal        any    0.017
#     Test::More        0.88 1.302209
#     Test::Needs        any 0.002010
#     if                 any   0.0608
#     lib                any     0.63
#     open               any     1.08
#     parent             any    0.243
#     perl             5.008 5.014004
#     utf8               any     1.09
# 
# === Test Recommends ===
# 
#     Module         Want     Have
#     ---------- -------- --------
#     CPAN::Meta 2.120900 2.150010
# 
# === Test Suggests ===
# 
#     Module                         Want  Have
#     ------------------------------ ---- -----
#     Dist::Zilla::Plugin::PodWeaver  any 4.008
# 
# === Runtime Requires ===
# 
#     Module                              Want     Have
#     ------------------------------- -------- --------
#     Data::Dumper                         any    2.183
#     Dist::Zilla                     4.300039    6.017
#     Dist::Zilla::Role::MetaProvider      any    6.017
#     Dist::Zilla::Role::PrereqSource      any    6.017
#     Git::Wrapper                       0.038    0.048
#     List::Util                          1.33     1.68
#     List::UtilsBy                       0.04     0.11
#     Moose                                any   2.2206
#     Moose::Util::TypeConstraints         any   2.2206
#     Path::Tiny                         0.048    0.148
#     Try::Tiny                            any     0.32
#     Unicode::Collate                    0.53     1.31
#     Unicode::Normalize                   any     1.26
#     namespace::autoclean                 any     0.29
#     perl                               5.008 5.014004
#     strict                               any     1.04
#     version                              any   0.9932
#     warnings                             any     1.12
# 
# === Other Modules ===
# 
#     Module                    Have
#     --------------------- --------
#     CPAN::Meta::Validator 2.150010
#     Encode                    3.21
#     File::Temp              0.2311
#     JSON::PP                  4.16
#     Module::Runtime          0.016
#     Sub::Name                 0.27
#     YAML                      1.30
#     autodie                   2.33
# 
t/00-report-prereqs.t .......... ok
# testing with git repo /var/tmp/cpansmoker-1023/2025032320/07sY6vEmx6/cGdfq1S8hV/source
# Testing with git version: 2.11.0
t/01-basic.t ................... ok
# testing with git repo /var/tmp/cpansmoker-1023/2025032320/bp0pMrZm9g/TnYJe5VGQQ/source
# Testing with git version: 2.11.0
t/02-include-authors.t ......... ok
# testing with git repo /var/tmp/cpansmoker-1023/2025032320/qlDwCapn7O/YjoeN2RVIP/source
# Testing with git version: 2.11.0
t/03-no-contributors.t ......... ok
# testing with git repo /var/tmp/cpansmoker-1023/2025032320/kjIr0hy2tb/LkbquJhh13/source
# Testing with git version: 2.11.0
# testing with git repo /var/tmp/cpansmoker-1023/2025032320/7dFrpVBXAh/AxegTfMZGP/source
# Testing with git version: 2.11.0
t/04-podweaver-warning.t ....... ok
t/05-no-repository.t ........... ok
# testing with git repo /var/tmp/cpansmoker-1023/2025032320/0RoFkQHMju/2sqNugqvns/source
# Testing with git version: 2.11.0
t/06-include-releaser.t ........ ok
# testing with git repo /var/tmp/cpansmoker-1023/2025032320/2kUkJHxkq5/GJaOUn3vM0/source
# Testing with git version: 2.11.0
t/07-author-is-releaser.t ...... ok
# testing with git repo /var/tmp/cpansmoker-1023/2025032320/xSKsVyZk9j/5U3PYE3reG/source
# Testing with git version: 2.11.0
# testing with git repo /var/tmp/cpansmoker-1023/2025032320/2xlFmSenTP/t_LILqIAv7/source
# Testing with git version: 2.11.0
t/08-order-by.t ................ ok
# testing with git repo /var/tmp/cpansmoker-1023/2025032320/5Briu1GrUq/3lAetvkPdw/source
# Testing with git version: 2.11.0
t/09-unicode.t ................. ok
# testing with git repo /var/tmp/cpansmoker-1023/2025032320/0wYF08hjrJ/8lhKM_NJne/source
# Testing with git version: 2.11.0
t/10-no-git-user-configured.t .. ok
# testing with git repo /var/tmp/cpansmoker-1023/2025032320/RvRFzvhVqU/97v2k4ASoP/source
# Testing with git version: 2.11.0
t/11-paths.t ................... ok
# testing with git repo /var/tmp/cpansmoker-1023/2025032320/bkaQ6MwS17/3VIFxDRpzv/source
# Testing with git version: 2.11.0
t/12-mailmap-files.t ........... ok
# testing with git repo /var/tmp/cpansmoker-1023/2025032320/u21inr9X38/QFarLvUOci/source
# Testing with git version: 2.11.0
t/13-no-commits.t .............. ok
# testing with git repo /var/tmp/cpansmoker-1023/2025032320/r7SoLaBcuC/uLu7yV65yP/source
# Testing with git version: 2.11.0
t/14-extract-author.t .......... ok
# testing with git repo /var/tmp/cpansmoker-1023/2025032320/4Pe0nwRsYe/jN47boj6oU/source
# Testing with git version: 2.11.0
t/15-remove.t .................. ok
# testing with git repo /var/tmp/cpansmoker-1023/2025032320/HJpYaAbJMI/VonFf06763/source
# Testing with git version: 2.11.0
t/16-duplicate-emails.t ........ ok
# testing with git repo /var/tmp/cpansmoker-1023/2025032320/xUzyDndusz/7JPBpm5dSc/source
# Testing with git version: 2.11.0
t/17-json-pp-injection.t ....... ok
# testing with git repo /var/tmp/cpansmoker-1023/2025032320/_ZaZDhSj60/et7AIhYkff/source
# Testing with git version: 2.11.0
t/18-all-files.t ............... ok
# testing with git repo /var/tmp/cpansmoker-1023/2025032320/uuSEw3A2r3/repo_root
# Testing with git version: 2.11.0
t/19-ex-repo-paths.t ........... ok
# testing with git repo /var/tmp/cpansmoker-1023/2025032320/cg0azieCwb/3JgKiIX43F/source
# Testing with git version: 2.11.0
t/20-duplicate-names.t ......... ok
# Conflicts detected for Module::Runtime:
#   MooseX::Attribute::Dependent is version 1.1.3, but must be greater than version 1.1.3
# Conflicts detected for Moose:
#   MooseX::Attribute::Dependent is version 1.1.3, but must be greater than version 1.1.3
t/zzz-check-breaks.t ........... ok
All tests successful.
Files=22, Tests=74, 22 wallclock secs ( 0.04 usr  0.13 sys + 15.66 cusr  2.23 csys = 18.05 CPU)
Result: PASS

------------------------------
PREREQUISITES
------------------------------

Prerequisite modules loaded:

requires:

    Module                          Need     Have    
    ------------------------------- -------- --------
    Data::Dumper                    0        2.183   
    Dist::Zilla                     4.300039 6.017   
    Dist::Zilla::Role::MetaProvider 0        6.017   
    Dist::Zilla::Role::PrereqSource 0        6.017   
    Git::Wrapper                    0.038    0.048   
    List::Util                      1.33     1.68    
    List::UtilsBy                   0.04     0.11    
    Moose                           0        2.2206  
    Moose::Util::TypeConstraints    0        2.2206  
    namespace::autoclean            0        0.29    
    Path::Tiny                      0.048    0.148   
    perl                            5.008    5.014004
    strict                          0        1.04    
    Try::Tiny                       0        0.32    
    Unicode::Collate                0.53     1.31    
    Unicode::Normalize              0        1.26    
    version                         0        0.9932  
    warnings                        0        1.12    

build_requires:

    Module                          Need     Have    
    ------------------------------- -------- --------
    Exporter                        5.57     5.78    
    File::Spec                      0        3.75    
    Git::Wrapper                    0.038    0.048   
    if                              0        0.0608  
    lib                             0        0.63    
    Module::Metadata                0        1.000038
    open                            0        1.08    
    parent                          0        0.243   
    perl                            5.008    5.014004
    Sort::Versions                  0        1.62    
    Term::ANSIColor                 0        5.01    
    Test::Deep                      0        1.204   
    Test::DZil                      0        6.017   
    Test::Fatal                     0        0.017   
    Test::More                      0.88     1.302209
    Test::Needs                     0        0.002010
    utf8                            0        1.09    

configure_requires:

    Module                          Need     Have    
    ------------------------------- -------- --------
    Module::Build::Tiny             0.034    0.051   
    perl                            5.006    5.014004

opt_build_requires:

    Module                          Need     Have    
    ------------------------------- -------- --------
    CPAN::Meta                      2.120900 2.150010


------------------------------
ENVIRONMENT AND OTHER CONTEXT
------------------------------

Environment variables:

    AUTOMATED_TESTING = 1
    LC_ALL = de_DE.ISO8859-1
    PATH = /usr/local/bin:/usr/bin:/bin:/usr/local/sbin:/usr/sbin:/sbin:/home/cpansand/bin/freebsd9.3:/home/cpansand/bin/sh:/home/cpansand/bin:/usr/games:/home/cpansand/devel:/usr/home/eserte/src/srezic-misc/scripts
    PERL5LIB = 
    PERL5OPT = 
    PERL5_CPANPLUS_IS_RUNNING = 35395
    PERL5_CPAN_IS_RUNNING = 35395
    PERL5_CPAN_IS_RUNNING_IN_RECURSION = 3062,35395
    PERLDOC = -MPod::Perldoc::ToTextOverstrike
    PERL_BATCH = yes
    PERL_CANARY_STABILITY_NOPROMPT = 1
    PERL_CPAN_REPORTER_CONFIG = /var/tmp/cpansmoker-1023/2025032320/cpanreporter_000_config.ini
    PERL_EXTUTILS_AUTOINSTALL = --defaultdeps
    PERL_USE_UNSAFE_INC = 1
    SHELL = /usr/local/bin/zsh
    TERM = screen
    TMPDIR = /var/tmp/cpansmoker-1023/2025032320

Perl special variables (and OS-specific diagnostics, for MSWin32):

    $^X = /usr/perl5.14.4/bin/perl5.14.4
    $UID/$EUID = 1023 / 1023
    $GID = 1023 1023
    $EGID = 1023 1023

Perl module toolchain versions installed:

    Module              Have    
    ------------------- --------
    CPAN                2.36    
    CPAN::Meta          2.150010
    Cwd                 3.75    
    ExtUtils::CBuilder  0.280236
    ExtUtils::Command   7.72    
    ExtUtils::Install   2.22    
    ExtUtils::MakeMaker 7.72    
    ExtUtils::Manifest  1.75    
    ExtUtils::ParseXS   3.51    
    File::Spec          3.75    
    JSON                4.10    
    JSON::PP            4.16    
    Module::Build       0.4234  
    Module::Signature   0.89    
    Parse::CPAN::Meta   2.150010
    Test2               1.302209
    Test::Harness       3.50    
    Test::More          1.302209
    YAML                1.30    
    YAML::Syck          1.34    
    version             0.9932  


--

Summary of my perl5 (revision 5 version 14 subversion 4) configuration:
   
  Platform:
    osname=freebsd, osvers=9.2-release-p4, archname=amd64-freebsd
    uname='freebsd cvrsnica-freebsd-92 9.2-release-p4 freebsd 9.2-release-p4 #0: tue apr 8 18:08:22 utc 2014 root@amd64-builder.daemonology.net:usrobjusrsrcsysgeneric amd64 '
    config_args='-ds -e -Dprefix=/usr/perl5.14.4'
    hint=recommended, useposix=true, d_sigaction=define
    useithreads=undef, usemultiplicity=undef
    useperlio=define, d_sfio=undef, uselargefiles=define, usesocks=undef
    use64bitint=define, use64bitall=define, uselongdouble=undef
    usemymalloc=n, bincompat5005=undef
  Compiler:
    cc='cc', ccflags ='-DHAS_FPSETMASK -DHAS_FLOATINGPOINT_H -fno-strict-aliasing -pipe -fstack-protector -I/usr/local/include',
    optimize='-O',
    cppflags='-DHAS_FPSETMASK -DHAS_FLOATINGPOINT_H -fno-strict-aliasing -pipe -fstack-protector -I/usr/local/include'
    ccversion='', gccversion='4.2.1 20070831 patched [FreeBSD]', gccosandvers=''
    intsize=4, longsize=8, ptrsize=8, doublesize=8, byteorder=12345678
    d_longlong=define, longlongsize=8, d_longdbl=define, longdblsize=16
    ivtype='long', ivsize=8, nvtype='double', nvsize=8, Off_t='off_t', lseeksize=8
    alignbytes=8, prototype=define
  Linker and Libraries:
    ld='cc', ldflags ='-Wl,-E  -fstack-protector -L/usr/local/lib'
    libpth=/usr/lib /usr/local/lib
    libs=-lgdbm -lm -lcrypt -lutil -lc
    perllibs=-lm -lcrypt -lutil -lc
    libc=, so=so, useshrplib=false, libperl=libperl.a
    gnulibc_version=''
  Dynamic Linking:
    dlsrc=dl_dlopen.xs, dlext=so, d_dlsymun=undef, ccdlflags=' '
    cccdlflags='-DPIC -fPIC', lddlflags='-shared  -L/usr/local/lib -fstack-protector'


Characteristics of this binary (from libperl): 
  Compile-time options: PERL_DONT_CREATE_GVSV PERL_MALLOC_WRAP
                        PERL_PRESERVE_IVUV USE_64_BIT_ALL USE_64_BIT_INT
                        USE_LARGE_FILES USE_PERLIO USE_PERL_ATOF
  Built under freebsd
  Compiled at May 16 2014 00:20:44
  %ENV:
    PERL5LIB=""
    PERL5OPT=""
    PERL5_CPANPLUS_IS_RUNNING="35395"
    PERL5_CPAN_IS_RUNNING="35395"
    PERL5_CPAN_IS_RUNNING_IN_RECURSION="3062,35395"
    PERLDOC="-MPod::Perldoc::ToTextOverstrike"
    PERL_BATCH="yes"
    PERL_CANARY_STABILITY_NOPROMPT="1"
    PERL_CPAN_REPORTER_CONFIG="/var/tmp/cpansmoker-1023/2025032320/cpanreporter_000_config.ini"
    PERL_EXTUTILS_AUTOINSTALL="--defaultdeps"
    PERL_USE_UNSAFE_INC="1"
  @INC:
    /usr/perl5.14.4/lib/site_perl/5.14.4/amd64-freebsd
    /usr/perl5.14.4/lib/site_perl/5.14.4
    /usr/perl5.14.4/lib/5.14.4/amd64-freebsd
    /usr/perl5.14.4/lib/5.14.4
    .