Text-VimColor v0.28 Perl 5 v5.26.1 x86_64-linux-thread-multi

Status
Pass
From
Andreas J. König (ANDK)
Dist
Text-VimColor v0.28
Platform
Perl 5 v5.26.1 x86_64-linux-thread-multi
Date
2017-11-13 09:44:45
ID
47fc1250-c857-11e7-98a7-c5a8e2a4d81f
This distribution has been tested as part of the CPAN Testers
project, supporting the Perl programming language.  See
http://wiki.cpantesters.org/ for more information or email
questions to cpan-testers-discuss@perl.org


--
Dear Randy Stauner,

This is a computer-generated report for Text-VimColor-0.28
on perl 5.26.1, created by CPAN-Reporter-1.2018.

Thank you for uploading your work to CPAN.  Congratulations!
All tests were successful.

Sections of this report:

    * Tester comments
    * Program output
    * Prerequisites
    * Environment and other context

------------------------------
TESTER COMMENTS
------------------------------

Additional comments from tester:

this report is from an automated smoke testing program
and was not reviewed by a human for accuracy

------------------------------
PROGRAM OUTPUT
------------------------------

Output from '/usr/bin/make test':

Skip blib/lib/auto/share/dist/Text-VimColor/mark.vim (unchanged)
Skip blib/lib/auto/share/dist/Text-VimColor/light.css (unchanged)
Skip blib/lib/auto/share/dist/Text-VimColor/light.xsl (unchanged)
Skip blib/lib/auto/share/dist/Text-VimColor/define_all.vim (unchanged)
PERL_DL_NONLAZY=1 "/tmp/basesmoker-reloperl-BrH6/bin/perl" "-MExtUtils::Command::MM" "-MTest::Harness" "-e" "undef *Test::Harness::Switches; test_harness(0, 'blib/lib', 'blib/arch')" t/*.t
t/00-compile.t ......... ok
# 
# Versions for all modules listed in MYMETA.json (including optional ones):
# 
# === Configure Requires ===
# 
#     Module                  Want   Have
#     ----------------------- ---- ------
#     ExtUtils::MakeMaker      any   7.30
#     File::ShareDir::Install 0.06   0.11
#     File::Temp               any 0.2304
#     IO::File                 any   1.16
#     IPC::Open3               any   1.20
#     strict                   any   1.11
#     warnings                 any   1.37
# 
# === Build Requires ===
# 
#     Module              Want Have
#     ------------------- ---- ----
#     ExtUtils::MakeMaker  any 7.30
# 
# === Test Requires ===
# 
#     Module                     Want     Have
#     -------------------------- ---- --------
#     Exporter                    any     5.72
#     ExtUtils::MakeMaker         any     7.30
#     File::Spec                  any     3.67
#     File::Temp                  any   0.2304
#     IO::Handle                  any     1.36
#     IPC::Open3                  any     1.20
#     Path::Class                0.04     0.37
#     Test::File::ShareDir::Dist  any 1.001002
#     Test::More                 0.88 1.302106
#     blib                       1.01     1.06
#     lib                         any     0.64
# 
# === Test Recommends ===
# 
#     Module         Want     Have
#     ---------- -------- --------
#     CPAN::Meta 2.120900 2.150010
# 
# === Runtime Requires ===
# 
#     Module          Want   Have
#     --------------- ---- ------
#     Carp             any   1.42
#     File::Copy       any   2.32
#     File::ShareDir   any  1.104
#     File::Temp       any 0.2304
#     Getopt::Long     any   2.49
#     IO::File         any   1.16
#     IPC::Open3       any   1.20
#     Path::Class     0.04   0.37
#     Symbol           any   1.08
#     Term::ANSIColor 1.03   4.06
#     constant         any   1.33
#     strict           any   1.11
#     warnings         any   1.37
# 
# === Runtime Recommends ===
# 
#     Module          Want Have
#     --------------- ---- ----
#     Term::ANSIColor    3 4.06
# 
t/00-report-prereqs.t .. ok
# vim --version
# 
# VIM - Vi IMproved 7.4 (2013 Aug 10, compiled Nov 24 2016 16:44:48)
# Included patches: 1-1689
# Extra patches: 8.0.0056
# Modified by pkg-vim-maintainers@lists.alioth.debian.org
# Compiled by pkg-vim-maintainers@lists.alioth.debian.org
# Huge version without GUI.  Features included (+) or not (-):
# +acl             +farsi           +mouse_netterm   +tag_binary
# +arabic          +file_in_path    +mouse_sgr       +tag_old_static
# +autocmd         +find_in_path    -mouse_sysmouse  -tag_any_white
# -balloon_eval    +float           +mouse_urxvt     -tcl
# -browse          +folding         +mouse_xterm     +terminfo
# ++builtin_terms  -footer          +multi_byte      +termresponse
# +byte_offset     +fork()          +multi_lang      +textobjects
# +channel         +gettext         -mzscheme        +timers
# +cindent         -hangul_input    +netbeans_intg   +title
# -clientserver    +iconv           +packages        -toolbar
# -clipboard       +insert_expand   +path_extra      +user_commands
# +cmdline_compl   +job             -perl            +vertsplit
# +cmdline_hist    +jumplist        +persistent_undo +virtualedit
# +cmdline_info    +keymap          +postscript      +visual
# +comments        +langmap         +printer         +visualextra
# +conceal         +libcall         +profile         +viminfo
# +cryptv          +linebreak       -python          +vreplace
# +cscope          +lispindent      +python3         +wildignore
# +cursorbind      +listcmds        +quickfix        +wildmenu
# +cursorshape     +localmap        +reltime         +windows
# +dialog_con      -lua             +rightleft       +writebackup
# +diff            +menu            -ruby            -X11
# +digraphs        +mksession       +scrollbind      -xfontset
# -dnd             +modify_fname    +signs           -xim
# -ebcdic          +mouse           +smartindent     -xsmp
# +emacs_tags      -mouseshape      +startuptime     -xterm_clipboard
# +eval            +mouse_dec       +statusline      -xterm_save
# +ex_extra        +mouse_gpm       -sun_workshop    -xpm
# +extra_search    -mouse_jsbterm   +syntax          
#    system vimrc file: "$VIM/vimrc"
#      user vimrc file: "$HOME/.vimrc"
#  2nd user vimrc file: "~/.vim/vimrc"
#       user exrc file: "$HOME/.exrc"
#   fall-back for $VIM: "/usr/share/vim"
# Compilation: gcc -c -I. -Iproto -DHAVE_CONFIG_H   -Wdate-time  -g -O2 -fPIE -fstack-protector-strong -Wformat -Werror=format-security -U_FORTIFY_SOURCE -D_FORTIFY_SOURCE=1      
# Linking: gcc   -Wl,-Bsymbolic-functions -fPIE -pie -Wl,-z,relro -Wl,-z,now -Wl,--as-needed -o vim        -lm -ltinfo -lnsl  -lselinux  -lacl -lattr -lgpm -ldl     -L/usr/lib/python3.5/config-3.5m-x86_64-linux-gnu -lpython3.5m -lpthread -ldl -lutil -lm      
# 
t/000-vim-version.t .... ok
t/all-syntax-groups.t .. ok
t/ansi.t ............... ok
t/bin.t ................ ok
t/compare-formats.t .... ok
t/encoding.t ........... ok
t/html.t ............... ok
t/input_filename.t ..... ok
t/new.t ................ ok
t/override-options.t ... ok
t/share-dir.t .......... ok
t/tvctestsyn.t ......... ok
t/untie-std-handles.t .. ok
t/vim_let.t ............ ok
t/vim_options.t ........ ok
t/xml.t ................ ok
All tests successful.

Test Summary Report
-------------------
t/encoding.t         (Wstat: 0 Tests: 8 Failed: 0)
  TODO passed:   5-6
Files=18, Tests=143,  5 wallclock secs ( 0.05 usr  0.10 sys +  3.31 cusr  0.72 csys =  4.18 CPU)
Result: PASS

------------------------------
PREREQUISITES
------------------------------

Prerequisite modules loaded:

requires:

    Module                     Need  Have    
    -------------------------- ----- --------
    Carp                       0     1.42    
    constant                   0     1.33    
    File::Copy                 0     2.32    
    File::ShareDir             0     1.104   
    File::Temp                 0     0.2304  
    Getopt::Long               0     2.49    
    IO::File                   0     1.16    
    IPC::Open3                 0     1.20    
    Path::Class                0.04  0.37    
    perl                       5.006 5.026001
    strict                     0     1.11    
    Symbol                     0     1.08    
    Term::ANSIColor            1.03  4.06    
    warnings                   0     1.37    

build_requires:

    Module                     Need  Have    
    -------------------------- ----- --------
    blib                       1.01  1.06    
    Exporter                   0     5.72    
    ExtUtils::MakeMaker        0     7.30    
    File::Spec                 0     3.67    
    File::Temp                 0     0.2304  
    IO::Handle                 0     1.36    
    IPC::Open3                 0     1.20    
    lib                        0     0.64    
    Path::Class                0.04  0.37    
    Test::File::ShareDir::Dist 0     1.001002
    Test::More                 0.88  1.302106

configure_requires:

    Module                     Need  Have    
    -------------------------- ----- --------
    ExtUtils::MakeMaker        0     7.30    
    File::ShareDir::Install    0.06  0.11    
    File::Temp                 0     0.2304  
    IO::File                   0     1.16    
    IPC::Open3                 0     1.20    
    perl                       5.006 5.026001
    strict                     0     1.11    
    warnings                   0     1.37    


------------------------------
ENVIRONMENT AND OTHER CONTEXT
------------------------------

Environment variables:

    AUTOMATED_TESTING = 1
    LANG = en_US.UTF-8
    PATH = /home/sand/bin:/usr/local/bin:/usr/local/sbin:/usr/sbin:/usr/bin:/sbin:/bin:/usr/games:/usr/local/games:/usr/local/perl/bin:/usr/X11/bin
    PERL5LIB = 
    PERL5OPT = 
    PERL5_CPANPLUS_IS_RUNNING = 21829
    PERL5_CPAN_IS_RUNNING = 21829
    PERL_CANARY_STABILITY_NOPROMPT = 1
    PERL_MM_USE_DEFAULT = 1
    PERL_USE_UNSAFE_INC = 1
    SHELL = /usr/bin/zsh
    TERM = screen

Perl special variables (and OS-specific diagnostics, for MSWin32):

    $^X = /tmp/basesmoker-reloperl-BrH6/bin/perl
    $UID/$EUID = 1005 / 1005
    $GID = 1005 1005
    $EGID = 1005 1005

Perl module toolchain versions installed:

    Module              Have      
    ------------------- ----------
    CPAN                2.19      
    CPAN::Meta          2.150010  
    Cwd                 3.67      
    ExtUtils::CBuilder  0.280226  
    ExtUtils::Command   7.30      
    ExtUtils::Install   2.06      
    ExtUtils::MakeMaker 7.30      
    ExtUtils::Manifest  1.70      
    ExtUtils::ParseXS   3.34      
    File::Spec          3.67      
    JSON                2.94      
    JSON::PP            2.27400_02
    Module::Build       0.4224    
    Module::Signature   0.81      
    Parse::CPAN::Meta   2.150010  
    Test::Harness       3.39      
    Test::More          1.302106  
    YAML                1.24      
    YAML::Syck          1.30      
    version             0.9917    


--

Summary of my perl5 (revision 5 version 26 subversion 1) configuration:
  Commit id: 714a461a2ab3017f19ea0f7bbb4934b2309d3aa8
  Platform:
    osname=linux
    osvers=4.4.0-98-generic
    archname=x86_64-linux-thread-multi
    uname='linux k93x64xenial 4.4.0-98-generic #121-ubuntu smp tue oct 10 14:24:03 utc 2017 x86_64 x86_64 x86_64 gnulinux '
    config_args='-Dprefix=/home/sand/src/perl/repoperls/installed-perls/host/k93x64xenial/v5.26.1/aa39 -Dmyhostname=k93x64xenial -Dinstallusrbinperl=n -Uversiononly -Dusedevel -des -Ui_db -Dlibswanted=cl pthread socket inet nsl gdbm dbm malloc dl ld sun m crypt sec util c cposix posix ucb BSD gdbm_compat -Duseithreads -Uuselongdouble -DDEBUGGING=-g'
    hint=recommended
    useposix=true
    d_sigaction=define
    useithreads=define
    usemultiplicity=define
    use64bitint=define
    use64bitall=define
    uselongdouble=undef
    usemymalloc=n
    default_inc_excludes_dot=define
    bincompat5005=undef
  Compiler:
    cc='cc'
    ccflags ='-D_REENTRANT -D_GNU_SOURCE -fwrapv -fno-strict-aliasing -pipe -fstack-protector-strong -I/usr/local/include -D_LARGEFILE_SOURCE -D_FILE_OFFSET_BITS=64'
    optimize='-O2 -g'
    cppflags='-D_REENTRANT -D_GNU_SOURCE -fwrapv -fno-strict-aliasing -pipe -fstack-protector-strong -I/usr/local/include'
    ccversion=''
    gccversion='5.4.0 20160609'
    gccosandvers=''
    intsize=4
    longsize=8
    ptrsize=8
    doublesize=8
    byteorder=12345678
    doublekind=3
    d_longlong=define
    longlongsize=8
    d_longdbl=define
    longdblsize=16
    longdblkind=3
    ivtype='long'
    ivsize=8
    nvtype='double'
    nvsize=8
    Off_t='off_t'
    lseeksize=8
    alignbytes=8
    prototype=define
  Linker and Libraries:
    ld='cc'
    ldflags =' -fstack-protector-strong -L/usr/local/lib'
    libpth=/usr/local/lib /usr/lib/gcc/x86_64-linux-gnu/5/include-fixed /usr/include/x86_64-linux-gnu /usr/lib /lib/x86_64-linux-gnu /lib/../lib /usr/lib/x86_64-linux-gnu /usr/lib/../lib /lib
    libs=-lpthread -lnsl -ldl -lm -lcrypt -lutil -lc
    perllibs=-lpthread -lnsl -ldl -lm -lcrypt -lutil -lc
    libc=libc-2.23.so
    so=so
    useshrplib=false
    libperl=libperl.a
    gnulibc_version='2.23'
  Dynamic Linking:
    dlsrc=dl_dlopen.xs
    dlext=so
    d_dlsymun=undef
    ccdlflags='-Wl,-E'
    cccdlflags='-fPIC'
    lddlflags='-shared -O2 -g -L/usr/local/lib -fstack-protector-strong'


Characteristics of this binary (from libperl): 
  Compile-time options:
    HAS_TIMES
    MULTIPLICITY
    PERLIO_LAYERS
    PERL_COPY_ON_WRITE
    PERL_DONT_CREATE_GVSV
    PERL_IMPLICIT_CONTEXT
    PERL_MALLOC_WRAP
    PERL_OP_PARENT
    PERL_PRESERVE_IVUV
    PERL_USE_DEVEL
    USE_64_BIT_ALL
    USE_64_BIT_INT
    USE_ITHREADS
    USE_LARGE_FILES
    USE_LOCALE
    USE_LOCALE_COLLATE
    USE_LOCALE_CTYPE
    USE_LOCALE_NUMERIC
    USE_LOCALE_TIME
    USE_PERLIO
    USE_PERL_ATOF
    USE_REENTRANT_API
  Built under linux
  Compiled at Nov 11 2017 14:46:00
  %ENV:
    PERL5LIB=""
    PERL5OPT=""
    PERL5_CPANPLUS_IS_RUNNING="21829"
    PERL5_CPAN_IS_RUNNING="21829"
    PERL_CANARY_STABILITY_NOPROMPT="1"
    PERL_MM_USE_DEFAULT="1"
    PERL_USE_UNSAFE_INC="1"
  @INC:
    /home/sand/src/perl/repoperls/installed-perls/host/k93x64xenial/v5.26.1/aa39/lib/site_perl/5.26.1/x86_64-linux-thread-multi
    /home/sand/src/perl/repoperls/installed-perls/host/k93x64xenial/v5.26.1/aa39/lib/site_perl/5.26.1
    /home/sand/src/perl/repoperls/installed-perls/host/k93x64xenial/v5.26.1/aa39/lib/5.26.1/x86_64-linux-thread-multi
    /home/sand/src/perl/repoperls/installed-perls/host/k93x64xenial/v5.26.1/aa39/lib/5.26.1
    .