Report for Syntax-Feature-Try-1.005

Back
From: metabase:user:320bfe00-2aae-11df-837a-5e0a49663a4f
Subject: PASS Syntax-Feature-Try-1.005 v5.25.2 GNU/Linux
Date: 2016-05-25T09:08:44Z

This distribution has been tested as part of the CPAN Testers
project, supporting the Perl programming language.  See
http://wiki.cpantesters.org/ for more information or email
questions to cpan-testers-discuss@perl.org


--
Dear Tomas Pokorny,

This is a computer-generated report for Syntax-Feature-Try-1.005
on perl 5.25.2, created by CPAN-Reporter-1.2017.

Thank you for uploading your work to CPAN.  Congratulations!
All tests were successful.

Sections of this report:

    * Tester comments
    * Program output
    * Prerequisites
    * Environment and other context

------------------------------
TESTER COMMENTS
------------------------------

Additional comments from tester:

this report is from an automated smoke testing program
and was not reviewed by a human for accuracy

------------------------------
PROGRAM OUTPUT
------------------------------

Output from '/usr/bin/make test':

"/tmp/basesmoker-reloperl-S1s4/bin/perl" -MExtUtils::Command::MM -e 'cp_nonempty' -- Try.bs blib/arch/auto/Syntax/Feature/Try/Try.bs 644
PERL_DL_NONLAZY=1 "/tmp/basesmoker-reloperl-S1s4/bin/perl" "-MExtUtils::Command::MM" "-MTest::Harness" "-e" "undef *Test::Harness::Switches; test_harness(0, 'blib/lib', 'blib/arch')" t/*.t
t/01_use_ok.t ..................... ok
t/10_parser_output.t .............. ok
t/15_parser_syntax_ok.t ........... ok
t/20_parser_syntax_errors.t ....... ok
t/20_parser_warnings.t ............ ok
t/author-critic.t ................. skipped: these tests are for testing by the author
t/author-pod-coverage.t ........... skipped: these tests are for testing by the author
t/author-pod-syntax.t ............. skipped: these tests are for testing by the author
t/catch_isa.t ..................... ok
t/catch_moose_type_constraints.t .. ok
t/catch_others.t .................. ok
t/catch_variable.t ................ ok
t/catch_without_variable.t ........ ok
t/customer_exception_matchers.t ... ok
t/exception_class.t ............... ok
t/exit.t .......................... ok
t/finally.t ....................... ok
t/import.t ........................ ok
t/last_op_in_block.t .............. ok
t/line_numbers.t .................. ok
t/localized_error_variable.t ...... ok
t/loops.t ......................... ok
t/memory_leaks.t .................. ok
t/moose_throwable.t ............... ok
t/nested.t ........................ ok
t/recursive.t ..................... ok
t/return.t ........................ ok
t/statement.t ..................... ok
t/subroutine_args.t ............... ok
t/wantarray.t ..................... ok
All tests successful.

Test Summary Report
-------------------
t/loops.t                       (Wstat: 0 Tests: 5 Failed: 0)
  TODO passed:   2, 4
Files=30, Tests=337,  5 wallclock secs ( 0.12 usr  0.14 sys +  3.99 cusr  0.71 csys =  4.96 CPU)
Result: PASS

------------------------------
PREREQUISITES
------------------------------

Prerequisite modules loaded:

requires:

    Module                       Need  Have    
    ---------------------------- ----- --------
    Carp                         0     1.41    
    perl                         5.014 5.025002
    Scalar::Util                 0     1.45_01 
    strict                       0     1.11    
    syntax                       0.004 0.004   
    warnings                     0     1.36    
    XSLoader                     0     0.21    

build_requires:

    Module                       Need  Have    
    ---------------------------- ----- --------
    base                         0     2.23    
    Exception::Class             0     1.40    
    Exporter                     0     5.72    
    ExtUtils::MakeMaker          0     7.18    
    FindBin                      0     1.51    
    lib                          0     0.63    
    Moose                        0     2.1801  
    Moose::Util::TypeConstraints 0     2.1801  
    syntax                       0.004 0.004   
    Test::Exception              0     0.43    
    Test::LeakTrace              0     0.15    
    Test::More                   0     1.302019
    Test::NoWarnings             0     1.04    
    Test::Spec                   0     0.51    
    Test::Warn                   0     0.30    
    Throwable                    0     0.200013

configure_requires:

    Module                       Need  Have    
    ---------------------------- ----- --------
    ExtUtils::MakeMaker          0     7.18    


------------------------------
ENVIRONMENT AND OTHER CONTEXT
------------------------------

Environment variables:

    AUTOMATED_TESTING = 1
    LANG = en_US.UTF-8
    LANGUAGE = en_US:en
    PATH = /usr/lib/ccache:/home/sand/bin:/usr/local/bin:/usr/bin:/bin:/usr/games:/usr/local/perl/bin:/usr/X11/bin:/sbin:/usr/sbin
    PERL5LIB = /tmp/loop_over_bdir-8366-4cFwtQ/FusionInventory-Agent-2.3.17-0/blib/arch:/tmp/loop_over_bdir-8366-4cFwtQ/FusionInventory-Agent-2.3.17-0/blib/lib
    PERL5OPT = 
    PERL5_CPANPLUS_IS_RUNNING = 24272
    PERL5_CPAN_IS_RUNNING = 24272
    PERL_CANARY_STABILITY_NOPROMPT = 1
    PERL_MM_USE_DEFAULT = 1
    SHELL = /usr/bin/zsh
    TERM = screen

Perl special variables (and OS-specific diagnostics, for MSWin32):

    $^X = /tmp/basesmoker-reloperl-S1s4/bin/perl
    $UID/$EUID = 1005 / 1005
    $GID = 1005 1005
    $EGID = 1005 1005

Perl module toolchain versions installed:

    Module              Have    
    ------------------- --------
    CPAN                2.13    
    CPAN::Meta          2.150005
    Cwd                 3.63    
    ExtUtils::CBuilder  0.280225
    ExtUtils::Command   7.18    
    ExtUtils::Install   2.04    
    ExtUtils::MakeMaker 7.18    
    ExtUtils::Manifest  1.70    
    ExtUtils::ParseXS   3.31    
    File::Spec          3.63    
    JSON                2.90    
    JSON::PP            2.27400 
    Module::Build       0.4218  
    Module::Signature   0.79    
    Parse::CPAN::Meta   1.4417  
    Test::Harness       3.36    
    Test::More          1.302019
    YAML                1.15    
    YAML::Syck          1.29    
    version             0.9916  


--

Summary of my perl5 (revision 5 version 25 subversion 2) configuration:
  Commit id: 8687a6e6de7ce658ece8673ad56c37d0a1d8cbca
  Platform:
    osname=linux, osvers=4.3.0-1-amd64, archname=x86_64-linux
    uname='linux k83 4.3.0-1-amd64 #1 smp debian 4.3.3-7 (2016-01-19) x86_64 gnulinux '
    config_args='-Dprefix=/home/sand/src/perl/repoperls/installed-perls/perl/v5.25.1-50-g8687a6e/79cc -Dmyhostname=k83 -Dinstallusrbinperl=n -Uversiononly -Dusedevel -des -Ui_db -Dlibswanted=cl pthread socket inet nsl gdbm dbm malloc dl ld sun m crypt sec util c cposix posix ucb BSD gdbm_compat -Uuseithreads -Uuselongdouble -DDEBUGGING=-g'
    hint=recommended, useposix=true, d_sigaction=define
    useithreads=undef, usemultiplicity=undef
    use64bitint=define, use64bitall=define, uselongdouble=undef
    usemymalloc=n, bincompat5005=undef
  Compiler:
    cc='cc', ccflags ='-fwrapv -fno-strict-aliasing -pipe -fstack-protector-strong -I/usr/local/include -D_LARGEFILE_SOURCE -D_FILE_OFFSET_BITS=64 -D_FORTIFY_SOURCE=2',
    optimize='-O2 -g',
    cppflags='-fwrapv -fno-strict-aliasing -pipe -fstack-protector-strong -I/usr/local/include'
    ccversion='', gccversion='5.3.1 20160121', gccosandvers=''
    intsize=4, longsize=8, ptrsize=8, doublesize=8, byteorder=12345678, doublekind=3
    d_longlong=define, longlongsize=8, d_longdbl=define, longdblsize=16, longdblkind=3
    ivtype='long', ivsize=8, nvtype='double', nvsize=8, Off_t='off_t', lseeksize=8
    alignbytes=8, prototype=define
  Linker and Libraries:
    ld='cc', ldflags =' -fstack-protector-strong -L/usr/local/lib'
    libpth=/usr/local/lib /usr/lib/gcc/x86_64-linux-gnu/5/include-fixed /usr/include/x86_64-linux-gnu /usr/lib /lib/x86_64-linux-gnu /lib/../lib /usr/lib/x86_64-linux-gnu /usr/lib/../lib /lib
    libs=-lpthread -lnsl -lgdbm -ldl -lm -lcrypt -lutil -lc -lgdbm_compat
    perllibs=-lpthread -lnsl -ldl -lm -lcrypt -lutil -lc
    libc=libc-2.21.so, so=so, useshrplib=false, libperl=libperl.a
    gnulibc_version='2.21'
  Dynamic Linking:
    dlsrc=dl_dlopen.xs, dlext=so, d_dlsymun=undef, ccdlflags='-Wl,-E'
    cccdlflags='-fPIC', lddlflags='-shared -O2 -g -L/usr/local/lib -fstack-protector-strong'


Characteristics of this binary (from libperl): 
  Compile-time options: HAS_TIMES PERLIO_LAYERS PERL_COPY_ON_WRITE
                        PERL_DONT_CREATE_GVSV
                        PERL_HASH_FUNC_ONE_AT_A_TIME_HARD PERL_MALLOC_WRAP
                        PERL_OP_PARENT PERL_PRESERVE_IVUV PERL_USE_DEVEL
                        USE_64_BIT_ALL USE_64_BIT_INT USE_LARGE_FILES
                        USE_LOCALE USE_LOCALE_COLLATE USE_LOCALE_CTYPE
                        USE_LOCALE_NUMERIC USE_LOCALE_TIME USE_PERLIO
                        USE_PERL_ATOF
  Built under linux
  Compiled at May 23 2016 20:00:12
  %ENV:
    PERL5LIB="/tmp/loop_over_bdir-8366-4cFwtQ/FusionInventory-Agent-2.3.17-0/blib/arch:/tmp/loop_over_bdir-8366-4cFwtQ/FusionInventory-Agent-2.3.17-0/blib/lib"
    PERL5OPT=""
    PERL5_CPANPLUS_IS_RUNNING="24272"
    PERL5_CPAN_IS_RUNNING="24272"
    PERL_CANARY_STABILITY_NOPROMPT="1"
    PERL_MM_USE_DEFAULT="1"
  @INC:
    /tmp/loop_over_bdir-8366-4cFwtQ/FusionInventory-Agent-2.3.17-0/blib/arch
    /tmp/loop_over_bdir-8366-4cFwtQ/FusionInventory-Agent-2.3.17-0/blib/lib
    /home/sand/src/perl/repoperls/installed-perls/perl/v5.25.1-50-g8687a6e/79cc/lib/site_perl/5.25.2/x86_64-linux
    /home/sand/src/perl/repoperls/installed-perls/perl/v5.25.1-50-g8687a6e/79cc/lib/site_perl/5.25.2
    /home/sand/src/perl/repoperls/installed-perls/perl/v5.25.1-50-g8687a6e/79cc/lib/5.25.2/x86_64-linux
    /home/sand/src/perl/repoperls/installed-perls/perl/v5.25.1-50-g8687a6e/79cc/lib/5.25.2
    .