IO-Stringy v2.113 Perl 5 v5.32.0 riscv64-linux
- Status
- Pass
- From
- Ryan Voots
- Dist
-
IO-Stringy v2.113
- Platform
- Perl 5 v5.32.0 riscv64-linux
- Date
- 2020-10-29 00:11:25
- ID
- 485a9a82-197b-11eb-bbe5-cba5e9bd25b3
This distribution has been tested as part of the CPAN Testers
project, supporting the Perl programming language. See
http://wiki.cpantesters.org/ for more information or email
questions to cpan-testers-discuss@perl.org
--
Dear Chase Whitener,
This is a computer-generated report for IO-Stringy-2.113
on perl 5.32.0, created by CPAN-Reporter-1.2018.
Thank you for uploading your work to CPAN. Congratulations!
All tests were successful.
Sections of this report:
* Tester comments
* Program output
* Prerequisites
* Environment and other context
------------------------------
TESTER COMMENTS
------------------------------
Additional comments from tester:
this report is from an automated smoke testing program
and was not reviewed by a human for accuracy
------------------------------
PROGRAM OUTPUT
------------------------------
Output from '/usr/bin/make test':
PERL_DL_NONLAZY=1 "/home/ryan/perl5/perlbrew/perls/perl-5.32.0/bin/perl" "-MExtUtils::Command::MM" "-MTest::Harness" "-e" "undef *Test::Harness::Switches; test_harness(0, 'blib/lib', 'blib/arch')" t/*.t
t/IO_Lines.t ........... ok
t/IO_ScalarArray.t ..... ok
t/IO_Scalar.t .......... ok
t/IO_InnerFile.t ....... ok
t/IO_WrapTie.t ......... ok
t/simple.t ............. ok
#
# Versions for all modules listed in MYMETA.json (including optional ones):
#
# === Configure Requires ===
#
# Module Want Have
# ------------------- ---- ----
# ExtUtils::MakeMaker any 7.44
#
# === Build Requires ===
#
# Module Want Have
# ------------------- ---- ----
# ExtUtils::MakeMaker any 7.44
#
# === Test Requires ===
#
# Module Want Have
# ------------------- ---- --------
# ExtUtils::MakeMaker any 7.44
# File::Basename any 2.85
# File::Spec any 3.78
# File::Temp any 0.2309
# FileHandle any 2.03
# IO::File any 1.41
# IO::Handle any 1.42
# Symbol any 1.08
# Test::More 0.88 1.302183
# Test::Tester any 1.302183
# strict any 1.11
# warnings any 1.47
#
# === Test Recommends ===
#
# Module Want Have
# ---------- -------- --------
# CPAN::Meta 2.120900 2.150010
#
# === Runtime Requires ===
#
# Module Want Have
# ---------- ---- -----
# Carp any 1.50
# Exporter 5.57 5.74
# File::Spec any 3.78
# FileHandle any 2.03
# IO::File any 1.41
# IO::Handle any 1.42
# Symbol any 1.08
# overload any 1.31
# parent any 0.238
# strict any 1.11
# warnings any 1.47
#
t/00-report-prereqs.t .. ok
t/two.t ................ ok
All tests successful.
Files=8, Tests=127, 6 wallclock secs ( 1.03 usr 0.34 sys + 20.37 cusr 4.28 csys = 26.02 CPU)
Result: PASS
------------------------------
PREREQUISITES
------------------------------
Prerequisite modules loaded:
requires:
Module Need Have
------------------- -------- --------
Carp 0 1.50
Exporter 5.57 5.74
File::Spec 0 3.78
FileHandle 0 2.03
IO::File 0 1.41
IO::Handle 0 1.42
overload 0 1.31
parent 0 0.238
strict 0 1.11
Symbol 0 1.08
warnings 0 1.47
build_requires:
Module Need Have
------------------- -------- --------
ExtUtils::MakeMaker 0 7.44
File::Basename 0 2.85
File::Spec 0 3.78
File::Temp 0 0.2309
FileHandle 0 2.03
IO::File 0 1.41
IO::Handle 0 1.42
strict 0 1.11
Symbol 0 1.08
Test::More 0.88 1.302183
Test::Tester 0 1.302183
warnings 0 1.47
configure_requires:
Module Need Have
------------------- -------- --------
ExtUtils::MakeMaker 0 7.44
opt_build_requires:
Module Need Have
------------------- -------- --------
CPAN::Meta 2.120900 2.150010
------------------------------
ENVIRONMENT AND OTHER CONTEXT
------------------------------
Environment variables:
AUTOMATED_TESTING = 1
HARNESS_OPTIONS = j6
LANG = en_US.UTF-8
PATH = /usr/local/sbin:/usr/local/bin:/usr/sbin:/usr/bin:/sbin:/bin
PERL5LIB =
PERL5OPT =
PERL5_CPANPLUS_IS_RUNNING = 563
PERL5_CPAN_IS_RUNNING = 563
PERL5_CPAN_IS_RUNNING_IN_RECURSION = 537,563
PERL_CR_SMOKER_CURRENT = DBIx-Class-Smooth-0.0107
PERL_EXTUTILS_AUTOINSTALL = --defaultdeps
PERL_MM_USE_DEFAULT = 1
PERL_USE_UNSAFE_INC = 1
SHELL = /bin/zsh
Perl special variables (and OS-specific diagnostics, for MSWin32):
$^X = /home/ryan/perl5/perlbrew/perls/perl-5.32.0/bin/perl
$UID/$EUID = 1000 / 1000
$GID = 1000 4 27 102 1000
$EGID = 1000 4 27 102 1000
Perl module toolchain versions installed:
Module Have
------------------- --------
CPAN 2.28
CPAN::Meta 2.150010
Cwd 3.78
ExtUtils::CBuilder 0.280234
ExtUtils::Command 7.44
ExtUtils::Install 2.14
ExtUtils::MakeMaker 7.44
ExtUtils::Manifest 1.72
ExtUtils::ParseXS 3.40
File::Spec 3.78
JSON 4.02
JSON::PP 4.04
Module::Build 0.4231
Module::Signature n/a
Parse::CPAN::Meta 2.150010
Test::Harness 3.42
Test::More 1.302183
YAML 1.30
YAML::Syck n/a
version 0.9924
--
Summary of my perl5 (revision 5 version 32 subversion 0) configuration:
Platform:
osname=linux
osvers=5.9.1
archname=riscv64-linux
uname='linux riscv64 5.9.1 #1 smp sun oct 25 20:08:34 utc 2020 riscv64 gnulinux '
config_args='-de -Dprefix=/home/ryan/perl5/perlbrew/perls/perl-5.32.0 -Aeval:scriptdir=/home/ryan/perl5/perlbrew/perls/perl-5.32.0/bin'
hint=recommended
useposix=true
d_sigaction=define
useithreads=undef
usemultiplicity=undef
use64bitint=define
use64bitall=define
uselongdouble=undef
usemymalloc=n
default_inc_excludes_dot=define
bincompat5005=undef
Compiler:
cc='cc'
ccflags ='-fwrapv -fno-strict-aliasing -pipe -fstack-protector-strong -I/usr/local/include -D_LARGEFILE_SOURCE -D_FILE_OFFSET_BITS=64 -D_FORTIFY_SOURCE=2'
optimize='-O2'
cppflags='-fwrapv -fno-strict-aliasing -pipe -fstack-protector-strong -I/usr/local/include'
ccversion=''
gccversion='10.2.0'
gccosandvers=''
intsize=4
longsize=8
ptrsize=8
doublesize=8
byteorder=12345678
doublekind=3
d_longlong=define
longlongsize=8
d_longdbl=define
longdblsize=16
longdblkind=1
ivtype='long'
ivsize=8
nvtype='double'
nvsize=8
Off_t='off_t'
lseeksize=8
alignbytes=8
prototype=define
Linker and Libraries:
ld='cc'
ldflags =' -fstack-protector-strong -L/usr/local/lib'
libpth=/usr/local/lib /usr/include/riscv64-linux-gnu /usr/lib /lib/riscv64-linux-gnu /lib /usr/lib/riscv64-linux-gnu
libs=-lpthread -lnsl -ldl -lm -lcrypt -lutil -lc
perllibs=-lpthread -lnsl -ldl -lm -lcrypt -lutil -lc
libc=libc-2.31.so
so=so
useshrplib=false
libperl=libperl.a
gnulibc_version='2.31'
Dynamic Linking:
dlsrc=dl_dlopen.xs
dlext=so
d_dlsymun=undef
ccdlflags='-Wl,-E'
cccdlflags='-fPIC'
lddlflags='-shared -O2 -L/usr/local/lib -fstack-protector-strong'
Characteristics of this binary (from libperl):
Compile-time options:
HAS_TIMES
PERLIO_LAYERS
PERL_COPY_ON_WRITE
PERL_DONT_CREATE_GVSV
PERL_MALLOC_WRAP
PERL_OP_PARENT
PERL_PRESERVE_IVUV
USE_64_BIT_ALL
USE_64_BIT_INT
USE_LARGE_FILES
USE_LOCALE
USE_LOCALE_COLLATE
USE_LOCALE_CTYPE
USE_LOCALE_NUMERIC
USE_LOCALE_TIME
USE_PERLIO
USE_PERL_ATOF
Built under linux
Compiled at Oct 27 2020 18:42:30
%ENV:
PERL5LIB=""
PERL5OPT=""
PERL5_CPANPLUS_IS_RUNNING="563"
PERL5_CPAN_IS_RUNNING="563"
PERL5_CPAN_IS_RUNNING_IN_RECURSION="537,563"
PERL_CR_SMOKER_CURRENT="DBIx-Class-Smooth-0.0107"
PERL_EXTUTILS_AUTOINSTALL="--defaultdeps"
PERL_MM_USE_DEFAULT="1"
PERL_USE_UNSAFE_INC="1"
@INC:
/home/ryan/perl5/perlbrew/perls/perl-5.32.0/lib/site_perl/5.32.0/riscv64-linux
/home/ryan/perl5/perlbrew/perls/perl-5.32.0/lib/site_perl/5.32.0
/home/ryan/perl5/perlbrew/perls/perl-5.32.0/lib/5.32.0/riscv64-linux
/home/ryan/perl5/perlbrew/perls/perl-5.32.0/lib/5.32.0
.