POE v1.370 Perl 5 v5.20.3 i86pc-solaris-64

Status
Pass
From
Chris Williams (BINGOS)
Dist
POE v1.370
Platform
Perl 5 v5.20.3 i86pc-solaris-64
Date
2022-05-04 17:26:07
ID
486495fc-cbcf-11ec-8f4e-c962458f5e5b
This distribution has been tested as part of the CPAN Testers
project, supporting the Perl programming language.  See
http://wiki.cpantesters.org/ for more information or email
questions to cpan-testers-discuss@perl.org


--

Dear Chris Williams,

This is a computer-generated error report created automatically by
CPANPLUS, version 0.9914. Testers personal comments may appear
at the end of this report.


Thank you for uploading your work to CPAN.  Congratulations!
All tests were successful.

TEST RESULTS:

Below is the error stack from stage 'make test':

"/opt/perl-5.20.3/bin/perl" mylib/gen-tests.perl lib/POE.pm 
PERL_DL_NONLAZY=1 "/opt/perl-5.20.3/bin/perl" "-MExtUtils::Command::MM" "-MTest::Harness" "-e" "undef *Test::Harness::Switches; test_harness(0, 'blib/lib', 'blib/arch')" t/*.t t/*/*.t t/*/*/*.t
# Testing POE 1.370, POE::Test::Loops 1.360, Perl 5.020003, /opt/perl-5.20.3/bin/perl on solaris
# pogomips: 15227753
t/00_info.t ........................................ ok
t/10_units/01_pod/01_pod.t ......................... skipped: enable by setting RELEASE_TESTING
t/10_units/01_pod/02_pod_coverage.t ................ skipped: enable by setting RELEASE_TESTING
t/10_units/01_pod/03_pod_no404s.t .................. skipped: enable by setting RELEASE_TESTING
t/10_units/01_pod/04_pod_linkcheck.t ............... skipped: enable by setting RELEASE_TESTING
t/10_units/02_pipes/01_base.t ...................... skipped: not implemented yet
t/10_units/02_pipes/02_oneway.t .................... ok
t/10_units/02_pipes/03_twoway.t .................... ok
t/10_units/03_base/01_poe.t ........................ ok
t/10_units/03_base/03_component.t .................. ok
t/10_units/03_base/04_driver.t ..................... ok
t/10_units/03_base/05_filter.t ..................... ok
t/10_units/03_base/06_loop.t ....................... ok
t/10_units/03_base/07_queue.t ...................... ok
t/10_units/03_base/08_resource.t ................... ok
t/10_units/03_base/09_resources.t .................. ok
t/10_units/03_base/10_wheel.t ...................... ok
t/10_units/03_base/11_assert_usage.t ............... ok
t/10_units/03_base/12_assert_retval.t .............. ok
t/10_units/03_base/13_assert_data.t ................ ok
t/10_units/03_base/14_kernel.t ..................... ok
t/10_units/03_base/15_kernel_internal.t ............ ok
t/10_units/03_base/16_nfa_usage.t .................. ok
t/10_units/03_base/17_detach_start.t ............... ok
t/10_units/04_drivers/01_sysrw.t ................... ok
t/10_units/05_filters/01_block.t ................... ok
t/10_units/05_filters/02_grep.t .................... ok
Downgrading wide characters in HTTP header. Consider installing Email::MIME::RFC2047::Encoder at /opt/perl-5.20.3/.cpanplus/5.20.3/build/i5yuxB5vHN/POE-1.370/blib/lib/POE/Filter/HTTPD.pm line 73.
	POE::Filter::HTTPD::__ANON__("En \x{e9}t\x{e9}") called at /opt/perl-5.20.3/.cpanplus/5.20.3/build/i5yuxB5vHN/POE-1.370/blib/lib/POE/Filter/HTTPD.pm line 449
	POE::Filter::HTTPD::headers_as_strings(POE::Filter::HTTPD=ARRAY(0xf459d0), HTTP::Headers=HASH(0xf45f10), "\x{d}\x{a}") called at /opt/perl-5.20.3/.cpanplus/5.20.3/build/i5yuxB5vHN/POE-1.370/blib/lib/POE/Filter/HTTPD.pm line 411
	POE::Filter::HTTPD::put(POE::Filter::HTTPD=ARRAY(0xf459d0), ARRAY(0xf45fd0)) called at t/10_units/05_filters/03_http.t line 426
t/10_units/05_filters/03_http.t .................... ok
t/10_units/05_filters/04_line.t .................... ok
t/10_units/05_filters/05_map.t ..................... ok
t/10_units/05_filters/06_recordblock.t ............. ok
t/10_units/05_filters/07_reference.t ............... ok
t/10_units/05_filters/08_stream.t .................. ok
t/10_units/05_filters/50_stackable.t ............... ok
t/10_units/05_filters/51_reference_die.t ........... skipped: YAML module not available
t/10_units/05_filters/99_filterchange.t ............ ok
t/10_units/06_queues/01_array.t .................... ok
t/10_units/07_exceptions/01_normal.t ............... ok
t/10_units/07_exceptions/02_turn_off.t ............. ok
t/10_units/07_exceptions/03_not_handled.t .......... ok
t/10_units/08_loops/01_explicit_loop.t ............. ok
t/10_units/08_loops/02_explicit_loop_fail.t ........ ok
t/10_units/08_loops/03_explicit_loop_poll.t ........ ok
t/10_units/08_loops/04_explicit_loop_envvar.t ...... ok
t/10_units/08_loops/05_kernel_loop.t ............... ok
t/10_units/08_loops/06_kernel_loop_poll.t .......... ok
t/10_units/08_loops/07_kernel_loop_fail.t .......... ok
t/10_units/08_loops/08_kernel_loop_search_poll.t ... ok
t/10_units/08_loops/09_naive_loop_load.t ........... ok
t/10_units/08_loops/10_naive_loop_load_poll.t ...... ok
t/10_units/08_loops/11_double_loop.t ............... ok
t/20_resources/10_perl/aliases.t ................... ok
t/20_resources/10_perl/caller_state.t .............. ok
t/20_resources/10_perl/events.t .................... ok
t/20_resources/10_perl/extrefs.t ................... ok
t/20_resources/10_perl/extrefs_gc.t ................ ok
t/20_resources/10_perl/filehandles.t ............... ok
t/20_resources/10_perl/sessions.t .................. ok
t/20_resources/10_perl/sids.t ...................... ok
t/20_resources/10_perl/signals.t ................... ok
# Testing POE 1.370, POE::Test::Loops 1.360, Using Loop(POE::Loop::IO_Poll), Perl 5.020003, /opt/perl-5.20.3/bin/perl on solaris
t/30_loops/io_poll/00_info.t ....................... ok
t/30_loops/io_poll/all_errors.t .................... skipped: most of these should move into other test files
t/30_loops/io_poll/comp_tcp.t ...................... ok
# You might see a 'disconnect' error during this test.
# It may be ignored.
t/30_loops/io_poll/comp_tcp_concurrent.t ........... ok
t/30_loops/io_poll/connect_errors.t ................ ok
t/30_loops/io_poll/k_alarms.t ...................... ok
t/30_loops/io_poll/k_aliases.t ..................... ok
t/30_loops/io_poll/k_detach.t ...................... ok
t/30_loops/io_poll/k_run_returns.t ................. ok
t/30_loops/io_poll/k_selects.t ..................... ok
t/30_loops/io_poll/k_sig_child.t ................... ok
t/30_loops/io_poll/k_signals.t ..................... ok
t/30_loops/io_poll/k_signals_rerun.t ............... ok
t/30_loops/io_poll/sbk_signal_init.t ............... ok
t/30_loops/io_poll/ses_nfa.t ....................... ok
# This test generates some STDERR during trace testing.
=== 12549 === 23 -> _start (from /opt/perl-5.20.3/.cpanplus/5.20.3/build/i5yuxB5vHN/POE-1.370/blib/lib/POE/Kernel.pm at 1498)
=== 12549 === 23 -> woot (from /opt/perl-5.20.3/lib/site_perl/5.20.3/POE/Test/Loops/ses_session.pm at 691)
=== 12549 === 23 -> narf (from /opt/perl-5.20.3/lib/site_perl/5.20.3/POE/Test/Loops/ses_session.pm at 692)
=== 12549 === 23 -> _stop (from /opt/perl-5.20.3/.cpanplus/5.20.3/build/i5yuxB5vHN/POE-1.370/blib/lib/POE/Resource/Sessions.pm at 571)
t/30_loops/io_poll/ses_session.t ................... ok
t/30_loops/io_poll/wheel_accept.t .................. ok
t/30_loops/io_poll/wheel_curses.t .................. skipped: Curses not available
t/30_loops/io_poll/wheel_readline.t ................ skipped: This test requires Term::ReadKey
t/30_loops/io_poll/wheel_readwrite.t ............... ok
t/30_loops/io_poll/wheel_run.t ..................... ok
t/30_loops/io_poll/wheel_run_size.t ................ skipped: This test requires Term::Size
t/30_loops/io_poll/wheel_sf_ipv6.t ................. skipped: Socket::GetAddrInfo is needed for IPv6 tests
t/30_loops/io_poll/wheel_sf_tcp.t .................. ok
t/30_loops/io_poll/wheel_sf_udp.t .................. ok
t/30_loops/io_poll/wheel_sf_unix.t ................. ok
t/30_loops/io_poll/wheel_tail.t .................... ok
t/30_loops/io_poll/z_kogman_sig_order.t ............ ok
t/30_loops/io_poll/z_leolo_wheel_run.t ............. ok
# Using '/bin/true' as our thing to run under system()
t/30_loops/io_poll/z_merijn_sigchld_system.t ....... ok
t/30_loops/io_poll/z_rt39872_sigchld.t ............. ok
# Parent 12588 waiting 3sec for slow systems to settle.
# sending sigusr1
# sent sigusr1
t/30_loops/io_poll/z_rt39872_sigchld_stop.t ........ ok
t/30_loops/io_poll/z_rt53302_fh_watchers.t ......... ok
t/30_loops/io_poll/z_rt54319_bazerka_followtail.t .. ok
t/30_loops/io_poll/z_steinert_signal_integrity.t ... ok
# Testing POE 1.370, POE::Test::Loops 1.360, Using Loop(POE::Loop::Select), Perl 5.020003, /opt/perl-5.20.3/bin/perl on solaris
t/30_loops/select/00_info.t ........................ ok
t/30_loops/select/all_errors.t ..................... skipped: most of these should move into other test files
t/30_loops/select/comp_tcp.t ....................... ok
# You might see a 'disconnect' error during this test.
# It may be ignored.
t/30_loops/select/comp_tcp_concurrent.t ............ ok
t/30_loops/select/connect_errors.t ................. ok
t/30_loops/select/k_alarms.t ....................... ok
t/30_loops/select/k_aliases.t ...................... ok
t/30_loops/select/k_detach.t ....................... ok
t/30_loops/select/k_run_returns.t .................. ok
t/30_loops/select/k_selects.t ...................... ok
t/30_loops/select/k_sig_child.t .................... ok
t/30_loops/select/k_signals.t ...................... ok
t/30_loops/select/k_signals_rerun.t ................ ok
t/30_loops/select/sbk_signal_init.t ................ ok
t/30_loops/select/ses_nfa.t ........................ ok
# This test generates some STDERR during trace testing.
=== 12633 === 23 -> _start (from /opt/perl-5.20.3/.cpanplus/5.20.3/build/i5yuxB5vHN/POE-1.370/blib/lib/POE/Kernel.pm at 1498)
=== 12633 === 23 -> woot (from /opt/perl-5.20.3/lib/site_perl/5.20.3/POE/Test/Loops/ses_session.pm at 691)
=== 12633 === 23 -> narf (from /opt/perl-5.20.3/lib/site_perl/5.20.3/POE/Test/Loops/ses_session.pm at 692)
=== 12633 === 23 -> _stop (from /opt/perl-5.20.3/.cpanplus/5.20.3/build/i5yuxB5vHN/POE-1.370/blib/lib/POE/Resource/Sessions.pm at 571)
t/30_loops/select/ses_session.t .................... ok
t/30_loops/select/wheel_accept.t ................... ok
t/30_loops/select/wheel_curses.t ................... skipped: Curses not available
t/30_loops/select/wheel_readline.t ................. skipped: This test requires Term::ReadKey
t/30_loops/select/wheel_readwrite.t ................ ok
t/30_loops/select/wheel_run.t ...................... ok
t/30_loops/select/wheel_run_size.t ................. skipped: This test requires Term::Size
t/30_loops/select/wheel_sf_ipv6.t .................. skipped: Socket::GetAddrInfo is needed for IPv6 tests
t/30_loops/select/wheel_sf_tcp.t ................... ok
t/30_loops/select/wheel_sf_udp.t ................... ok
t/30_loops/select/wheel_sf_unix.t .................. ok
t/30_loops/select/wheel_tail.t ..................... ok
t/30_loops/select/z_kogman_sig_order.t ............. ok
t/30_loops/select/z_leolo_wheel_run.t .............. ok
# Using '/bin/true' as our thing to run under system()
t/30_loops/select/z_merijn_sigchld_system.t ........ ok
t/30_loops/select/z_rt39872_sigchld.t .............. ok
# Parent 12672 waiting 3sec for slow systems to settle.
# sending sigusr1
# sent sigusr1
t/30_loops/select/z_rt39872_sigchld_stop.t ......... ok
t/30_loops/select/z_rt53302_fh_watchers.t .......... ok
t/30_loops/select/z_rt54319_bazerka_followtail.t ... ok
t/30_loops/select/z_steinert_signal_integrity.t .... ok
t/90_regression/agaran-filter-httpd.t .............. ok
t/90_regression/averell-callback-ret.t ............. ok
t/90_regression/bingos-followtail.t ................ ok
t/90_regression/broeren-win32-nbio.t ............... skipped: This test examines ActiveState Perl behavior.
t/90_regression/cfedde-filter-httpd.t .............. ok
t/90_regression/ferrari-server-unix.t .............. ok
t/90_regression/grinnz-die-in-die.t ................ ok
Died at t/90_regression/hinrik-wheel-run-die.t line 21.
t/90_regression/hinrik-wheel-run-die.t ............. ok
# This test can take up to 10 seconds
t/90_regression/kjeldahl-stop-start-polling.t ...... ok
# This test can take up to 10 seconds
t/90_regression/kjeldahl-stop-start-sig-nopipe.t ... ok
# This test can take up to 10 seconds
t/90_regression/kjeldahl-stop-start-sig-pipe.t ..... ok
t/90_regression/leolo-sig-die.t .................... ok
t/90_regression/meh-startstop-return.t ............. ok
t/90_regression/neyuki_detach.t .................... ok
t/90_regression/pipe-followtail.t .................. ok
t/90_regression/prumike-win32-stat.t ............... skipped: This test examines Strawberry/ActiveState Perl behavior.
t/90_regression/rt14444-arg1.t ..................... ok
t/90_regression/rt1648-tied-stderr.t ............... ok
t/90_regression/rt19908-merlyn-stop.t .............. ok
t/90_regression/rt23181-sigchld-rc.t ............... ok
t/90_regression/rt47966-sigchld.t .................. skipped: enable by setting RELEASE_TESTING
t/90_regression/rt56417-wheel-run.t ................ ok
t/90_regression/rt65460-forking.t .................. ok
t/90_regression/socketfactory-timeout.t ............ ok
t/90_regression/somni-poco-server-tcp.t ............ ok
t/90_regression/steinert-passed-wheel.t ............ ok
t/90_regression/suzman_windows.t ................... ok
t/90_regression/ton-stop-corruption.t .............. ok
t/90_regression/tracing-sane-exit.t ................ ok
t/90_regression/whelan-dieprop.t ................... ok
t/90_regression/whjackson-followtail.t ............. ok
All tests successful.

Test Summary Report
-------------------
t/10_units/05_filters/03_http.t                  (Wstat: 0 Tests: 137 Failed: 0)
  TODO passed:   85
Files=161, Tests=4216, 151 wallclock secs ( 3.45 usr  2.69 sys + 45.60 cusr 18.86 csys = 70.61 CPU)
Result: PASS


PREREQUISITES:

Here is a list of prerequisites you specified and versions we
managed to load:

	  Module Name                        Have     Want
	  Carp                               1.50        0
	  Exporter                           5.74        0
	  File::Spec                         3.75     0.87
	  IO                                 1.50     1.24
	  IO::Handle                         1.48     1.27
	  IO::Pipely                        0.006    0.005
	  IO::Tty                            1.16     1.08
	  POE::Test::Loops                  1.360    1.360
	  POSIX                           1.38_03     1.02
	  Socket                            2.032      1.7
	  Storable                           3.25     2.16
	  Test::Harness                      3.44     2.26
	  Time::HiRes                      1.9764     1.59

Perl module toolchain versions installed:
	Module Name                        Have
	CPANPLUS                         0.9914
	CPANPLUS::Dist::Build              0.90
	Cwd                                3.75
	ExtUtils::CBuilder             0.280236
	ExtUtils::Command                  7.64
	ExtUtils::Install                  2.20
	ExtUtils::MakeMaker                7.64
	ExtUtils::Manifest                 1.73
	ExtUtils::ParseXS                  3.44
	File::Spec                         3.75
	Module::Build                    0.4231
	Pod::Parser                        1.63
	Pod::Simple                        3.43
	Test2                          1.302188
	Test::Harness                      3.44
	Test::More                     1.302188
	version                          0.9929

******************************** NOTE ********************************
The comments above are created mechanically, possibly without manual
checking by the sender.  As there are many people performing automatic
tests on each upload to CPAN, it is likely that you will receive
identical messages about the same problem.

If you believe that the message is mistaken, please reply to the first
one with correction and/or additional informations, and do not take
it personally.  We appreciate your patience. :)
**********************************************************************

Additional comments:


This report was machine-generated by CPANPLUS::Dist::YACSmoke 1.08.

CPANPLUS is prefering Build.PL

------------------------------
ENVIRONMENT AND OTHER CONTEXT
------------------------------

Environment variables:

    AUTOMATED_TESTING = 1
    PATH = /usr/sbin:/usr/bin
    PERL5LIB = :/opt/perl-5.20.3/.cpanplus/5.20.3/build/i5yuxB5vHN/POE-1.370/blib/lib:/opt/perl-5.20.3/.cpanplus/5.20.3/build/i5yuxB5vHN/POE-1.370/blib/arch
    PERL5_CPANIDX_URL = http://cpan.mirror.local/cpanidx/
    PERL5_CPANPLUS_HOME = /opt/perl-5.20.3
    PERL5_CPANPLUS_IS_RUNNING = 6818
    PERL5_CPANPLUS_IS_VERSION = 0.9914
    PERL_EXTUTILS_AUTOINSTALL = --defaultdeps
    PERL_INSTALL_QUIET = 1
    PERL_MM_USE_DEFAULT = 1
    SHELL = /usr/bin/bash
    TERM = sun-color

Perl special variables (and OS-specific diagnostics, for MSWin32):

    Perl: $^X = /opt/perl-5.20.3/bin/perl
    UID:  $<  = 0
    EUID: $>  = 0
    GID:  $(  = 0 0 1 2 3 4 5 6 7 8 9 12
    EGID: $)  = 0 0 1 2 3 4 5 6 7 8 9 12


-------------------------------


--

Summary of my perl5 (revision 5 version 20 subversion 3) configuration:
   
  Platform:
    osname=solaris, osvers=2.11, archname=i86pc-solaris-64
    uname='sunos olink 5.11 omnios-r151036-c874c7527f i86pc i386 i86pc '
    config_args='-des -Duse64bitall -Dcc=gcc -Dprefix=/opt/perl-5.20.3'
    hint=recommended, useposix=true, d_sigaction=define
    useithreads=undef, usemultiplicity=undef
    use64bitint=define, use64bitall=define, uselongdouble=undef
    usemymalloc=n, bincompat5005=undef
  Compiler:
    cc='gcc', ccflags ='-m64 -fwrapv -fno-strict-aliasing -pipe -fstack-protector -D_LARGEFILE_SOURCE -D_FILE_OFFSET_BITS=64 -DPERL_USE_SAFE_PUTENV',
    optimize='-O',
    cppflags='-m64 -fwrapv -fno-strict-aliasing -pipe -fstack-protector'
    ccversion='', gccversion='10.2.0', gccosandvers=''
    intsize=4, longsize=8, ptrsize=8, doublesize=8, byteorder=12345678
    d_longlong=define, longlongsize=8, d_longdbl=define, longdblsize=16
    ivtype='long', ivsize=8, nvtype='double', nvsize=8, Off_t='off_t', lseeksize=8
    alignbytes=8, prototype=define
  Linker and Libraries:
    ld='gcc', ldflags =' -m64 -fstack-protector -L/usr/gnu/lib '
    libpth=/opt/gcc-10/lib /opt/gcc-10/lib/gcc/x86_64-pc-solaris2.11/10.2.0/include-fixed /usr/lib /usr/gnu/lib /usr/ccs/lib
    libs=-lpthread -lsocket -lnsl -ldl -lm -lc
    perllibs=-lpthread -lsocket -lnsl -ldl -lm -lc
    libc=/lib/libc.so, so=so, useshrplib=true, libperl=libperl.so
    gnulibc_version=''
  Dynamic Linking:
    dlsrc=dl_dlopen.xs, dlext=so, d_dlsymun=undef, ccdlflags='  -R /opt/perl-5.20.3/lib/5.20.3/i86pc-solaris-64/CORE'
    cccdlflags='-fPIC', lddlflags=' -shared -m64 -L/usr/gnu/lib -fstack-protector'


Characteristics of this binary (from libperl): 
  Compile-time options: HAS_TIMES PERLIO_LAYERS PERL_DONT_CREATE_GVSV
                        PERL_HASH_FUNC_ONE_AT_A_TIME_HARD PERL_MALLOC_WRAP
                        PERL_NEW_COPY_ON_WRITE PERL_PRESERVE_IVUV
                        PERL_USE_SAFE_PUTENV USE_64_BIT_ALL USE_64_BIT_INT
                        USE_LARGE_FILES USE_LOCALE USE_LOCALE_COLLATE
                        USE_LOCALE_CTYPE USE_LOCALE_NUMERIC USE_PERLIO
                        USE_PERL_ATOF
  Locally applied patches:
	Devel::PatchPerl 2.08
  Built under solaris
  Compiled at Jan 19 2021 13:37:11
  %ENV:
    PERL5LIB=":/opt/perl-5.20.3/.cpanplus/5.20.3/build/i5yuxB5vHN/POE-1.370/blib/lib:/opt/perl-5.20.3/.cpanplus/5.20.3/build/i5yuxB5vHN/POE-1.370/blib/arch"
    PERL5_CPANIDX_URL="http://cpan.mirror.local/cpanidx/"
    PERL5_CPANPLUS_HOME="/opt/perl-5.20.3"
    PERL5_CPANPLUS_IS_RUNNING="6818"
    PERL5_CPANPLUS_IS_VERSION="0.9914"
    PERL_EXTUTILS_AUTOINSTALL="--defaultdeps"
    PERL_INSTALL_QUIET="1"
    PERL_MM_USE_DEFAULT="1"
  @INC:
    /opt/perl-5.20.3/.cpanplus/5.20.3/build/i5yuxB5vHN/POE-1.370/blib/lib
    /opt/perl-5.20.3/.cpanplus/5.20.3/build/i5yuxB5vHN/POE-1.370/blib/arch
    /opt/perl-5.20.3/lib/site_perl/5.20.3/i86pc-solaris-64
    /opt/perl-5.20.3/lib/site_perl/5.20.3
    /opt/perl-5.20.3/lib/5.20.3/i86pc-solaris-64
    /opt/perl-5.20.3/lib/5.20.3
    .