Lingua-DE-ASCII v0.14 Perl 5 v5.24.1 amd64-freebsd
- Status
- Pass
- From
- Slaven Rezić (SREZIC)
- Dist
-
Lingua-DE-ASCII v0.14
- Platform
- Perl 5 v5.24.1 amd64-freebsd
- Date
- 2020-05-02 09:28:29
- ID
- 486f0140-8c57-11ea-a510-76591f24ea8f
This distribution has been tested as part of the CPAN Testers
project, supporting the Perl programming language. See
http://wiki.cpantesters.org/ for more information or email
questions to cpan-testers-discuss@perl.org
--
Dear Janek Schleicher,
This is a computer-generated report for Lingua-DE-ASCII-0.14
on perl 5.24.1, created by CPAN-Reporter-1.2018.
Thank you for uploading your work to CPAN. Congratulations!
All tests were successful.
Sections of this report:
* Tester comments
* Program output
* Prerequisites
* Environment and other context
------------------------------
TESTER COMMENTS
------------------------------
Additional comments from tester:
none provided
------------------------------
PROGRAM OUTPUT
------------------------------
Output from '/usr/bin/make test':
PERL_DL_NONLAZY=1 "/usr/perl5.24.1p/bin/perl5.24.1" "-MExtUtils::Command::MM" "-MTest::Harness" "-e" "undef *Test::Harness::Switches; test_harness(0, 'blib/lib', 'blib/arch')" t/*.t
t/1.t ............................ ok
t/only_ascii.t ................... ok
t/special_characters.t ........... ok
t/to_ascii.t ..................... ok
[Sat May 2 11:22:20 2020] Words tested from the big dictionary: 0%
[Sat May 2 11:22:20 2020] Words tested from the big dictionary: 0%
[Sat May 2 11:22:20 2020] Words tested from the big dictionary: 0%
[Sat May 2 11:22:20 2020] Words tested from the big dictionary: 0%
[Sat May 2 11:22:20 2020] Words tested from the big dictionary: 0%
[Sat May 2 11:22:20 2020] Words tested from the big dictionary: 0%
[Sat May 2 11:22:20 2020] Words tested from the big dictionary: 0%
[Sat May 2 11:22:20 2020] Words tested from the big dictionary: 0%
[Sat May 2 11:22:20 2020] Words tested from the big dictionary: 0%
[Sat May 2 11:22:20 2020] Words tested from the big dictionary: 0%
[Sat May 2 11:22:20 2020] Words tested from the big dictionary: 0%
[Sat May 2 11:22:20 2020] Words tested from the big dictionary: 0%
[Sat May 2 11:22:20 2020] Words tested from the big dictionary: 1%
[Sat May 2 11:22:20 2020] Words tested from the big dictionary: 1%
[Sat May 2 11:22:20 2020] Words tested from the big dictionary: 1%
[Sat May 2 11:22:20 2020] Words tested from the big dictionary: 1%
[Sat May 2 11:22:20 2020] Words tested from the big dictionary: 1%
[Sat May 2 11:22:20 2020] Words tested from the big dictionary: 1%
[Sat May 2 11:22:20 2020] Words tested from the big dictionary: 1%
[Sat May 2 11:22:20 2020] Words tested from the big dictionary: 1%
[Sat May 2 11:22:20 2020] Words tested from the big dictionary: 1%
[Sat May 2 11:22:20 2020] Words tested from the big dictionary: 1%
[Sat May 2 11:22:20 2020] Words tested from the big dictionary: 1%
[Sat May 2 11:22:20 2020] Words tested from the big dictionary: 2%
[Sat May 2 11:22:20 2020] Words tested from the big dictionary: 2%
[Sat May 2 11:22:20 2020] Words tested from the big dictionary: 2%
[Sat May 2 11:22:20 2020] Words tested from the big dictionary: 2%
[Sat May 2 11:22:20 2020] Words tested from the big dictionary: 2%
[Sat May 2 11:22:20 2020] Words tested from the big dictionary: 2%
[Sat May 2 11:22:20 2020] Words tested from the big dictionary: 2%
[Sat May 2 11:22:20 2020] Words tested from the big dictionary: 2%
[Sat May 2 11:22:20 2020] Words tested from the big dictionary: 2%
[Sat May 2 11:22:20 2020] Words tested from the big dictionary: 2%
[Sat May 2 11:22:21 2020] Words tested from the big dictionary: 2%
[Sat May 2 11:22:21 2020] Words tested from the big dictionary: 3%
[Sat May 2 11:22:21 2020] Words tested from the big dictionary: 3%
[Sat May 2 11:22:21 2020] Words tested from the big dictionary: 3%
[Sat May 2 11:22:21 2020] Words tested from the big dictionary: 3%
[Sat May 2 11:22:21 2020] Words tested from the big dictionary: 3%
[Sat May 2 11:22:21 2020] Words tested from the big dictionary: 3%
[Sat May 2 11:22:21 2020] Words tested from the big dictionary: 3%
[Sat May 2 11:22:21 2020] Words tested from the big dictionary: 3%
[Sat May 2 11:22:21 2020] Words tested from the big dictionary: 3%
[Sat May 2 11:22:21 2020] Words tested from the big dictionary: 3%
[Sat May 2 11:22:21 2020] Words tested from the big dictionary: 3%
[Sat May 2 11:22:21 2020] Words tested from the big dictionary: 4%
[Sat May 2 11:22:21 2020] Words tested from the big dictionary: 4%
[Sat May 2 11:22:21 2020] Words tested from the big dictionary: 4%
[Sat May 2 11:22:21 2020] Words tested from the big dictionary: 4%
[Sat May 2 11:22:21 2020] Words tested from the big dictionary: 4%
[Sat May 2 11:22:21 2020] Words tested from the big dictionary: 4%
[Sat May 2 11:22:21 2020] Words tested from the big dictionary: 4%
[Sat May 2 11:22:21 2020] Words tested from the big dictionary: 4%
[Sat May 2 11:22:21 2020] Words tested from the big dictionary: 4%
[Sat May 2 11:22:21 2020] Words tested from the big dictionary: 4%
[Sat May 2 11:22:21 2020] Words tested from the big dictionary: 4%
[Sat May 2 11:22:21 2020] Words tested from the big dictionary: 5%
[Sat May 2 11:22:21 2020] Words tested from the big dictionary: 5%
[Sat May 2 11:22:21 2020] Words tested from the big dictionary: 5%
[Sat May 2 11:22:21 2020] Words tested from the big dictionary: 5%
[Sat May 2 11:22:21 2020] Words tested from the big dictionary: 5%
[Sat May 2 11:22:21 2020] Words tested from the big dictionary: 5%
[Sat May 2 11:22:21 2020] Words tested from the big dictionary: 5%
[Sat May 2 11:22:21 2020] Words tested from the big dictionary: 5%
[Sat May 2 11:22:21 2020] Words tested from the big dictionary: 5%
[Sat May 2 11:22:21 2020] Words tested from the big dictionary: 5%
[Sat May 2 11:22:21 2020] Words tested from the big dictionary: 5%
[Sat May 2 11:22:22 2020] Words tested from the big dictionary: 6%
[Sat May 2 11:22:22 2020] Words tested from the big dictionary: 6%
[Sat May 2 11:22:22 2020] Words tested from the big dictionary: 6%
[Sat May 2 11:22:22 2020] Words tested from the big dictionary: 6%
[Sat May 2 11:22:22 2020] Words tested from the big dictionary: 6%
[Sat May 2 11:22:22 2020] Words tested from the big dictionary: 6%
[Sat May 2 11:22:22 2020] Words tested from the big dictionary: 6%
[Sat May 2 11:22:22 2020] Words tested from the big dictionary: 6%
[Sat May 2 11:22:22 2020] Words tested from the big dictionary: 6%
[Sat May 2 11:22:22 2020] Words tested from the big dictionary: 6%
[Sat May 2 11:22:22 2020] Words tested from the big dictionary: 6%
[Sat May 2 11:22:22 2020] Words tested from the big dictionary: 7%
[Sat May 2 11:22:22 2020] Words tested from the big dictionary: 7%
[Sat May 2 11:22:22 2020] Words tested from the big dictionary: 7%
[Sat May 2 11:22:22 2020] Words tested from the big dictionary: 7%
[Sat May 2 11:22:22 2020] Words tested from the big dictionary: 7%
[Sat May 2 11:22:22 2020] Words tested from the big dictionary: 7%
[Sat May 2 11:22:22 2020] Words tested from the big dictionary: 7%
[Sat May 2 11:22:22 2020] Words tested from the big dictionary: 7%
[Sat May 2 11:22:22 2020] Words tested from the big dictionary: 7%
[Sat May 2 11:22:22 2020] Words tested from the big dictionary: 7%
[Sat May 2 11:22:22 2020] Words tested from the big dictionary: 7%
[Sat May 2 11:22:22 2020] Words tested from the big dictionary: 8%
[Sat May 2 11:22:22 2020] Words tested from the big dictionary: 8%
[Sat May 2 11:22:22 2020] Words tested from the big dictionary: 8%
[Sat May 2 11:22:22 2020] Words tested from the big dictionary: 8%
[Sat May 2 11:22:22 2020] Words tested from the big dictionary: 8%
[Sat May 2 11:22:22 2020] Words tested from the big dictionary: 8%
[Sat May 2 11:22:22 2020] Words tested from the big dictionary: 8%
[Sat May 2 11:22:22 2020] Words tested from the big dictionary: 8%
[Sat May 2 11:22:22 2020] Words tested from the big dictionary: 8%
[Sat May 2 11:22:22 2020] Words tested from the big dictionary: 8%
[Sat May 2 11:22:22 2020] Words tested from the big dictionary: 8%
[Sat May 2 11:22:22 2020] Words tested from the big dictionary: 9%
[Sat May 2 11:22:23 2020] Words tested from the big dictionary: 9%
[Sat May 2 11:22:23 2020] Words tested from the big dictionary: 9%
[Sat May 2 11:22:23 2020] Words tested from the big dictionary: 9%
[Sat May 2 11:22:23 2020] Words tested from the big dictionary: 9%
[Sat May 2 11:22:23 2020] Words tested from the big dictionary: 9%
[Sat May 2 11:22:23 2020] Words tested from the big dictionary: 9%
[Sat May 2 11:22:23 2020] Words tested from the big dictionary: 9%
[Sat May 2 11:22:23 2020] Words tested from the big dictionary: 9%
[Sat May 2 11:22:23 2020] Words tested from the big dictionary: 9%
[Sat May 2 11:22:23 2020] Words tested from the big dictionary: 10%
[Sat May 2 11:22:23 2020] Words tested from the big dictionary: 10%
[Sat May 2 11:22:23 2020] Words tested from the big dictionary: 10%
[Sat May 2 11:22:23 2020] Words tested from the big dictionary: 10%
[Sat May 2 11:22:23 2020] Words tested from the big dictionary: 10%
[Sat May 2 11:22:23 2020] Words tested from the big dictionary: 10%
[Sat May 2 11:22:23 2020] Words tested from the big dictionary: 10%
[Sat May 2 11:22:23 2020] Words tested from the big dictionary: 10%
[Sat May 2 11:22:23 2020] Words tested from the big dictionary: 10%
[Sat May 2 11:22:23 2020] Words tested from the big dictionary: 10%
[Sat May 2 11:22:23 2020] Words tested from the big dictionary: 10%
[Sat May 2 11:22:23 2020] Words tested from the big dictionary: 11%
[Sat May 2 11:22:23 2020] Words tested from the big dictionary: 11%
[Sat May 2 11:22:23 2020] Words tested from the big dictionary: 11%
[Sat May 2 11:22:23 2020] Words tested from the big dictionary: 11%
[Sat May 2 11:22:23 2020] Words tested from the big dictionary: 11%
[Sat May 2 11:22:23 2020] Words tested from the big dictionary: 11%
[Sat May 2 11:22:23 2020] Words tested from the big dictionary: 11%
[Sat May 2 11:22:23 2020] Words tested from the big dictionary: 11%
[Sat May 2 11:22:23 2020] Words tested from the big dictionary: 11%
[Sat May 2 11:22:23 2020] Words tested from the big dictionary: 11%
[Sat May 2 11:22:23 2020] Words tested from the big dictionary: 11%
[Sat May 2 11:22:23 2020] Words tested from the big dictionary: 12%
[Sat May 2 11:22:24 2020] Words tested from the big dictionary: 12%
[Sat May 2 11:22:24 2020] Words tested from the big dictionary: 12%
[Sat May 2 11:22:24 2020] Words tested from the big dictionary: 12%
[Sat May 2 11:22:24 2020] Words tested from the big dictionary: 12%
[Sat May 2 11:22:24 2020] Words tested from the big dictionary: 12%
[Sat May 2 11:22:24 2020] Words tested from the big dictionary: 12%
[Sat May 2 11:22:24 2020] Words tested from the big dictionary: 12%
[Sat May 2 11:22:24 2020] Words tested from the big dictionary: 12%
[Sat May 2 11:22:24 2020] Words tested from the big dictionary: 12%
[Sat May 2 11:22:24 2020] Words tested from the big dictionary: 12%
[Sat May 2 11:22:24 2020] Words tested from the big dictionary: 13%
[Sat May 2 11:22:24 2020] Words tested from the big dictionary: 13%
[Sat May 2 11:22:24 2020] Words tested from the big dictionary: 13%
[Sat May 2 11:22:24 2020] Words tested from the big dictionary: 13%
[Sat May 2 11:22:24 2020] Words tested from the big dictionary: 13%
[Sat May 2 11:22:24 2020] Words tested from the big dictionary: 13%
[Sat May 2 11:22:24 2020] Words tested from the big dictionary: 13%
[Sat May 2 11:22:24 2020] Words tested from the big dictionary: 13%
[Sat May 2 11:22:24 2020] Words tested from the big dictionary: 13%
[Sat May 2 11:22:24 2020] Words tested from the big dictionary: 13%
[Sat May 2 11:22:24 2020] Words tested from the big dictionary: 13%
[Sat May 2 11:22:24 2020] Words tested from the big dictionary: 14%
[Sat May 2 11:22:24 2020] Words tested from the big dictionary: 14%
[Sat May 2 11:22:24 2020] Words tested from the big dictionary: 14%
[Sat May 2 11:22:24 2020] Words tested from the big dictionary: 14%
[Sat May 2 11:22:24 2020] Words tested from the big dictionary: 14%
[Sat May 2 11:22:24 2020] Words tested from the big dictionary: 14%
[Sat May 2 11:22:24 2020] Words tested from the big dictionary: 14%
[Sat May 2 11:22:24 2020] Words tested from the big dictionary: 14%
[Sat May 2 11:22:24 2020] Words tested from the big dictionary: 14%
[Sat May 2 11:22:24 2020] Words tested from the big dictionary: 14%
[Sat May 2 11:22:24 2020] Words tested from the big dictionary: 14%
[Sat May 2 11:22:24 2020] Words tested from the big dictionary: 15%
[Sat May 2 11:22:24 2020] Words tested from the big dictionary: 15%
[Sat May 2 11:22:25 2020] Words tested from the big dictionary: 15%
[Sat May 2 11:22:25 2020] Words tested from the big dictionary: 15%
[Sat May 2 11:22:25 2020] Words tested from the big dictionary: 15%
[Sat May 2 11:22:25 2020] Words tested from the big dictionary: 15%
[Sat May 2 11:22:25 2020] Words tested from the big dictionary: 15%
[Sat May 2 11:22:25 2020] Words tested from the big dictionary: 15%
[Sat May 2 11:22:25 2020] Words tested from the big dictionary: 15%
[Sat May 2 11:22:25 2020] Words tested from the big dictionary: 15%
[Sat May 2 11:22:25 2020] Words tested from the big dictionary: 15%
[Sat May 2 11:22:25 2020] Words tested from the big dictionary: 16%
[Sat May 2 11:22:25 2020] Words tested from the big dictionary: 16%
[Sat May 2 11:22:25 2020] Words tested from the big dictionary: 16%
[Sat May 2 11:22:25 2020] Words tested from the big dictionary: 16%
[Sat May 2 11:22:25 2020] Words tested from the big dictionary: 16%
[Sat May 2 11:22:25 2020] Words tested from the big dictionary: 16%
[Sat May 2 11:22:25 2020] Words tested from the big dictionary: 16%
[Sat May 2 11:22:25 2020] Words tested from the big dictionary: 16%
[Sat May 2 11:22:25 2020] Words tested from the big dictionary: 16%
[Sat May 2 11:22:25 2020] Words tested from the big dictionary: 16%
[Sat May 2 11:22:25 2020] Words tested from the big dictionary: 16%
[Sat May 2 11:22:25 2020] Words tested from the big dictionary: 17%
[Sat May 2 11:22:25 2020] Words tested from the big dictionary: 17%
[Sat May 2 11:22:25 2020] Words tested from the big dictionary: 17%
[Sat May 2 11:22:25 2020] Words tested from the big dictionary: 17%
[Sat May 2 11:22:25 2020] Words tested from the big dictionary: 17%
[Sat May 2 11:22:25 2020] Words tested from the big dictionary: 17%
[Sat May 2 11:22:25 2020] Words tested from the big dictionary: 17%
[Sat May 2 11:22:25 2020] Words tested from the big dictionary: 17%
[Sat May 2 11:22:25 2020] Words tested from the big dictionary: 17%
[Sat May 2 11:22:25 2020] Words tested from the big dictionary: 17%
[Sat May 2 11:22:25 2020] Words tested from the big dictionary: 17%
[Sat May 2 11:22:25 2020] Words tested from the big dictionary: 18%
[Sat May 2 11:22:25 2020] Words tested from the big dictionary: 18%
[Sat May 2 11:22:25 2020] Words tested from the big dictionary: 18%
[Sat May 2 11:22:25 2020] Words tested from the big dictionary: 18%
[Sat May 2 11:22:26 2020] Words tested from the big dictionary: 18%
[Sat May 2 11:22:26 2020] Words tested from the big dictionary: 18%
[Sat May 2 11:22:26 2020] Words tested from the big dictionary: 18%
[Sat May 2 11:22:26 2020] Words tested from the big dictionary: 18%
[Sat May 2 11:22:26 2020] Words tested from the big dictionary: 18%
[Sat May 2 11:22:26 2020] Words tested from the big dictionary: 18%
[Sat May 2 11:22:26 2020] Words tested from the big dictionary: 18%
[Sat May 2 11:22:26 2020] Words tested from the big dictionary: 19%
[Sat May 2 11:22:26 2020] Words tested from the big dictionary: 19%
[Sat May 2 11:22:26 2020] Words tested from the big dictionary: 19%
[Sat May 2 11:22:26 2020] Words tested from the big dictionary: 19%
[Sat May 2 11:22:26 2020] Words tested from the big dictionary: 19%
[Sat May 2 11:22:26 2020] Words tested from the big dictionary: 19%
[Sat May 2 11:22:26 2020] Words tested from the big dictionary: 19%
[Sat May 2 11:22:26 2020] Words tested from the big dictionary: 19%
[Sat May 2 11:22:26 2020] Words tested from the big dictionary: 19%
[Sat May 2 11:22:26 2020] Words tested from the big dictionary: 19%
[Sat May 2 11:22:26 2020] Words tested from the big dictionary: 20%
[Sat May 2 11:22:26 2020] Words tested from the big dictionary: 20%
[Sat May 2 11:22:26 2020] Words tested from the big dictionary: 20%
[Sat May 2 11:22:26 2020] Words tested from the big dictionary: 20%
[Sat May 2 11:22:26 2020] Words tested from the big dictionary: 20%
[Sat May 2 11:22:26 2020] Words tested from the big dictionary: 20%
[Sat May 2 11:22:26 2020] Words tested from the big dictionary: 20%
[Sat May 2 11:22:26 2020] Words tested from the big dictionary: 20%
[Sat May 2 11:22:26 2020] Words tested from the big dictionary: 20%
[Sat May 2 11:22:26 2020] Words tested from the big dictionary: 20%
[Sat May 2 11:22:26 2020] Words tested from the big dictionary: 20%
[Sat May 2 11:22:26 2020] Words tested from the big dictionary: 21%
[Sat May 2 11:22:26 2020] Words tested from the big dictionary: 21%
[Sat May 2 11:22:26 2020] Words tested from the big dictionary: 21%
[Sat May 2 11:22:26 2020] Words tested from the big dictionary: 21%
[Sat May 2 11:22:26 2020] Words tested from the big dictionary: 21%
[Sat May 2 11:22:26 2020] Words tested from the big dictionary: 21%
[Sat May 2 11:22:26 2020] Words tested from the big dictionary: 21%
[Sat May 2 11:22:27 2020] Words tested from the big dictionary: 21%
[Sat May 2 11:22:27 2020] Words tested from the big dictionary: 21%
[Sat May 2 11:22:27 2020] Words tested from the big dictionary: 21%
[Sat May 2 11:22:27 2020] Words tested from the big dictionary: 21%
[Sat May 2 11:22:27 2020] Words tested from the big dictionary: 22%
[Sat May 2 11:22:27 2020] Words tested from the big dictionary: 22%
[Sat May 2 11:22:27 2020] Words tested from the big dictionary: 22%
[Sat May 2 11:22:27 2020] Words tested from the big dictionary: 22%
[Sat May 2 11:22:27 2020] Words tested from the big dictionary: 22%
[Sat May 2 11:22:27 2020] Words tested from the big dictionary: 22%
[Sat May 2 11:22:27 2020] Words tested from the big dictionary: 22%
[Sat May 2 11:22:27 2020] Words tested from the big dictionary: 22%
[Sat May 2 11:22:27 2020] Words tested from the big dictionary: 22%
[Sat May 2 11:22:27 2020] Words tested from the big dictionary: 22%
[Sat May 2 11:22:27 2020] Words tested from the big dictionary: 22%
[Sat May 2 11:22:27 2020] Words tested from the big dictionary: 23%
[Sat May 2 11:22:27 2020] Words tested from the big dictionary: 23%
[Sat May 2 11:22:27 2020] Words tested from the big dictionary: 23%
[Sat May 2 11:22:27 2020] Words tested from the big dictionary: 23%
[Sat May 2 11:22:27 2020] Words tested from the big dictionary: 23%
[Sat May 2 11:22:27 2020] Words tested from the big dictionary: 23%
[Sat May 2 11:22:27 2020] Words tested from the big dictionary: 23%
[Sat May 2 11:22:27 2020] Words tested from the big dictionary: 23%
[Sat May 2 11:22:27 2020] Words tested from the big dictionary: 23%
[Sat May 2 11:22:27 2020] Words tested from the big dictionary: 23%
[Sat May 2 11:22:27 2020] Words tested from the big dictionary: 23%
[Sat May 2 11:22:27 2020] Words tested from the big dictionary: 24%
[Sat May 2 11:22:27 2020] Words tested from the big dictionary: 24%
[Sat May 2 11:22:27 2020] Words tested from the big dictionary: 24%
[Sat May 2 11:22:27 2020] Words tested from the big dictionary: 24%
[Sat May 2 11:22:27 2020] Words tested from the big dictionary: 24%
[Sat May 2 11:22:27 2020] Words tested from the big dictionary: 24%
[Sat May 2 11:22:27 2020] Words tested from the big dictionary: 24%
[Sat May 2 11:22:27 2020] Words tested from the big dictionary: 24%
[Sat May 2 11:22:27 2020] Words tested from the big dictionary: 24%
[Sat May 2 11:22:27 2020] Words tested from the big dictionary: 24%
[Sat May 2 11:22:28 2020] Words tested from the big dictionary: 24%
[Sat May 2 11:22:28 2020] Words tested from the big dictionary: 25%
[Sat May 2 11:22:28 2020] Words tested from the big dictionary: 25%
[Sat May 2 11:22:28 2020] Words tested from the big dictionary: 25%
[Sat May 2 11:22:28 2020] Words tested from the big dictionary: 25%
[Sat May 2 11:22:28 2020] Words tested from the big dictionary: 25%
[Sat May 2 11:22:28 2020] Words tested from the big dictionary: 25%
[Sat May 2 11:22:28 2020] Words tested from the big dictionary: 25%
[Sat May 2 11:22:28 2020] Words tested from the big dictionary: 25%
[Sat May 2 11:22:28 2020] Words tested from the big dictionary: 25%
[Sat May 2 11:22:28 2020] Words tested from the big dictionary: 25%
[Sat May 2 11:22:28 2020] Words tested from the big dictionary: 25%
[Sat May 2 11:22:28 2020] Words tested from the big dictionary: 26%
[Sat May 2 11:22:28 2020] Words tested from the big dictionary: 26%
[Sat May 2 11:22:28 2020] Words tested from the big dictionary: 26%
[Sat May 2 11:22:28 2020] Words tested from the big dictionary: 26%
[Sat May 2 11:22:28 2020] Words tested from the big dictionary: 26%
[Sat May 2 11:22:28 2020] Words tested from the big dictionary: 26%
[Sat May 2 11:22:28 2020] Words tested from the big dictionary: 26%
[Sat May 2 11:22:28 2020] Words tested from the big dictionary: 26%
[Sat May 2 11:22:28 2020] Words tested from the big dictionary: 26%
[Sat May 2 11:22:28 2020] Words tested from the big dictionary: 26%
[Sat May 2 11:22:28 2020] Words tested from the big dictionary: 26%
[Sat May 2 11:22:28 2020] Words tested from the big dictionary: 27%
[Sat May 2 11:22:28 2020] Words tested from the big dictionary: 27%
[Sat May 2 11:22:28 2020] Words tested from the big dictionary: 27%
[Sat May 2 11:22:28 2020] Words tested from the big dictionary: 27%
[Sat May 2 11:22:28 2020] Words tested from the big dictionary: 27%
[Sat May 2 11:22:28 2020] Words tested from the big dictionary: 27%
[Sat May 2 11:22:28 2020] Words tested from the big dictionary: 27%
[Sat May 2 11:22:28 2020] Words tested from the big dictionary: 27%
[Sat May 2 11:22:28 2020] Words tested from the big dictionary: 27%
[Sat May 2 11:22:28 2020] Words tested from the big dictionary: 27%
[Sat May 2 11:22:28 2020] Words tested from the big dictionary: 27%
[Sat May 2 11:22:28 2020] Words tested from the big dictionary: 28%
[Sat May 2 11:22:28 2020] Words tested from the big dictionary: 28%
[Sat May 2 11:22:29 2020] Words tested from the big dictionary: 28%
[Sat May 2 11:22:29 2020] Words tested from the big dictionary: 28%
[Sat May 2 11:22:29 2020] Words tested from the big dictionary: 28%
[Sat May 2 11:22:29 2020] Words tested from the big dictionary: 28%
[Sat May 2 11:22:29 2020] Words tested from the big dictionary: 28%
[Sat May 2 11:22:29 2020] Words tested from the big dictionary: 28%
[Sat May 2 11:22:29 2020] Words tested from the big dictionary: 28%
[Sat May 2 11:22:29 2020] Words tested from the big dictionary: 28%
[Sat May 2 11:22:29 2020] Words tested from the big dictionary: 28%
[Sat May 2 11:22:29 2020] Words tested from the big dictionary: 29%
[Sat May 2 11:22:29 2020] Words tested from the big dictionary: 29%
[Sat May 2 11:22:29 2020] Words tested from the big dictionary: 29%
[Sat May 2 11:22:29 2020] Words tested from the big dictionary: 29%
[Sat May 2 11:22:29 2020] Words tested from the big dictionary: 29%
[Sat May 2 11:22:29 2020] Words tested from the big dictionary: 29%
[Sat May 2 11:22:29 2020] Words tested from the big dictionary: 29%
[Sat May 2 11:22:29 2020] Words tested from the big dictionary: 29%
[Sat May 2 11:22:29 2020] Words tested from the big dictionary: 29%
[Sat May 2 11:22:29 2020] Words tested from the big dictionary: 29%
[Sat May 2 11:22:29 2020] Words tested from the big dictionary: 30%
[Sat May 2 11:22:29 2020] Words tested from the big dictionary: 30%
[Sat May 2 11:22:29 2020] Words tested from the big dictionary: 30%
[Sat May 2 11:22:29 2020] Words tested from the big dictionary: 30%
[Sat May 2 11:22:29 2020] Words tested from the big dictionary: 30%
[Sat May 2 11:22:29 2020] Words tested from the big dictionary: 30%
[Sat May 2 11:22:29 2020] Words tested from the big dictionary: 30%
[Sat May 2 11:22:29 2020] Words tested from the big dictionary: 30%
[Sat May 2 11:22:29 2020] Words tested from the big dictionary: 30%
[Sat May 2 11:22:29 2020] Words tested from the big dictionary: 30%
[Sat May 2 11:22:29 2020] Words tested from the big dictionary: 30%
[Sat May 2 11:22:29 2020] Words tested from the big dictionary: 31%
[Sat May 2 11:22:29 2020] Words tested from the big dictionary: 31%
[Sat May 2 11:22:29 2020] Words tested from the big dictionary: 31%
[Sat May 2 11:22:29 2020] Words tested from the big dictionary: 31%
[Sat May 2 11:22:30 2020] Words tested from the big dictionary: 31%
[Sat May 2 11:22:30 2020] Words tested from the big dictionary: 31%
[Sat May 2 11:22:30 2020] Words tested from the big dictionary: 31%
[Sat May 2 11:22:30 2020] Words tested from the big dictionary: 31%
[Sat May 2 11:22:30 2020] Words tested from the big dictionary: 31%
[Sat May 2 11:22:30 2020] Words tested from the big dictionary: 31%
[Sat May 2 11:22:30 2020] Words tested from the big dictionary: 31%
[Sat May 2 11:22:30 2020] Words tested from the big dictionary: 32%
[Sat May 2 11:22:30 2020] Words tested from the big dictionary: 32%
[Sat May 2 11:22:30 2020] Words tested from the big dictionary: 32%
[Sat May 2 11:22:30 2020] Words tested from the big dictionary: 32%
[Sat May 2 11:22:30 2020] Words tested from the big dictionary: 32%
[Sat May 2 11:22:30 2020] Words tested from the big dictionary: 32%
[Sat May 2 11:22:30 2020] Words tested from the big dictionary: 32%
[Sat May 2 11:22:30 2020] Words tested from the big dictionary: 32%
[Sat May 2 11:22:30 2020] Words tested from the big dictionary: 32%
[Sat May 2 11:22:30 2020] Words tested from the big dictionary: 32%
[Sat May 2 11:22:30 2020] Words tested from the big dictionary: 32%
[Sat May 2 11:22:30 2020] Words tested from the big dictionary: 33%
[Sat May 2 11:22:30 2020] Words tested from the big dictionary: 33%
[Sat May 2 11:22:30 2020] Words tested from the big dictionary: 33%
[Sat May 2 11:22:30 2020] Words tested from the big dictionary: 33%
[Sat May 2 11:22:30 2020] Words tested from the big dictionary: 33%
[Sat May 2 11:22:30 2020] Words tested from the big dictionary: 33%
[Sat May 2 11:22:30 2020] Words tested from the big dictionary: 33%
[Sat May 2 11:22:30 2020] Words tested from the big dictionary: 33%
[Sat May 2 11:22:30 2020] Words tested from the big dictionary: 33%
[Sat May 2 11:22:30 2020] Words tested from the big dictionary: 33%
[Sat May 2 11:22:30 2020] Words tested from the big dictionary: 33%
[Sat May 2 11:22:30 2020] Words tested from the big dictionary: 34%
[Sat May 2 11:22:30 2020] Words tested from the big dictionary: 34%
[Sat May 2 11:22:30 2020] Words tested from the big dictionary: 34%
[Sat May 2 11:22:30 2020] Words tested from the big dictionary: 34%
[Sat May 2 11:22:30 2020] Words tested from the big dictionary: 34%
[Sat May 2 11:22:31 2020] Words tested from the big dictionary: 34%
[Sat May 2 11:22:31 2020] Words tested from the big dictionary: 34%
[Sat May 2 11:22:31 2020] Words tested from the big dictionary: 34%
[Sat May 2 11:22:31 2020] Words tested from the big dictionary: 34%
[Sat May 2 11:22:31 2020] Words tested from the big dictionary: 34%
[Sat May 2 11:22:31 2020] Words tested from the big dictionary: 34%
[Sat May 2 11:22:31 2020] Words tested from the big dictionary: 35%
[Sat May 2 11:22:31 2020] Words tested from the big dictionary: 35%
[Sat May 2 11:22:31 2020] Words tested from the big dictionary: 35%
[Sat May 2 11:22:31 2020] Words tested from the big dictionary: 35%
[Sat May 2 11:22:31 2020] Words tested from the big dictionary: 35%
[Sat May 2 11:22:31 2020] Words tested from the big dictionary: 35%
[Sat May 2 11:22:31 2020] Words tested from the big dictionary: 35%
[Sat May 2 11:22:31 2020] Words tested from the big dictionary: 35%
[Sat May 2 11:22:31 2020] Words tested from the big dictionary: 35%
[Sat May 2 11:22:31 2020] Words tested from the big dictionary: 35%
[Sat May 2 11:22:31 2020] Words tested from the big dictionary: 35%
[Sat May 2 11:22:31 2020] Words tested from the big dictionary: 36%
[Sat May 2 11:22:31 2020] Words tested from the big dictionary: 36%
[Sat May 2 11:22:31 2020] Words tested from the big dictionary: 36%
[Sat May 2 11:22:31 2020] Words tested from the big dictionary: 36%
[Sat May 2 11:22:31 2020] Words tested from the big dictionary: 36%
[Sat May 2 11:22:31 2020] Words tested from the big dictionary: 36%
[Sat May 2 11:22:31 2020] Words tested from the big dictionary: 36%
[Sat May 2 11:22:31 2020] Words tested from the big dictionary: 36%
[Sat May 2 11:22:31 2020] Words tested from the big dictionary: 36%
[Sat May 2 11:22:31 2020] Words tested from the big dictionary: 36%
[Sat May 2 11:22:31 2020] Words tested from the big dictionary: 36%
[Sat May 2 11:22:31 2020] Words tested from the big dictionary: 37%
[Sat May 2 11:22:31 2020] Words tested from the big dictionary: 37%
[Sat May 2 11:22:31 2020] Words tested from the big dictionary: 37%
[Sat May 2 11:22:31 2020] Words tested from the big dictionary: 37%
[Sat May 2 11:22:31 2020] Words tested from the big dictionary: 37%
[Sat May 2 11:22:31 2020] Words tested from the big dictionary: 37%
[Sat May 2 11:22:32 2020] Words tested from the big dictionary: 37%
[Sat May 2 11:22:32 2020] Words tested from the big dictionary: 37%
[Sat May 2 11:22:32 2020] Words tested from the big dictionary: 37%
[Sat May 2 11:22:32 2020] Words tested from the big dictionary: 37%
[Sat May 2 11:22:32 2020] Words tested from the big dictionary: 37%
[Sat May 2 11:22:32 2020] Words tested from the big dictionary: 38%
[Sat May 2 11:22:32 2020] Words tested from the big dictionary: 38%
[Sat May 2 11:22:32 2020] Words tested from the big dictionary: 38%
[Sat May 2 11:22:32 2020] Words tested from the big dictionary: 38%
[Sat May 2 11:22:32 2020] Words tested from the big dictionary: 38%
[Sat May 2 11:22:32 2020] Words tested from the big dictionary: 38%
[Sat May 2 11:22:32 2020] Words tested from the big dictionary: 38%
[Sat May 2 11:22:32 2020] Words tested from the big dictionary: 38%
[Sat May 2 11:22:32 2020] Words tested from the big dictionary: 38%
[Sat May 2 11:22:32 2020] Words tested from the big dictionary: 38%
[Sat May 2 11:22:32 2020] Words tested from the big dictionary: 39%
[Sat May 2 11:22:32 2020] Words tested from the big dictionary: 39%
[Sat May 2 11:22:32 2020] Words tested from the big dictionary: 39%
[Sat May 2 11:22:32 2020] Words tested from the big dictionary: 39%
[Sat May 2 11:22:32 2020] Words tested from the big dictionary: 39%
[Sat May 2 11:22:32 2020] Words tested from the big dictionary: 39%
[Sat May 2 11:22:32 2020] Words tested from the big dictionary: 39%
[Sat May 2 11:22:32 2020] Words tested from the big dictionary: 39%
[Sat May 2 11:22:32 2020] Words tested from the big dictionary: 39%
[Sat May 2 11:22:32 2020] Words tested from the big dictionary: 39%
[Sat May 2 11:22:32 2020] Words tested from the big dictionary: 39%
[Sat May 2 11:22:32 2020] Words tested from the big dictionary: 40%
[Sat May 2 11:22:32 2020] Words tested from the big dictionary: 40%
[Sat May 2 11:22:32 2020] Words tested from the big dictionary: 40%
[Sat May 2 11:22:32 2020] Words tested from the big dictionary: 40%
[Sat May 2 11:22:32 2020] Words tested from the big dictionary: 40%
[Sat May 2 11:22:32 2020] Words tested from the big dictionary: 40%
[Sat May 2 11:22:32 2020] Words tested from the big dictionary: 40%
[Sat May 2 11:22:32 2020] Words tested from the big dictionary: 40%
[Sat May 2 11:22:32 2020] Words tested from the big dictionary: 40%
[Sat May 2 11:22:32 2020] Words tested from the big dictionary: 40%
[Sat May 2 11:22:33 2020] Words tested from the big dictionary: 40%
[Sat May 2 11:22:33 2020] Words tested from the big dictionary: 41%
[Sat May 2 11:22:33 2020] Words tested from the big dictionary: 41%
[Sat May 2 11:22:33 2020] Words tested from the big dictionary: 41%
[Sat May 2 11:22:33 2020] Words tested from the big dictionary: 41%
[Sat May 2 11:22:33 2020] Words tested from the big dictionary: 41%
[Sat May 2 11:22:33 2020] Words tested from the big dictionary: 41%
[Sat May 2 11:22:33 2020] Words tested from the big dictionary: 41%
[Sat May 2 11:22:33 2020] Words tested from the big dictionary: 41%
[Sat May 2 11:22:33 2020] Words tested from the big dictionary: 41%
[Sat May 2 11:22:33 2020] Words tested from the big dictionary: 41%
[Sat May 2 11:22:33 2020] Words tested from the big dictionary: 41%
[Sat May 2 11:22:33 2020] Words tested from the big dictionary: 42%
[Sat May 2 11:22:33 2020] Words tested from the big dictionary: 42%
[Sat May 2 11:22:33 2020] Words tested from the big dictionary: 42%
[Sat May 2 11:22:33 2020] Words tested from the big dictionary: 42%
[Sat May 2 11:22:33 2020] Words tested from the big dictionary: 42%
[Sat May 2 11:22:33 2020] Words tested from the big dictionary: 42%
[Sat May 2 11:22:33 2020] Words tested from the big dictionary: 42%
[Sat May 2 11:22:33 2020] Words tested from the big dictionary: 42%
[Sat May 2 11:22:33 2020] Words tested from the big dictionary: 42%
[Sat May 2 11:22:33 2020] Words tested from the big dictionary: 42%
[Sat May 2 11:22:33 2020] Words tested from the big dictionary: 42%
[Sat May 2 11:22:33 2020] Words tested from the big dictionary: 43%
[Sat May 2 11:22:33 2020] Words tested from the big dictionary: 43%
[Sat May 2 11:22:33 2020] Words tested from the big dictionary: 43%
[Sat May 2 11:22:33 2020] Words tested from the big dictionary: 43%
[Sat May 2 11:22:33 2020] Words tested from the big dictionary: 43%
[Sat May 2 11:22:33 2020] Words tested from the big dictionary: 43%
[Sat May 2 11:22:33 2020] Words tested from the big dictionary: 43%
[Sat May 2 11:22:33 2020] Words tested from the big dictionary: 43%
[Sat May 2 11:22:33 2020] Words tested from the big dictionary: 43%
[Sat May 2 11:22:33 2020] Words tested from the big dictionary: 43%
[Sat May 2 11:22:33 2020] Words tested from the big dictionary: 43%
[Sat May 2 11:22:34 2020] Words tested from the big dictionary: 44%
[Sat May 2 11:22:34 2020] Words tested from the big dictionary: 44%
[Sat May 2 11:22:34 2020] Words tested from the big dictionary: 44%
[Sat May 2 11:22:34 2020] Words tested from the big dictionary: 44%
[Sat May 2 11:22:34 2020] Words tested from the big dictionary: 44%
[Sat May 2 11:22:34 2020] Words tested from the big dictionary: 44%
[Sat May 2 11:22:34 2020] Words tested from the big dictionary: 44%
[Sat May 2 11:22:34 2020] Words tested from the big dictionary: 44%
[Sat May 2 11:22:34 2020] Words tested from the big dictionary: 44%
[Sat May 2 11:22:34 2020] Words tested from the big dictionary: 44%
[Sat May 2 11:22:34 2020] Words tested from the big dictionary: 44%
[Sat May 2 11:22:34 2020] Words tested from the big dictionary: 45%
[Sat May 2 11:22:34 2020] Words tested from the big dictionary: 45%
[Sat May 2 11:22:34 2020] Words tested from the big dictionary: 45%
[Sat May 2 11:22:34 2020] Words tested from the big dictionary: 45%
[Sat May 2 11:22:34 2020] Words tested from the big dictionary: 45%
[Sat May 2 11:22:34 2020] Words tested from the big dictionary: 45%
[Sat May 2 11:22:34 2020] Words tested from the big dictionary: 45%
[Sat May 2 11:22:34 2020] Words tested from the big dictionary: 45%
[Sat May 2 11:22:34 2020] Words tested from the big dictionary: 45%
[Sat May 2 11:22:34 2020] Words tested from the big dictionary: 45%
[Sat May 2 11:22:34 2020] Words tested from the big dictionary: 45%
[Sat May 2 11:22:34 2020] Words tested from the big dictionary: 46%
[Sat May 2 11:22:34 2020] Words tested from the big dictionary: 46%
[Sat May 2 11:22:34 2020] Words tested from the big dictionary: 46%
[Sat May 2 11:22:34 2020] Words tested from the big dictionary: 46%
[Sat May 2 11:22:34 2020] Words tested from the big dictionary: 46%
[Sat May 2 11:22:34 2020] Words tested from the big dictionary: 46%
[Sat May 2 11:22:34 2020] Words tested from the big dictionary: 46%
[Sat May 2 11:22:34 2020] Words tested from the big dictionary: 46%
[Sat May 2 11:22:34 2020] Words tested from the big dictionary: 46%
[Sat May 2 11:22:34 2020] Words tested from the big dictionary: 46%
[Sat May 2 11:22:35 2020] Words tested from the big dictionary: 46%
[Sat May 2 11:22:35 2020] Words tested from the big dictionary: 47%
[Sat May 2 11:22:35 2020] Words tested from the big dictionary: 47%
[Sat May 2 11:22:35 2020] Words tested from the big dictionary: 47%
[Sat May 2 11:22:35 2020] Words tested from the big dictionary: 47%
[Sat May 2 11:22:35 2020] Words tested from the big dictionary: 47%
[Sat May 2 11:22:35 2020] Words tested from the big dictionary: 47%
[Sat May 2 11:22:35 2020] Words tested from the big dictionary: 47%
[Sat May 2 11:22:35 2020] Words tested from the big dictionary: 47%
[Sat May 2 11:22:35 2020] Words tested from the big dictionary: 47%
[Sat May 2 11:22:35 2020] Words tested from the big dictionary: 47%
[Sat May 2 11:22:35 2020] Words tested from the big dictionary: 47%
[Sat May 2 11:22:35 2020] Words tested from the big dictionary: 48%
[Sat May 2 11:22:35 2020] Words tested from the big dictionary: 48%
[Sat May 2 11:22:35 2020] Words tested from the big dictionary: 48%
[Sat May 2 11:22:35 2020] Words tested from the big dictionary: 48%
[Sat May 2 11:22:35 2020] Words tested from the big dictionary: 48%
[Sat May 2 11:22:35 2020] Words tested from the big dictionary: 48%
[Sat May 2 11:22:35 2020] Words tested from the big dictionary: 48%
[Sat May 2 11:22:35 2020] Words tested from the big dictionary: 48%
[Sat May 2 11:22:35 2020] Words tested from the big dictionary: 48%
[Sat May 2 11:22:35 2020] Words tested from the big dictionary: 48%
[Sat May 2 11:22:35 2020] Words tested from the big dictionary: 49%
[Sat May 2 11:22:35 2020] Words tested from the big dictionary: 49%
[Sat May 2 11:22:35 2020] Words tested from the big dictionary: 49%
[Sat May 2 11:22:35 2020] Words tested from the big dictionary: 49%
[Sat May 2 11:22:35 2020] Words tested from the big dictionary: 49%
[Sat May 2 11:22:35 2020] Words tested from the big dictionary: 49%
[Sat May 2 11:22:35 2020] Words tested from the big dictionary: 49%
[Sat May 2 11:22:35 2020] Words tested from the big dictionary: 49%
[Sat May 2 11:22:36 2020] Words tested from the big dictionary: 49%
[Sat May 2 11:22:36 2020] Words tested from the big dictionary: 49%
[Sat May 2 11:22:36 2020] Words tested from the big dictionary: 49%
[Sat May 2 11:22:36 2020] Words tested from the big dictionary: 50%
[Sat May 2 11:22:36 2020] Words tested from the big dictionary: 50%
[Sat May 2 11:22:36 2020] Words tested from the big dictionary: 50%
[Sat May 2 11:22:36 2020] Words tested from the big dictionary: 50%
[Sat May 2 11:22:36 2020] Words tested from the big dictionary: 50%
[Sat May 2 11:22:36 2020] Words tested from the big dictionary: 50%
[Sat May 2 11:22:36 2020] Words tested from the big dictionary: 50%
[Sat May 2 11:22:36 2020] Words tested from the big dictionary: 50%
[Sat May 2 11:22:36 2020] Words tested from the big dictionary: 50%
[Sat May 2 11:22:36 2020] Words tested from the big dictionary: 50%
[Sat May 2 11:22:36 2020] Words tested from the big dictionary: 50%
[Sat May 2 11:22:36 2020] Words tested from the big dictionary: 51%
[Sat May 2 11:22:36 2020] Words tested from the big dictionary: 51%
[Sat May 2 11:22:36 2020] Words tested from the big dictionary: 51%
[Sat May 2 11:22:36 2020] Words tested from the big dictionary: 51%
[Sat May 2 11:22:36 2020] Words tested from the big dictionary: 51%
[Sat May 2 11:22:36 2020] Words tested from the big dictionary: 51%
[Sat May 2 11:22:36 2020] Words tested from the big dictionary: 51%
[Sat May 2 11:22:36 2020] Words tested from the big dictionary: 51%
[Sat May 2 11:22:36 2020] Words tested from the big dictionary: 51%
[Sat May 2 11:22:36 2020] Words tested from the big dictionary: 51%
[Sat May 2 11:22:36 2020] Words tested from the big dictionary: 51%
[Sat May 2 11:22:36 2020] Words tested from the big dictionary: 52%
[Sat May 2 11:22:36 2020] Words tested from the big dictionary: 52%
[Sat May 2 11:22:36 2020] Words tested from the big dictionary: 52%
[Sat May 2 11:22:36 2020] Words tested from the big dictionary: 52%
[Sat May 2 11:22:36 2020] Words tested from the big dictionary: 52%
[Sat May 2 11:22:36 2020] Words tested from the big dictionary: 52%
[Sat May 2 11:22:37 2020] Words tested from the big dictionary: 52%
[Sat May 2 11:22:37 2020] Words tested from the big dictionary: 52%
[Sat May 2 11:22:37 2020] Words tested from the big dictionary: 52%
[Sat May 2 11:22:37 2020] Words tested from the big dictionary: 52%
[Sat May 2 11:22:37 2020] Words tested from the big dictionary: 52%
[Sat May 2 11:22:37 2020] Words tested from the big dictionary: 53%
[Sat May 2 11:22:37 2020] Words tested from the big dictionary: 53%
[Sat May 2 11:22:37 2020] Words tested from the big dictionary: 53%
[Sat May 2 11:22:37 2020] Words tested from the big dictionary: 53%
[Sat May 2 11:22:37 2020] Words tested from the big dictionary: 53%
[Sat May 2 11:22:37 2020] Words tested from the big dictionary: 53%
[Sat May 2 11:22:37 2020] Words tested from the big dictionary: 53%
[Sat May 2 11:22:37 2020] Words tested from the big dictionary: 53%
[Sat May 2 11:22:37 2020] Words tested from the big dictionary: 53%
[Sat May 2 11:22:37 2020] Words tested from the big dictionary: 53%
[Sat May 2 11:22:37 2020] Words tested from the big dictionary: 53%
[Sat May 2 11:22:37 2020] Words tested from the big dictionary: 54%
[Sat May 2 11:22:37 2020] Words tested from the big dictionary: 54%
[Sat May 2 11:22:37 2020] Words tested from the big dictionary: 54%
[Sat May 2 11:22:37 2020] Words tested from the big dictionary: 54%
[Sat May 2 11:22:37 2020] Words tested from the big dictionary: 54%
[Sat May 2 11:22:37 2020] Words tested from the big dictionary: 54%
[Sat May 2 11:22:37 2020] Words tested from the big dictionary: 54%
[Sat May 2 11:22:37 2020] Words tested from the big dictionary: 54%
[Sat May 2 11:22:37 2020] Words tested from the big dictionary: 54%
[Sat May 2 11:22:37 2020] Words tested from the big dictionary: 54%
[Sat May 2 11:22:37 2020] Words tested from the big dictionary: 54%
[Sat May 2 11:22:37 2020] Words tested from the big dictionary: 55%
[Sat May 2 11:22:37 2020] Words tested from the big dictionary: 55%
[Sat May 2 11:22:37 2020] Words tested from the big dictionary: 55%
[Sat May 2 11:22:37 2020] Words tested from the big dictionary: 55%
[Sat May 2 11:22:38 2020] Words tested from the big dictionary: 55%
[Sat May 2 11:22:38 2020] Words tested from the big dictionary: 55%
[Sat May 2 11:22:38 2020] Words tested from the big dictionary: 55%
[Sat May 2 11:22:38 2020] Words tested from the big dictionary: 55%
[Sat May 2 11:22:38 2020] Words tested from the big dictionary: 55%
[Sat May 2 11:22:38 2020] Words tested from the big dictionary: 55%
[Sat May 2 11:22:38 2020] Words tested from the big dictionary: 55%
[Sat May 2 11:22:38 2020] Words tested from the big dictionary: 56%
[Sat May 2 11:22:38 2020] Words tested from the big dictionary: 56%
[Sat May 2 11:22:38 2020] Words tested from the big dictionary: 56%
[Sat May 2 11:22:38 2020] Words tested from the big dictionary: 56%
[Sat May 2 11:22:38 2020] Words tested from the big dictionary: 56%
[Sat May 2 11:22:38 2020] Words tested from the big dictionary: 56%
[Sat May 2 11:22:38 2020] Words tested from the big dictionary: 56%
[Sat May 2 11:22:38 2020] Words tested from the big dictionary: 56%
[Sat May 2 11:22:38 2020] Words tested from the big dictionary: 56%
[Sat May 2 11:22:38 2020] Words tested from the big dictionary: 56%
[Sat May 2 11:22:38 2020] Words tested from the big dictionary: 56%
[Sat May 2 11:22:38 2020] Words tested from the big dictionary: 57%
[Sat May 2 11:22:38 2020] Words tested from the big dictionary: 57%
[Sat May 2 11:22:38 2020] Words tested from the big dictionary: 57%
[Sat May 2 11:22:38 2020] Words tested from the big dictionary: 57%
[Sat May 2 11:22:38 2020] Words tested from the big dictionary: 57%
[Sat May 2 11:22:38 2020] Words tested from the big dictionary: 57%
[Sat May 2 11:22:38 2020] Words tested from the big dictionary: 57%
[Sat May 2 11:22:38 2020] Words tested from the big dictionary: 57%
[Sat May 2 11:22:38 2020] Words tested from the big dictionary: 57%
[Sat May 2 11:22:38 2020] Words tested from the big dictionary: 57%
[Sat May 2 11:22:38 2020] Words tested from the big dictionary: 57%
[Sat May 2 11:22:38 2020] Words tested from the big dictionary: 58%
[Sat May 2 11:22:38 2020] Words tested from the big dictionary: 58%
[Sat May 2 11:22:38 2020] Words tested from the big dictionary: 58%
[Sat May 2 11:22:39 2020] Words tested from the big dictionary: 58%
[Sat May 2 11:22:39 2020] Words tested from the big dictionary: 58%
[Sat May 2 11:22:39 2020] Words tested from the big dictionary: 58%
[Sat May 2 11:22:39 2020] Words tested from the big dictionary: 58%
[Sat May 2 11:22:39 2020] Words tested from the big dictionary: 58%
[Sat May 2 11:22:39 2020] Words tested from the big dictionary: 58%
[Sat May 2 11:22:39 2020] Words tested from the big dictionary: 58%
[Sat May 2 11:22:39 2020] Words tested from the big dictionary: 59%
[Sat May 2 11:22:39 2020] Words tested from the big dictionary: 59%
[Sat May 2 11:22:39 2020] Words tested from the big dictionary: 59%
[Sat May 2 11:22:39 2020] Words tested from the big dictionary: 59%
[Sat May 2 11:22:39 2020] Words tested from the big dictionary: 59%
[Sat May 2 11:22:39 2020] Words tested from the big dictionary: 59%
[Sat May 2 11:22:39 2020] Words tested from the big dictionary: 59%
[Sat May 2 11:22:39 2020] Words tested from the big dictionary: 59%
[Sat May 2 11:22:39 2020] Words tested from the big dictionary: 59%
[Sat May 2 11:22:39 2020] Words tested from the big dictionary: 59%
[Sat May 2 11:22:39 2020] Words tested from the big dictionary: 59%
[Sat May 2 11:22:39 2020] Words tested from the big dictionary: 60%
[Sat May 2 11:22:39 2020] Words tested from the big dictionary: 60%
[Sat May 2 11:22:39 2020] Words tested from the big dictionary: 60%
[Sat May 2 11:22:39 2020] Words tested from the big dictionary: 60%
[Sat May 2 11:22:39 2020] Words tested from the big dictionary: 60%
[Sat May 2 11:22:39 2020] Words tested from the big dictionary: 60%
[Sat May 2 11:22:39 2020] Words tested from the big dictionary: 60%
[Sat May 2 11:22:39 2020] Words tested from the big dictionary: 60%
[Sat May 2 11:22:39 2020] Words tested from the big dictionary: 60%
[Sat May 2 11:22:39 2020] Words tested from the big dictionary: 60%
[Sat May 2 11:22:39 2020] Words tested from the big dictionary: 60%
[Sat May 2 11:22:39 2020] Words tested from the big dictionary: 61%
[Sat May 2 11:22:39 2020] Words tested from the big dictionary: 61%
[Sat May 2 11:22:39 2020] Words tested from the big dictionary: 61%
[Sat May 2 11:22:40 2020] Words tested from the big dictionary: 61%
[Sat May 2 11:22:40 2020] Words tested from the big dictionary: 61%
[Sat May 2 11:22:40 2020] Words tested from the big dictionary: 61%
[Sat May 2 11:22:40 2020] Words tested from the big dictionary: 61%
[Sat May 2 11:22:40 2020] Words tested from the big dictionary: 61%
[Sat May 2 11:22:40 2020] Words tested from the big dictionary: 61%
[Sat May 2 11:22:40 2020] Words tested from the big dictionary: 61%
[Sat May 2 11:22:40 2020] Words tested from the big dictionary: 61%
[Sat May 2 11:22:40 2020] Words tested from the big dictionary: 62%
[Sat May 2 11:22:40 2020] Words tested from the big dictionary: 62%
[Sat May 2 11:22:40 2020] Words tested from the big dictionary: 62%
[Sat May 2 11:22:40 2020] Words tested from the big dictionary: 62%
[Sat May 2 11:22:40 2020] Words tested from the big dictionary: 62%
[Sat May 2 11:22:40 2020] Words tested from the big dictionary: 62%
[Sat May 2 11:22:40 2020] Words tested from the big dictionary: 62%
[Sat May 2 11:22:40 2020] Words tested from the big dictionary: 62%
[Sat May 2 11:22:40 2020] Words tested from the big dictionary: 62%
[Sat May 2 11:22:40 2020] Words tested from the big dictionary: 62%
[Sat May 2 11:22:40 2020] Words tested from the big dictionary: 62%
[Sat May 2 11:22:40 2020] Words tested from the big dictionary: 63%
[Sat May 2 11:22:40 2020] Words tested from the big dictionary: 63%
[Sat May 2 11:22:40 2020] Words tested from the big dictionary: 63%
[Sat May 2 11:22:40 2020] Words tested from the big dictionary: 63%
[Sat May 2 11:22:40 2020] Words tested from the big dictionary: 63%
[Sat May 2 11:22:40 2020] Words tested from the big dictionary: 63%
[Sat May 2 11:22:40 2020] Words tested from the big dictionary: 63%
[Sat May 2 11:22:40 2020] Words tested from the big dictionary: 63%
[Sat May 2 11:22:40 2020] Words tested from the big dictionary: 63%
[Sat May 2 11:22:40 2020] Words tested from the big dictionary: 63%
[Sat May 2 11:22:40 2020] Words tested from the big dictionary: 63%
[Sat May 2 11:22:40 2020] Words tested from the big dictionary: 64%
[Sat May 2 11:22:40 2020] Words tested from the big dictionary: 64%
[Sat May 2 11:22:41 2020] Words tested from the big dictionary: 64%
[Sat May 2 11:22:41 2020] Words tested from the big dictionary: 64%
[Sat May 2 11:22:41 2020] Words tested from the big dictionary: 64%
[Sat May 2 11:22:41 2020] Words tested from the big dictionary: 64%
[Sat May 2 11:22:41 2020] Words tested from the big dictionary: 64%
[Sat May 2 11:22:41 2020] Words tested from the big dictionary: 64%
[Sat May 2 11:22:41 2020] Words tested from the big dictionary: 64%
[Sat May 2 11:22:41 2020] Words tested from the big dictionary: 64%
[Sat May 2 11:22:41 2020] Words tested from the big dictionary: 64%
[Sat May 2 11:22:41 2020] Words tested from the big dictionary: 65%
[Sat May 2 11:22:41 2020] Words tested from the big dictionary: 65%
[Sat May 2 11:22:41 2020] Words tested from the big dictionary: 65%
[Sat May 2 11:22:41 2020] Words tested from the big dictionary: 65%
[Sat May 2 11:22:41 2020] Words tested from the big dictionary: 65%
[Sat May 2 11:22:41 2020] Words tested from the big dictionary: 65%
[Sat May 2 11:22:41 2020] Words tested from the big dictionary: 65%
[Sat May 2 11:22:41 2020] Words tested from the big dictionary: 65%
[Sat May 2 11:22:41 2020] Words tested from the big dictionary: 65%
[Sat May 2 11:22:41 2020] Words tested from the big dictionary: 65%
[Sat May 2 11:22:41 2020] Words tested from the big dictionary: 65%
[Sat May 2 11:22:41 2020] Words tested from the big dictionary: 66%
[Sat May 2 11:22:41 2020] Words tested from the big dictionary: 66%
[Sat May 2 11:22:41 2020] Words tested from the big dictionary: 66%
[Sat May 2 11:22:41 2020] Words tested from the big dictionary: 66%
[Sat May 2 11:22:41 2020] Words tested from the big dictionary: 66%
[Sat May 2 11:22:41 2020] Words tested from the big dictionary: 66%
[Sat May 2 11:22:41 2020] Words tested from the big dictionary: 66%
[Sat May 2 11:22:41 2020] Words tested from the big dictionary: 66%
[Sat May 2 11:22:41 2020] Words tested from the big dictionary: 66%
[Sat May 2 11:22:41 2020] Words tested from the big dictionary: 66%
[Sat May 2 11:22:41 2020] Words tested from the big dictionary: 66%
[Sat May 2 11:22:41 2020] Words tested from the big dictionary: 67%
[Sat May 2 11:22:42 2020] Words tested from the big dictionary: 67%
[Sat May 2 11:22:42 2020] Words tested from the big dictionary: 67%
[Sat May 2 11:22:42 2020] Words tested from the big dictionary: 67%
[Sat May 2 11:22:42 2020] Words tested from the big dictionary: 67%
[Sat May 2 11:22:42 2020] Words tested from the big dictionary: 67%
[Sat May 2 11:22:42 2020] Words tested from the big dictionary: 67%
[Sat May 2 11:22:42 2020] Words tested from the big dictionary: 67%
[Sat May 2 11:22:42 2020] Words tested from the big dictionary: 67%
[Sat May 2 11:22:42 2020] Words tested from the big dictionary: 67%
[Sat May 2 11:22:42 2020] Words tested from the big dictionary: 68%
[Sat May 2 11:22:42 2020] Words tested from the big dictionary: 68%
[Sat May 2 11:22:42 2020] Words tested from the big dictionary: 68%
[Sat May 2 11:22:42 2020] Words tested from the big dictionary: 68%
[Sat May 2 11:22:42 2020] Words tested from the big dictionary: 68%
[Sat May 2 11:22:42 2020] Words tested from the big dictionary: 68%
[Sat May 2 11:22:42 2020] Words tested from the big dictionary: 68%
[Sat May 2 11:22:42 2020] Words tested from the big dictionary: 68%
[Sat May 2 11:22:42 2020] Words tested from the big dictionary: 68%
[Sat May 2 11:22:42 2020] Words tested from the big dictionary: 68%
[Sat May 2 11:22:42 2020] Words tested from the big dictionary: 68%
[Sat May 2 11:22:42 2020] Words tested from the big dictionary: 69%
[Sat May 2 11:22:42 2020] Words tested from the big dictionary: 69%
[Sat May 2 11:22:42 2020] Words tested from the big dictionary: 69%
[Sat May 2 11:22:42 2020] Words tested from the big dictionary: 69%
[Sat May 2 11:22:42 2020] Words tested from the big dictionary: 69%
[Sat May 2 11:22:42 2020] Words tested from the big dictionary: 69%
[Sat May 2 11:22:42 2020] Words tested from the big dictionary: 69%
[Sat May 2 11:22:42 2020] Words tested from the big dictionary: 69%
[Sat May 2 11:22:42 2020] Words tested from the big dictionary: 69%
[Sat May 2 11:22:42 2020] Words tested from the big dictionary: 69%
[Sat May 2 11:22:42 2020] Words tested from the big dictionary: 69%
[Sat May 2 11:22:42 2020] Words tested from the big dictionary: 70%
[Sat May 2 11:22:43 2020] Words tested from the big dictionary: 70%
[Sat May 2 11:22:43 2020] Words tested from the big dictionary: 70%
[Sat May 2 11:22:43 2020] Words tested from the big dictionary: 70%
[Sat May 2 11:22:43 2020] Words tested from the big dictionary: 70%
[Sat May 2 11:22:43 2020] Words tested from the big dictionary: 70%
[Sat May 2 11:22:43 2020] Words tested from the big dictionary: 70%
[Sat May 2 11:22:43 2020] Words tested from the big dictionary: 70%
[Sat May 2 11:22:43 2020] Words tested from the big dictionary: 70%
[Sat May 2 11:22:43 2020] Words tested from the big dictionary: 70%
[Sat May 2 11:22:43 2020] Words tested from the big dictionary: 70%
[Sat May 2 11:22:43 2020] Words tested from the big dictionary: 71%
[Sat May 2 11:22:43 2020] Words tested from the big dictionary: 71%
[Sat May 2 11:22:43 2020] Words tested from the big dictionary: 71%
[Sat May 2 11:22:43 2020] Words tested from the big dictionary: 71%
[Sat May 2 11:22:43 2020] Words tested from the big dictionary: 71%
[Sat May 2 11:22:43 2020] Words tested from the big dictionary: 71%
[Sat May 2 11:22:43 2020] Words tested from the big dictionary: 71%
[Sat May 2 11:22:43 2020] Words tested from the big dictionary: 71%
[Sat May 2 11:22:43 2020] Words tested from the big dictionary: 71%
[Sat May 2 11:22:43 2020] Words tested from the big dictionary: 71%
[Sat May 2 11:22:43 2020] Words tested from the big dictionary: 71%
[Sat May 2 11:22:43 2020] Words tested from the big dictionary: 72%
[Sat May 2 11:22:43 2020] Words tested from the big dictionary: 72%
[Sat May 2 11:22:43 2020] Words tested from the big dictionary: 72%
[Sat May 2 11:22:43 2020] Words tested from the big dictionary: 72%
[Sat May 2 11:22:43 2020] Words tested from the big dictionary: 72%
[Sat May 2 11:22:43 2020] Words tested from the big dictionary: 72%
[Sat May 2 11:22:43 2020] Words tested from the big dictionary: 72%
[Sat May 2 11:22:43 2020] Words tested from the big dictionary: 72%
[Sat May 2 11:22:43 2020] Words tested from the big dictionary: 72%
[Sat May 2 11:22:43 2020] Words tested from the big dictionary: 72%
[Sat May 2 11:22:43 2020] Words tested from the big dictionary: 72%
[Sat May 2 11:22:44 2020] Words tested from the big dictionary: 73%
[Sat May 2 11:22:44 2020] Words tested from the big dictionary: 73%
[Sat May 2 11:22:44 2020] Words tested from the big dictionary: 73%
[Sat May 2 11:22:44 2020] Words tested from the big dictionary: 73%
[Sat May 2 11:22:44 2020] Words tested from the big dictionary: 73%
[Sat May 2 11:22:44 2020] Words tested from the big dictionary: 73%
[Sat May 2 11:22:44 2020] Words tested from the big dictionary: 73%
[Sat May 2 11:22:44 2020] Words tested from the big dictionary: 73%
[Sat May 2 11:22:44 2020] Words tested from the big dictionary: 73%
[Sat May 2 11:22:44 2020] Words tested from the big dictionary: 73%
[Sat May 2 11:22:44 2020] Words tested from the big dictionary: 73%
[Sat May 2 11:22:44 2020] Words tested from the big dictionary: 74%
[Sat May 2 11:22:44 2020] Words tested from the big dictionary: 74%
[Sat May 2 11:22:44 2020] Words tested from the big dictionary: 74%
[Sat May 2 11:22:44 2020] Words tested from the big dictionary: 74%
[Sat May 2 11:22:44 2020] Words tested from the big dictionary: 74%
[Sat May 2 11:22:44 2020] Words tested from the big dictionary: 74%
[Sat May 2 11:22:44 2020] Words tested from the big dictionary: 74%
[Sat May 2 11:22:44 2020] Words tested from the big dictionary: 74%
[Sat May 2 11:22:44 2020] Words tested from the big dictionary: 74%
[Sat May 2 11:22:44 2020] Words tested from the big dictionary: 74%
[Sat May 2 11:22:44 2020] Words tested from the big dictionary: 74%
[Sat May 2 11:22:44 2020] Words tested from the big dictionary: 75%
[Sat May 2 11:22:44 2020] Words tested from the big dictionary: 75%
[Sat May 2 11:22:44 2020] Words tested from the big dictionary: 75%
[Sat May 2 11:22:44 2020] Words tested from the big dictionary: 75%
[Sat May 2 11:22:44 2020] Words tested from the big dictionary: 75%
[Sat May 2 11:22:44 2020] Words tested from the big dictionary: 75%
[Sat May 2 11:22:44 2020] Words tested from the big dictionary: 75%
[Sat May 2 11:22:45 2020] Words tested from the big dictionary: 75%
[Sat May 2 11:22:45 2020] Words tested from the big dictionary: 75%
[Sat May 2 11:22:45 2020] Words tested from the big dictionary: 75%
[Sat May 2 11:22:45 2020] Words tested from the big dictionary: 75%
[Sat May 2 11:22:45 2020] Words tested from the big dictionary: 76%
[Sat May 2 11:22:45 2020] Words tested from the big dictionary: 76%
[Sat May 2 11:22:45 2020] Words tested from the big dictionary: 76%
[Sat May 2 11:22:45 2020] Words tested from the big dictionary: 76%
[Sat May 2 11:22:45 2020] Words tested from the big dictionary: 76%
[Sat May 2 11:22:45 2020] Words tested from the big dictionary: 76%
[Sat May 2 11:22:45 2020] Words tested from the big dictionary: 76%
[Sat May 2 11:22:45 2020] Words tested from the big dictionary: 76%
[Sat May 2 11:22:45 2020] Words tested from the big dictionary: 76%
[Sat May 2 11:22:45 2020] Words tested from the big dictionary: 76%
[Sat May 2 11:22:45 2020] Words tested from the big dictionary: 76%
[Sat May 2 11:22:45 2020] Words tested from the big dictionary: 77%
[Sat May 2 11:22:45 2020] Words tested from the big dictionary: 77%
[Sat May 2 11:22:45 2020] Words tested from the big dictionary: 77%
[Sat May 2 11:22:45 2020] Words tested from the big dictionary: 77%
[Sat May 2 11:22:45 2020] Words tested from the big dictionary: 77%
[Sat May 2 11:22:45 2020] Words tested from the big dictionary: 77%
[Sat May 2 11:22:45 2020] Words tested from the big dictionary: 77%
[Sat May 2 11:22:45 2020] Words tested from the big dictionary: 77%
[Sat May 2 11:22:45 2020] Words tested from the big dictionary: 77%
[Sat May 2 11:22:45 2020] Words tested from the big dictionary: 77%
[Sat May 2 11:22:45 2020] Words tested from the big dictionary: 78%
[Sat May 2 11:22:45 2020] Words tested from the big dictionary: 78%
[Sat May 2 11:22:45 2020] Words tested from the big dictionary: 78%
[Sat May 2 11:22:45 2020] Words tested from the big dictionary: 78%
[Sat May 2 11:22:45 2020] Words tested from the big dictionary: 78%
[Sat May 2 11:22:45 2020] Words tested from the big dictionary: 78%
[Sat May 2 11:22:46 2020] Words tested from the big dictionary: 78%
[Sat May 2 11:22:46 2020] Words tested from the big dictionary: 78%
[Sat May 2 11:22:46 2020] Words tested from the big dictionary: 78%
[Sat May 2 11:22:46 2020] Words tested from the big dictionary: 78%
[Sat May 2 11:22:46 2020] Words tested from the big dictionary: 78%
[Sat May 2 11:22:46 2020] Words tested from the big dictionary: 79%
[Sat May 2 11:22:46 2020] Words tested from the big dictionary: 79%
[Sat May 2 11:22:46 2020] Words tested from the big dictionary: 79%
[Sat May 2 11:22:46 2020] Words tested from the big dictionary: 79%
[Sat May 2 11:22:46 2020] Words tested from the big dictionary: 79%
[Sat May 2 11:22:46 2020] Words tested from the big dictionary: 79%
[Sat May 2 11:22:46 2020] Words tested from the big dictionary: 79%
[Sat May 2 11:22:46 2020] Words tested from the big dictionary: 79%
[Sat May 2 11:22:46 2020] Words tested from the big dictionary: 79%
[Sat May 2 11:22:46 2020] Words tested from the big dictionary: 79%
[Sat May 2 11:22:46 2020] Words tested from the big dictionary: 79%
[Sat May 2 11:22:46 2020] Words tested from the big dictionary: 80%
[Sat May 2 11:22:46 2020] Words tested from the big dictionary: 80%
[Sat May 2 11:22:46 2020] Words tested from the big dictionary: 80%
[Sat May 2 11:22:46 2020] Words tested from the big dictionary: 80%
[Sat May 2 11:22:46 2020] Words tested from the big dictionary: 80%
[Sat May 2 11:22:46 2020] Words tested from the big dictionary: 80%
[Sat May 2 11:22:46 2020] Words tested from the big dictionary: 80%
[Sat May 2 11:22:46 2020] Words tested from the big dictionary: 80%
[Sat May 2 11:22:46 2020] Words tested from the big dictionary: 80%
[Sat May 2 11:22:46 2020] Words tested from the big dictionary: 80%
[Sat May 2 11:22:46 2020] Words tested from the big dictionary: 80%
[Sat May 2 11:22:46 2020] Words tested from the big dictionary: 81%
[Sat May 2 11:22:46 2020] Words tested from the big dictionary: 81%
[Sat May 2 11:22:46 2020] Words tested from the big dictionary: 81%
[Sat May 2 11:22:46 2020] Words tested from the big dictionary: 81%
[Sat May 2 11:22:46 2020] Words tested from the big dictionary: 81%
[Sat May 2 11:22:47 2020] Words tested from the big dictionary: 81%
[Sat May 2 11:22:47 2020] Words tested from the big dictionary: 81%
[Sat May 2 11:22:47 2020] Words tested from the big dictionary: 81%
[Sat May 2 11:22:47 2020] Words tested from the big dictionary: 81%
[Sat May 2 11:22:47 2020] Words tested from the big dictionary: 81%
[Sat May 2 11:22:47 2020] Words tested from the big dictionary: 81%
[Sat May 2 11:22:47 2020] Words tested from the big dictionary: 82%
[Sat May 2 11:22:47 2020] Words tested from the big dictionary: 82%
[Sat May 2 11:22:47 2020] Words tested from the big dictionary: 82%
[Sat May 2 11:22:47 2020] Words tested from the big dictionary: 82%
[Sat May 2 11:22:47 2020] Words tested from the big dictionary: 82%
[Sat May 2 11:22:47 2020] Words tested from the big dictionary: 82%
[Sat May 2 11:22:47 2020] Words tested from the big dictionary: 82%
[Sat May 2 11:22:47 2020] Words tested from the big dictionary: 82%
[Sat May 2 11:22:47 2020] Words tested from the big dictionary: 82%
[Sat May 2 11:22:47 2020] Words tested from the big dictionary: 82%
[Sat May 2 11:22:47 2020] Words tested from the big dictionary: 82%
[Sat May 2 11:22:47 2020] Words tested from the big dictionary: 83%
[Sat May 2 11:22:47 2020] Words tested from the big dictionary: 83%
[Sat May 2 11:22:47 2020] Words tested from the big dictionary: 83%
[Sat May 2 11:22:47 2020] Words tested from the big dictionary: 83%
[Sat May 2 11:22:47 2020] Words tested from the big dictionary: 83%
[Sat May 2 11:22:47 2020] Words tested from the big dictionary: 83%
[Sat May 2 11:22:47 2020] Words tested from the big dictionary: 83%
[Sat May 2 11:22:47 2020] Words tested from the big dictionary: 83%
[Sat May 2 11:22:47 2020] Words tested from the big dictionary: 83%
[Sat May 2 11:22:47 2020] Words tested from the big dictionary: 83%
[Sat May 2 11:22:47 2020] Words tested from the big dictionary: 83%
[Sat May 2 11:22:47 2020] Words tested from the big dictionary: 84%
[Sat May 2 11:22:47 2020] Words tested from the big dictionary: 84%
[Sat May 2 11:22:47 2020] Words tested from the big dictionary: 84%
[Sat May 2 11:22:47 2020] Words tested from the big dictionary: 84%
[Sat May 2 11:22:47 2020] Words tested from the big dictionary: 84%
[Sat May 2 11:22:48 2020] Words tested from the big dictionary: 84%
[Sat May 2 11:22:48 2020] Words tested from the big dictionary: 84%
[Sat May 2 11:22:48 2020] Words tested from the big dictionary: 84%
[Sat May 2 11:22:48 2020] Words tested from the big dictionary: 84%
[Sat May 2 11:22:48 2020] Words tested from the big dictionary: 84%
[Sat May 2 11:22:48 2020] Words tested from the big dictionary: 84%
[Sat May 2 11:22:48 2020] Words tested from the big dictionary: 85%
[Sat May 2 11:22:48 2020] Words tested from the big dictionary: 85%
[Sat May 2 11:22:48 2020] Words tested from the big dictionary: 85%
[Sat May 2 11:22:48 2020] Words tested from the big dictionary: 85%
[Sat May 2 11:22:48 2020] Words tested from the big dictionary: 85%
[Sat May 2 11:22:48 2020] Words tested from the big dictionary: 85%
[Sat May 2 11:22:48 2020] Words tested from the big dictionary: 85%
[Sat May 2 11:22:48 2020] Words tested from the big dictionary: 85%
[Sat May 2 11:22:48 2020] Words tested from the big dictionary: 85%
[Sat May 2 11:22:48 2020] Words tested from the big dictionary: 85%
[Sat May 2 11:22:48 2020] Words tested from the big dictionary: 85%
[Sat May 2 11:22:48 2020] Words tested from the big dictionary: 86%
[Sat May 2 11:22:48 2020] Words tested from the big dictionary: 86%
[Sat May 2 11:22:48 2020] Words tested from the big dictionary: 86%
[Sat May 2 11:22:48 2020] Words tested from the big dictionary: 86%
[Sat May 2 11:22:48 2020] Words tested from the big dictionary: 86%
[Sat May 2 11:22:48 2020] Words tested from the big dictionary: 86%
[Sat May 2 11:22:48 2020] Words tested from the big dictionary: 86%
[Sat May 2 11:22:48 2020] Words tested from the big dictionary: 86%
[Sat May 2 11:22:48 2020] Words tested from the big dictionary: 86%
[Sat May 2 11:22:48 2020] Words tested from the big dictionary: 86%
[Sat May 2 11:22:48 2020] Words tested from the big dictionary: 86%
[Sat May 2 11:22:48 2020] Words tested from the big dictionary: 87%
[Sat May 2 11:22:48 2020] Words tested from the big dictionary: 87%
[Sat May 2 11:22:48 2020] Words tested from the big dictionary: 87%
[Sat May 2 11:22:49 2020] Words tested from the big dictionary: 87%
[Sat May 2 11:22:49 2020] Words tested from the big dictionary: 87%
[Sat May 2 11:22:49 2020] Words tested from the big dictionary: 87%
[Sat May 2 11:22:49 2020] Words tested from the big dictionary: 87%
[Sat May 2 11:22:49 2020] Words tested from the big dictionary: 87%
[Sat May 2 11:22:49 2020] Words tested from the big dictionary: 87%
[Sat May 2 11:22:49 2020] Words tested from the big dictionary: 87%
[Sat May 2 11:22:49 2020] Words tested from the big dictionary: 88%
[Sat May 2 11:22:49 2020] Words tested from the big dictionary: 88%
[Sat May 2 11:22:49 2020] Words tested from the big dictionary: 88%
[Sat May 2 11:22:49 2020] Words tested from the big dictionary: 88%
[Sat May 2 11:22:49 2020] Words tested from the big dictionary: 88%
[Sat May 2 11:22:49 2020] Words tested from the big dictionary: 88%
[Sat May 2 11:22:49 2020] Words tested from the big dictionary: 88%
[Sat May 2 11:22:49 2020] Words tested from the big dictionary: 88%
[Sat May 2 11:22:49 2020] Words tested from the big dictionary: 88%
[Sat May 2 11:22:49 2020] Words tested from the big dictionary: 88%
[Sat May 2 11:22:49 2020] Words tested from the big dictionary: 88%
[Sat May 2 11:22:49 2020] Words tested from the big dictionary: 89%
[Sat May 2 11:22:49 2020] Words tested from the big dictionary: 89%
[Sat May 2 11:22:49 2020] Words tested from the big dictionary: 89%
[Sat May 2 11:22:49 2020] Words tested from the big dictionary: 89%
[Sat May 2 11:22:49 2020] Words tested from the big dictionary: 89%
[Sat May 2 11:22:49 2020] Words tested from the big dictionary: 89%
[Sat May 2 11:22:49 2020] Words tested from the big dictionary: 89%
[Sat May 2 11:22:49 2020] Words tested from the big dictionary: 89%
[Sat May 2 11:22:49 2020] Words tested from the big dictionary: 89%
[Sat May 2 11:22:49 2020] Words tested from the big dictionary: 89%
[Sat May 2 11:22:49 2020] Words tested from the big dictionary: 89%
[Sat May 2 11:22:50 2020] Words tested from the big dictionary: 90%
[Sat May 2 11:22:50 2020] Words tested from the big dictionary: 90%
[Sat May 2 11:22:50 2020] Words tested from the big dictionary: 90%
[Sat May 2 11:22:50 2020] Words tested from the big dictionary: 90%
[Sat May 2 11:22:50 2020] Words tested from the big dictionary: 90%
[Sat May 2 11:22:50 2020] Words tested from the big dictionary: 90%
[Sat May 2 11:22:50 2020] Words tested from the big dictionary: 90%
[Sat May 2 11:22:50 2020] Words tested from the big dictionary: 90%
[Sat May 2 11:22:50 2020] Words tested from the big dictionary: 90%
[Sat May 2 11:22:50 2020] Words tested from the big dictionary: 90%
[Sat May 2 11:22:50 2020] Words tested from the big dictionary: 90%
[Sat May 2 11:22:50 2020] Words tested from the big dictionary: 91%
[Sat May 2 11:22:50 2020] Words tested from the big dictionary: 91%
[Sat May 2 11:22:50 2020] Words tested from the big dictionary: 91%
[Sat May 2 11:22:50 2020] Words tested from the big dictionary: 91%
[Sat May 2 11:22:50 2020] Words tested from the big dictionary: 91%
[Sat May 2 11:22:50 2020] Words tested from the big dictionary: 91%
[Sat May 2 11:22:50 2020] Words tested from the big dictionary: 91%
[Sat May 2 11:22:50 2020] Words tested from the big dictionary: 91%
[Sat May 2 11:22:50 2020] Words tested from the big dictionary: 91%
[Sat May 2 11:22:50 2020] Words tested from the big dictionary: 91%
[Sat May 2 11:22:50 2020] Words tested from the big dictionary: 91%
[Sat May 2 11:22:50 2020] Words tested from the big dictionary: 92%
[Sat May 2 11:22:50 2020] Words tested from the big dictionary: 92%
[Sat May 2 11:22:50 2020] Words tested from the big dictionary: 92%
[Sat May 2 11:22:50 2020] Words tested from the big dictionary: 92%
[Sat May 2 11:22:50 2020] Words tested from the big dictionary: 92%
[Sat May 2 11:22:50 2020] Words tested from the big dictionary: 92%
[Sat May 2 11:22:50 2020] Words tested from the big dictionary: 92%
[Sat May 2 11:22:50 2020] Words tested from the big dictionary: 92%
[Sat May 2 11:22:51 2020] Words tested from the big dictionary: 92%
[Sat May 2 11:22:51 2020] Words tested from the big dictionary: 92%
[Sat May 2 11:22:51 2020] Words tested from the big dictionary: 92%
[Sat May 2 11:22:51 2020] Words tested from the big dictionary: 93%
[Sat May 2 11:22:51 2020] Words tested from the big dictionary: 93%
[Sat May 2 11:22:51 2020] Words tested from the big dictionary: 93%
[Sat May 2 11:22:51 2020] Words tested from the big dictionary: 93%
[Sat May 2 11:22:51 2020] Words tested from the big dictionary: 93%
[Sat May 2 11:22:51 2020] Words tested from the big dictionary: 93%
[Sat May 2 11:22:51 2020] Words tested from the big dictionary: 93%
[Sat May 2 11:22:51 2020] Words tested from the big dictionary: 93%
[Sat May 2 11:22:51 2020] Words tested from the big dictionary: 93%
[Sat May 2 11:22:51 2020] Words tested from the big dictionary: 93%
[Sat May 2 11:22:51 2020] Words tested from the big dictionary: 93%
[Sat May 2 11:22:51 2020] Words tested from the big dictionary: 94%
[Sat May 2 11:22:51 2020] Words tested from the big dictionary: 94%
[Sat May 2 11:22:51 2020] Words tested from the big dictionary: 94%
[Sat May 2 11:22:51 2020] Words tested from the big dictionary: 94%
[Sat May 2 11:22:51 2020] Words tested from the big dictionary: 94%
[Sat May 2 11:22:51 2020] Words tested from the big dictionary: 94%
[Sat May 2 11:22:51 2020] Words tested from the big dictionary: 94%
[Sat May 2 11:22:51 2020] Words tested from the big dictionary: 94%
[Sat May 2 11:22:51 2020] Words tested from the big dictionary: 94%
[Sat May 2 11:22:51 2020] Words tested from the big dictionary: 94%
[Sat May 2 11:22:51 2020] Words tested from the big dictionary: 94%
[Sat May 2 11:22:51 2020] Words tested from the big dictionary: 95%
[Sat May 2 11:22:51 2020] Words tested from the big dictionary: 95%
[Sat May 2 11:22:51 2020] Words tested from the big dictionary: 95%
[Sat May 2 11:22:51 2020] Words tested from the big dictionary: 95%
[Sat May 2 11:22:51 2020] Words tested from the big dictionary: 95%
[Sat May 2 11:22:51 2020] Words tested from the big dictionary: 95%
[Sat May 2 11:22:52 2020] Words tested from the big dictionary: 95%
[Sat May 2 11:22:52 2020] Words tested from the big dictionary: 95%
[Sat May 2 11:22:52 2020] Words tested from the big dictionary: 95%
[Sat May 2 11:22:52 2020] Words tested from the big dictionary: 95%
[Sat May 2 11:22:52 2020] Words tested from the big dictionary: 95%
[Sat May 2 11:22:52 2020] Words tested from the big dictionary: 96%
[Sat May 2 11:22:52 2020] Words tested from the big dictionary: 96%
[Sat May 2 11:22:52 2020] Words tested from the big dictionary: 96%
[Sat May 2 11:22:52 2020] Words tested from the big dictionary: 96%
[Sat May 2 11:22:52 2020] Words tested from the big dictionary: 96%
[Sat May 2 11:22:52 2020] Words tested from the big dictionary: 96%
[Sat May 2 11:22:52 2020] Words tested from the big dictionary: 96%
[Sat May 2 11:22:52 2020] Words tested from the big dictionary: 96%
[Sat May 2 11:22:52 2020] Words tested from the big dictionary: 96%
[Sat May 2 11:22:52 2020] Words tested from the big dictionary: 96%
[Sat May 2 11:22:52 2020] Words tested from the big dictionary: 97%
[Sat May 2 11:22:52 2020] Words tested from the big dictionary: 97%
[Sat May 2 11:22:52 2020] Words tested from the big dictionary: 97%
[Sat May 2 11:22:52 2020] Words tested from the big dictionary: 97%
[Sat May 2 11:22:52 2020] Words tested from the big dictionary: 97%
[Sat May 2 11:22:52 2020] Words tested from the big dictionary: 97%
[Sat May 2 11:22:52 2020] Words tested from the big dictionary: 97%
[Sat May 2 11:22:52 2020] Words tested from the big dictionary: 97%
[Sat May 2 11:22:52 2020] Words tested from the big dictionary: 97%
[Sat May 2 11:22:52 2020] Words tested from the big dictionary: 97%
[Sat May 2 11:22:52 2020] Words tested from the big dictionary: 97%
[Sat May 2 11:22:52 2020] Words tested from the big dictionary: 98%
[Sat May 2 11:22:52 2020] Words tested from the big dictionary: 98%
[Sat May 2 11:22:52 2020] Words tested from the big dictionary: 98%
[Sat May 2 11:22:52 2020] Words tested from the big dictionary: 98%
[Sat May 2 11:22:52 2020] Words tested from the big dictionary: 98%
[Sat May 2 11:22:52 2020] Words tested from the big dictionary: 98%
[Sat May 2 11:22:53 2020] Words tested from the big dictionary: 98%
[Sat May 2 11:22:53 2020] Words tested from the big dictionary: 98%
[Sat May 2 11:22:53 2020] Words tested from the big dictionary: 98%
[Sat May 2 11:22:53 2020] Words tested from the big dictionary: 98%
[Sat May 2 11:22:53 2020] Words tested from the big dictionary: 98%
[Sat May 2 11:22:53 2020] Words tested from the big dictionary: 99%
[Sat May 2 11:22:53 2020] Words tested from the big dictionary: 99%
[Sat May 2 11:22:53 2020] Words tested from the big dictionary: 99%
[Sat May 2 11:22:53 2020] Words tested from the big dictionary: 99%
[Sat May 2 11:22:53 2020] Words tested from the big dictionary: 99%
[Sat May 2 11:22:53 2020] Words tested from the big dictionary: 99%
[Sat May 2 11:22:53 2020] Words tested from the big dictionary: 99%
[Sat May 2 11:22:53 2020] Words tested from the big dictionary: 99%
[Sat May 2 11:22:53 2020] Words tested from the big dictionary: 99%
[Sat May 2 11:22:53 2020] Words tested from the big dictionary: 99%
[Sat May 2 11:22:53 2020] Words tested from the big dictionary: 99%
t/to_latin1.t .................... ok
t/words_with_umlaut_and_szlig.t .. ok
All tests successful.
Files=6, Tests=209, 35 wallclock secs ( 0.00 usr 1.50 sys + 25.20 cusr 5.62 csys = 32.32 CPU)
Result: PASS
------------------------------
PREREQUISITES
------------------------------
Prerequisite modules loaded:
requires:
Module Need Have
------------------- ---- --------
Test::More 0 1.302175
build_requires:
Module Need Have
------------------- ---- --------
ExtUtils::MakeMaker 0 7.42
configure_requires:
Module Need Have
------------------- ---- --------
ExtUtils::MakeMaker 0 7.42
------------------------------
ENVIRONMENT AND OTHER CONTEXT
------------------------------
Environment variables:
LC_ALL = de_DE.ISO8859-1
PATH = /usr/local/bin:/usr/bin:/bin:/usr/local/sbin:/usr/sbin:/sbin:/home/cpansand/bin/freebsd10.3:/home/cpansand/bin/sh:/home/cpansand/bin:/usr/games:/home/cpansand/devel:/home/eserte/src/srezic-misc/scripts
PERL5LIB =
PERL5OPT =
PERL5_CPANPLUS_IS_RUNNING = 16763
PERL5_CPAN_IS_RUNNING = 16763
PERL5_CPAN_IS_RUNNING_IN_RECURSION = 10410,16763
PERLDOC = -MPod::Perldoc::ToTextOverstrike
PERL_BATCH = yes
PERL_CANARY_STABILITY_NOPROMPT = 1
PERL_CPAN_REPORTER_CONFIG = /var/tmp/cpansmoker-1023/2020050211/cpanreporter_000_config.ini
PERL_EXTUTILS_AUTOINSTALL = --defaultdeps
PERL_USE_UNSAFE_INC = 1
SHELL = /usr/local/bin/zsh
TERM = screen
TMPDIR = /var/tmp/cpansmoker-1023/2020050211
Perl special variables (and OS-specific diagnostics, for MSWin32):
$^X = /usr/perl5.24.1p/bin/perl5.24.1
$UID/$EUID = 1023 / 1023
$GID = 1023 1023
$EGID = 1023 1023
Perl module toolchain versions installed:
Module Have
------------------- --------
CPAN 2.27
CPAN::Meta 2.150010
Cwd 3.75
ExtUtils::CBuilder 0.280231
ExtUtils::Command 7.42
ExtUtils::Install 2.14
ExtUtils::MakeMaker 7.42
ExtUtils::Manifest 1.71
ExtUtils::ParseXS 3.35
File::Spec 3.75
JSON 4.02
JSON::PP 4.03
Module::Build 0.4229
Module::Signature 0.83
Parse::CPAN::Meta 2.150010
Test::Harness 3.42
Test::More 1.302175
YAML 1.29
YAML::Syck 1.31
version 0.9924
--
Summary of my perl5 (revision 5 version 24 subversion 1) configuration:
Platform:
osname=freebsd, osvers=10.1-release, archname=amd64-freebsd
uname='freebsd cvrsnica-freebsd-101.herceg.de 10.1-release freebsd 10.1-release #0 r274401: tue nov 11 21:02:49 utc 2014 root@releng1.nyi.freebsd.org:usrobjusrsrcsysgeneric amd64 '
config_args='-ds -e -Dprefix=/usr/perl5.24.1p -Dcf_email=srezic@cpan.org -Doptimize=-O2 -pipe'
hint=recommended, useposix=true, d_sigaction=define
useithreads=undef, usemultiplicity=undef
use64bitint=define, use64bitall=define, uselongdouble=undef
usemymalloc=n, bincompat5005=undef
Compiler:
cc='cc', ccflags ='-DHAS_FPSETMASK -DHAS_FLOATINGPOINT_H -fno-strict-aliasing -pipe -fstack-protector -I/usr/local/include -D_FORTIFY_SOURCE=2',
optimize='-O2 -pipe',
cppflags='-DHAS_FPSETMASK -DHAS_FLOATINGPOINT_H -fno-strict-aliasing -pipe -fstack-protector -I/usr/local/include'
ccversion='', gccversion='4.2.1 Compatible FreeBSD Clang 3.4.1 (tags/RELEASE_34/dot1-final 208032)', gccosandvers=''
intsize=4, longsize=8, ptrsize=8, doublesize=8, byteorder=12345678, doublekind=3
d_longlong=define, longlongsize=8, d_longdbl=define, longdblsize=16, longdblkind=3
ivtype='long', ivsize=8, nvtype='double', nvsize=8, Off_t='off_t', lseeksize=8
alignbytes=8, prototype=define
Linker and Libraries:
ld='cc', ldflags ='-pthread -Wl,-E -fstack-protector -L/usr/local/lib'
libpth=/usr/lib /usr/local/lib /usr/include/clang/3.4.1 /usr/lib
libs=-lpthread -lgdbm -lm -lcrypt -lutil -lc
perllibs=-lpthread -lm -lcrypt -lutil -lc
libc=, so=so, useshrplib=false, libperl=libperl.a
gnulibc_version=''
Dynamic Linking:
dlsrc=dl_dlopen.xs, dlext=so, d_dlsymun=undef, ccdlflags=' '
cccdlflags='-DPIC -fPIC', lddlflags='-shared -L/usr/local/lib -fstack-protector'
Characteristics of this binary (from libperl):
Compile-time options: HAS_TIMES PERLIO_LAYERS PERL_COPY_ON_WRITE
PERL_DONT_CREATE_GVSV
PERL_HASH_FUNC_ONE_AT_A_TIME_HARD PERL_MALLOC_WRAP
PERL_PRESERVE_IVUV USE_64_BIT_ALL USE_64_BIT_INT
USE_LARGE_FILES USE_LOCALE USE_LOCALE_COLLATE
USE_LOCALE_CTYPE USE_LOCALE_NUMERIC USE_LOCALE_TIME
USE_PERLIO USE_PERL_ATOF
Built under freebsd
Compiled at Jan 15 2017 11:45:26
%ENV:
PERL5LIB=""
PERL5OPT=""
PERL5_CPANPLUS_IS_RUNNING="16763"
PERL5_CPAN_IS_RUNNING="16763"
PERL5_CPAN_IS_RUNNING_IN_RECURSION="10410,16763"
PERLDOC="-MPod::Perldoc::ToTextOverstrike"
PERL_BATCH="yes"
PERL_CANARY_STABILITY_NOPROMPT="1"
PERL_CPAN_REPORTER_CONFIG="/var/tmp/cpansmoker-1023/2020050211/cpanreporter_000_config.ini"
PERL_EXTUTILS_AUTOINSTALL="--defaultdeps"
PERL_USE_UNSAFE_INC="1"
@INC:
/usr/perl5.24.1p/lib/site_perl/5.24.1/amd64-freebsd
/usr/perl5.24.1p/lib/site_perl/5.24.1
/usr/perl5.24.1p/lib/5.24.1/amd64-freebsd
/usr/perl5.24.1p/lib/5.24.1
.