Report for DBIx-DSN-Resolver-0.09

Back
From: metabase:user:019ce9d0-85a3-11e1-b7f2-1e88e517de85
Subject: PASS DBIx-DSN-Resolver-0.09 v5.14.3 GNU/Linux
Date: 2012-11-26T22:19:03Z

This distribution has been tested as part of the CPAN Testers
project, supporting the Perl programming language.  See
http://wiki.cpantesters.org/ for more information or email
questions to cpan-testers-discuss@perl.org


--
Dear Masahiro Nagano,

This is a computer-generated report for DBIx-DSN-Resolver-0.09
on perl 5.14.3, created by CPAN-Reporter-1.2006.

Thank you for uploading your work to CPAN.  Congratulations!
All tests were successful.

Sections of this report:

    * Tester comments
    * Program output
    * Prerequisites
    * Environment and other context

------------------------------
TESTER COMMENTS
------------------------------

Additional comments from tester:

this report is from an automated smoke testing program
and was not reviewed by a human for accuracy

------------------------------
PROGRAM OUTPUT
------------------------------

Output from '/usr/bin/make test':

PERL_DL_NONLAZY=1 /root/perl5/perlbrew/perls/perl-5.14.3/bin/perl "-MExtUtils::Command::MM" "-e" "test_harness(0, 'inc', 'blib/lib', 'blib/arch')" t/*.t
t/00_compile.t .. ok
t/02_basic.t .... ok
t/03_dsn.t ...... ok
All tests successful.
Files=3, Tests=18,  0 wallclock secs ( 0.02 usr  0.01 sys +  0.08 cusr  0.02 csys =  0.13 CPU)
Result: PASS

------------------------------
PREREQUISITES
------------------------------

Prerequisite modules loaded:

requires:

    Module              Need  Have 
    ------------------- ----- -----
    DBI                 1.616 1.622
    Socket              0     1.94 

build_requires:

    Module              Need  Have 
    ------------------- ----- -----
    ExtUtils::MakeMaker 6.36  6.62 
    Test::More          0     0.98 

configure_requires:

    Module              Need  Have 
    ------------------- ----- -----
    ExtUtils::MakeMaker 6.36  6.62 


------------------------------
ENVIRONMENT AND OTHER CONTEXT
------------------------------

Environment variables:

    AUTOMATED_TESTING = 1
    LANG = en_US.UTF-8
    PATH = /root/perl5/perlbrew/bin:/root/perl5/perlbrew/perls/perl-5.14.3/bin:/home/glens/.gem/ruby/1.9.1/bin:/home/glens/bin:~/bin:/home/glens/.gem/ruby/1.9.1/bin:/home/glens/bin:~/bin:/home/glens/.gem/ruby/1.9.1/bin:/home/glens/bin:~/bin:/usr/lib64/qt-3.3/bin:/usr/local/sbin:/usr/local/bin:/sbin:/bin:/usr/sbin:/usr/bin
    PERL5LIB = /root/.cpan/build/Cache-Memory-Simple-0.05-OHTiwt/blib/arch:/root/.cpan/build/Cache-Memory-Simple-0.05-OHTiwt/blib/lib:/root/.cpan/build/Test-Time-0.04-b0c0QW/blib/arch:/root/.cpan/build/Test-Time-0.04-b0c0QW/blib/lib:/root/.cpan/build/Test-Name-FromLine-0.08-afneR1/blib/arch:/root/.cpan/build/Test-Name-FromLine-0.08-afneR1/blib/lib:/root/.cpan/build/Test-Differences-0.61-QRviXf/blib/arch:/root/.cpan/build/Test-Differences-0.61-QRviXf/blib/lib:/root/.cpan/build/Text-Diff-1.41-2_iAau/blib/arch:/root/.cpan/build/Text-Diff-1.41-2_iAau/blib/lib:/root/.cpan/build/Algorithm-Diff-1.1902-Zw_n5z/blib/arch:/root/.cpan/build/Algorithm-Diff-1.1902-Zw_n5z/blib/lib:/root/.cpan/build/DBI-1.622-RghLgK/blib/arch:/root/.cpan/build/DBI-1.622-RghLgK/blib/lib:/root/.cpan/build/File-Slurp-9999.19-WYXfrT/blib/arch:/root/.cpan/build/File-Slurp-9999.19-WYXfrT/blib/lib:/root/.cpan/build/Test-Requires-0.06-nNSp36/blib/arch:/root/.cpan/build/Test-Requires-0.06-nNSp36/blib/lib
    PERL5OPT = 
    PERL5_CPANPLUS_IS_RUNNING = 17243
    PERL5_CPAN_IS_RUNNING = 17243
    PERL5_CPAN_IS_RUNNING_IN_RECURSION = 47396,17243
    PERLBREW_BASHRC_VERSION = 0.58
    PERLBREW_HOME = /root/.perlbrew
    PERLBREW_MANPATH = /root/perl5/perlbrew/perls/perl-5.14.3/man
    PERLBREW_PATH = /root/perl5/perlbrew/bin:/root/perl5/perlbrew/perls/perl-5.14.3/bin
    PERLBREW_PERL = perl-5.14.3
    PERLBREW_ROOT = /root/perl5/perlbrew
    PERLBREW_VERSION = 0.58
    PERL_CR_SMOKER_CURRENT = DBIx-DSN-Resolver-Cached-0.04
    PERL_EXTUTILS_AUTOINSTALL = --defaultdeps
    PERL_MM_USE_DEFAULT = 1
    SHELL = /bin/bash
    TERM = xterm

Perl special variables (and OS-specific diagnostics, for MSWin32):

    $^X = /root/perl5/perlbrew/perls/perl-5.14.3/bin/perl
    $UID/$EUID = 0 / 0
    $GID = 0 0 1 2 3 4 6 10
    $EGID = 0 0 1 2 3 4 6 10

Perl module toolchain versions installed:

    Module              Have     
    ------------------- ---------
    CPAN                1.9600_01
    CPAN::Meta          2.120921 
    Cwd                 3.36     
    ExtUtils::CBuilder  0.280203 
    ExtUtils::Command   1.17     
    ExtUtils::Install   1.56     
    ExtUtils::MakeMaker 6.62     
    ExtUtils::Manifest  1.58     
    ExtUtils::ParseXS   2.2210   
    File::Spec          3.33     
    JSON                2.53     
    JSON::PP            2.27200  
    Module::Build       0.3800   
    Module::Signature   n/a      
    Parse::CPAN::Meta   1.4404   
    Test::Harness       3.23     
    Test::More          0.98     
    YAML                0.84     
    YAML::Syck          n/a      
    version             0.88     


--

Summary of my perl5 (revision 5 version 14 subversion 3) configuration:
   
  Platform:
    osname=linux, osvers=2.6.32-279.11.1.el6.x86_64, archname=x86_64-linux
    uname='linux tlhdevvm 2.6.32-279.11.1.el6.x86_64 #1 smp tue oct 16 15:57:10 utc 2012 x86_64 x86_64 x86_64 gnulinux '
    config_args='-de -Dprefix=/root/perl5/perlbrew/perls/perl-5.14.3 -Aeval:scriptdir=/root/perl5/perlbrew/perls/perl-5.14.3/bin'
    hint=recommended, useposix=true, d_sigaction=define
    useithreads=undef, usemultiplicity=undef
    useperlio=define, d_sfio=undef, uselargefiles=define, usesocks=undef
    use64bitint=define, use64bitall=define, uselongdouble=undef
    usemymalloc=n, bincompat5005=undef
  Compiler:
    cc='cc', ccflags ='-fno-strict-aliasing -pipe -fstack-protector -I/usr/local/include -D_LARGEFILE_SOURCE -D_FILE_OFFSET_BITS=64',
    optimize='-O2',
    cppflags='-fno-strict-aliasing -pipe -fstack-protector -I/usr/local/include'
    ccversion='', gccversion='4.4.6 20120305 (Red Hat 4.4.6-4)', gccosandvers=''
    intsize=4, longsize=8, ptrsize=8, doublesize=8, byteorder=12345678
    d_longlong=define, longlongsize=8, d_longdbl=define, longdblsize=16
    ivtype='long', ivsize=8, nvtype='double', nvsize=8, Off_t='off_t', lseeksize=8
    alignbytes=8, prototype=define
  Linker and Libraries:
    ld='cc', ldflags =' -fstack-protector -L/usr/local/lib'
    libpth=/usr/local/lib /lib/../lib64 /usr/lib/../lib64 /lib /usr/lib /lib64 /usr/lib64 /usr/local/lib64
    libs=-lnsl -ldb -ldl -lm -lcrypt -lutil -lc
    perllibs=-lnsl -ldl -lm -lcrypt -lutil -lc
    libc=, so=so, useshrplib=false, libperl=libperl.a
    gnulibc_version='2.12'
  Dynamic Linking:
    dlsrc=dl_dlopen.xs, dlext=so, d_dlsymun=undef, ccdlflags='-Wl,-E'
    cccdlflags='-fPIC', lddlflags='-shared -O2 -L/usr/local/lib -fstack-protector'


Characteristics of this binary (from libperl): 
  Compile-time options: PERL_DONT_CREATE_GVSV PERL_MALLOC_WRAP
                        PERL_PRESERVE_IVUV USE_64_BIT_ALL USE_64_BIT_INT
                        USE_LARGE_FILES USE_PERLIO USE_PERL_ATOF
  Built under linux
  Compiled at Nov 16 2012 10:48:07
  %ENV:
    PERL5LIB="/root/.cpan/build/Cache-Memory-Simple-0.05-OHTiwt/blib/arch:/root/.cpan/build/Cache-Memory-Simple-0.05-OHTiwt/blib/lib:/root/.cpan/build/Test-Time-0.04-b0c0QW/blib/arch:/root/.cpan/build/Test-Time-0.04-b0c0QW/blib/lib:/root/.cpan/build/Test-Name-FromLine-0.08-afneR1/blib/arch:/root/.cpan/build/Test-Name-FromLine-0.08-afneR1/blib/lib:/root/.cpan/build/Test-Differences-0.61-QRviXf/blib/arch:/root/.cpan/build/Test-Differences-0.61-QRviXf/blib/lib:/root/.cpan/build/Text-Diff-1.41-2_iAau/blib/arch:/root/.cpan/build/Text-Diff-1.41-2_iAau/blib/lib:/root/.cpan/build/Algorithm-Diff-1.1902-Zw_n5z/blib/arch:/root/.cpan/build/Algorithm-Diff-1.1902-Zw_n5z/blib/lib:/root/.cpan/build/DBI-1.622-RghLgK/blib/arch:/root/.cpan/build/DBI-1.622-RghLgK/blib/lib:/root/.cpan/build/File-Slurp-9999.19-WYXfrT/blib/arch:/root/.cpan/build/File-Slurp-9999.19-WYXfrT/blib/lib:/root/.cpan/build/Test-Requires-0.06-nNSp36/blib/arch:/root/.cpan/build/Test-Requires-0.06-nNSp36/blib/lib"
    PERL5OPT=""
    PERL5_CPANPLUS_IS_RUNNING="17243"
    PERL5_CPAN_IS_RUNNING="17243"
    PERL5_CPAN_IS_RUNNING_IN_RECURSION="47396,17243"
    PERLBREW_BASHRC_VERSION="0.58"
    PERLBREW_HOME="/root/.perlbrew"
    PERLBREW_MANPATH="/root/perl5/perlbrew/perls/perl-5.14.3/man"
    PERLBREW_PATH="/root/perl5/perlbrew/bin:/root/perl5/perlbrew/perls/perl-5.14.3/bin"
    PERLBREW_PERL="perl-5.14.3"
    PERLBREW_ROOT="/root/perl5/perlbrew"
    PERLBREW_VERSION="0.58"
    PERL_CR_SMOKER_CURRENT="DBIx-DSN-Resolver-Cached-0.04"
    PERL_EXTUTILS_AUTOINSTALL="--defaultdeps"
    PERL_MM_USE_DEFAULT="1"
  @INC:
    /root/.cpan/build/Cache-Memory-Simple-0.05-OHTiwt/blib/arch
    /root/.cpan/build/Cache-Memory-Simple-0.05-OHTiwt/blib/lib
    /root/.cpan/build/Test-Time-0.04-b0c0QW/blib/arch
    /root/.cpan/build/Test-Time-0.04-b0c0QW/blib/lib
    /root/.cpan/build/Test-Name-FromLine-0.08-afneR1/blib/arch
    /root/.cpan/build/Test-Name-FromLine-0.08-afneR1/blib/lib
    /root/.cpan/build/Test-Differences-0.61-QRviXf/blib/arch
    /root/.cpan/build/Test-Differences-0.61-QRviXf/blib/lib
    /root/.cpan/build/Text-Diff-1.41-2_iAau/blib/arch
    /root/.cpan/build/Text-Diff-1.41-2_iAau/blib/lib
    /root/.cpan/build/Algorithm-Diff-1.1902-Zw_n5z/blib/arch
    /root/.cpan/build/Algorithm-Diff-1.1902-Zw_n5z/blib/lib
    /root/.cpan/build/DBI-1.622-RghLgK/blib/arch
    /root/.cpan/build/DBI-1.622-RghLgK/blib/lib
    /root/.cpan/build/File-Slurp-9999.19-WYXfrT/blib/arch
    /root/.cpan/build/File-Slurp-9999.19-WYXfrT/blib/lib
    /root/.cpan/build/Test-Requires-0.06-nNSp36/blib/arch
    /root/.cpan/build/Test-Requires-0.06-nNSp36/blib/lib
    /root/perl5/perlbrew/perls/perl-5.14.3/lib/site_perl/5.14.3/x86_64-linux
    /root/perl5/perlbrew/perls/perl-5.14.3/lib/site_perl/5.14.3
    /root/perl5/perlbrew/perls/perl-5.14.3/lib/5.14.3/x86_64-linux
    /root/perl5/perlbrew/perls/perl-5.14.3/lib/5.14.3
    .