Report for Dependencies-Searcher-0.066_005

Back
From: metabase:user:320bfe00-2aae-11df-837a-5e0a49663a4f
Subject: PASS Dependencies-Searcher-0.066_005 v5.14.2 GNU/Linux
Date: 2016-05-18T12:30:19Z

This distribution has been tested as part of the CPAN Testers
project, supporting the Perl programming language.  See
http://wiki.cpantesters.org/ for more information or email
questions to cpan-testers-discuss@perl.org


--
Dear Sebastien Feugere,

This is a computer-generated report for Dependencies-Searcher-0.066_005
on perl 5.14.2, created by CPAN-Reporter-1.2017.

Thank you for uploading your work to CPAN.  Congratulations!
All tests were successful.

Sections of this report:

    * Tester comments
    * Program output
    * Prerequisites
    * Environment and other context

------------------------------
TESTER COMMENTS
------------------------------

Additional comments from tester:

this report is from an automated smoke testing program
and was not reviewed by a human for accuracy

------------------------------
PROGRAM OUTPUT
------------------------------

Output from '/usr/bin/make test':

PERL_DL_NONLAZY=1 "/home/sand/src/perl/repoperls/installed-perls/perl/v5.14.2/109d/bin/perl" "-MExtUtils::Command::MM" "-MTest::Harness" "-e" "undef *Test::Harness::Switches; test_harness(0, 'blib/lib', 'blib/arch')" t/*.t
# Testing Dependencies::Searcher 0.066_005, Perl 5.014002, /home/sand/src/perl/repoperls/installed-perls/perl/v5.14.2/109d/bin/perl
t/00-load.t ............... ok
t/01_corelist.t ........... ok
t/02_get_files.t .......... ok
[
    [0]  "use 5.010;",
    [1]  "use Data::Printer;",
    [2]  "use feature qw(say);",
    [3]  "use Module::CoreList;",
    [4]  "use Module::Version 'get_version';",
    [5]  "use autodie;",
    [6]  "use Moose;",
    [7]  "use IO::File;  ",
    [8]  "use File::HomeDir;",
    [9]  "use Version::Compare;",
    [10] "use Path::Class;",
    [11] "use ExtUtils::Installed;",
    [12] "use File::Next;",
    [13] "use PPI;",
    [14] "use Term::ANSIColor;",
    [15] "use \s",
    [16] "use 5.010;",
    [17] "use strict;",
    [18] "use warnings FATAL => 'all';",
    [19] "use ExtUtils::MakeMaker;"
]
t/03-get_modules.t ........ ok
t/04-avoid-superfluous.t .. ok
t/05-regex-cleaner.t ...... ok
[
    [0]  "use 5.010;",
    [1]  "use Data::Printer;",
    [2]  "use feature qw(say);",
    [3]  "use Module::CoreList;",
    [4]  "use Module::Version 'get_version';",
    [5]  "use autodie;",
    [6]  "use Moose;",
    [7]  "use IO::File;  ",
    [8]  "use File::HomeDir;",
    [9]  "use Version::Compare;",
    [10] "use Path::Class;",
    [11] "use ExtUtils::Installed;",
    [12] "use File::Next;",
    [13] "use PPI;",
    [14] "use Term::ANSIColor;",
    [15] "use \s",
    [16] "use 5.010;",
    [17] "use strict;",
    [18] "use warnings FATAL => 'all';",
    [19] "use ExtUtils::MakeMaker;"
]
[]
t/06-regex-pattern.t ...... ok
t/10-cpanfile.t ........... ok
t/manifest.t .............. skipped: Author tests not required for installation
t/pod-coverage.t .......... ok
t/pod.t ................... ok
All tests successful.
Files=11, Tests=372, 11 wallclock secs ( 0.08 usr  0.06 sys +  5.20 cusr  0.78 csys =  6.12 CPU)
Result: PASS

------------------------------
PREREQUISITES
------------------------------

Prerequisite modules loaded:

requires:

    Module              Need       Have      
    ------------------- ---------- ----------
    Data::Printer       0.35       0.38      
    File::HomeDir       1          1.00      
    File::Next          1.12       1.12      
    Module::CoreList    5.20160429 5.20160429
    Module::Version     0.12       0.12      
    Moose               2.0602     2.1801    
    Path::Class         0.32       0.36      
    perl                5.010      5.014002  
    PPI                 1.22       1.221_01  
    Version::Compare    0.14       0.14      

build_requires:

    Module              Need       Have      
    ------------------- ---------- ----------
    IO::File            0          1.16      
    Module::Version     0.12       0.12      
    Test::More          0          1.302017  
    Test::Pod           1.48       1.51      
    Test::Pod::Coverage 1.08       1.10      

configure_requires:

    Module              Need       Have      
    ------------------- ---------- ----------
    ExtUtils::MakeMaker 6.74       7.17_03   


------------------------------
ENVIRONMENT AND OTHER CONTEXT
------------------------------

Environment variables:

    AUTOMATED_TESTING = 1
    LANG = en_US.UTF-8
    LANGUAGE = en_US:en
    PATH = /usr/lib/ccache:/home/sand/bin:/usr/local/bin:/usr/bin:/bin:/usr/games:/usr/local/perl/bin:/usr/X11/bin:/sbin:/usr/sbin
    PERL5LIB = 
    PERL5OPT = 
    PERL5_CPANPLUS_IS_RUNNING = 22027
    PERL5_CPAN_IS_RUNNING = 22027
    PERL_CANARY_STABILITY_NOPROMPT = 1
    PERL_MM_USE_DEFAULT = 1
    SHELL = /usr/bin/zsh
    TERM = screen

Perl special variables (and OS-specific diagnostics, for MSWin32):

    $^X = /home/sand/src/perl/repoperls/installed-perls/perl/v5.14.2/109d/bin/perl
    $UID/$EUID = 1005 / 1005
    $GID = 1005 1005
    $EGID = 1005 1005

Perl module toolchain versions installed:

    Module              Have    
    ------------------- --------
    CPAN                2.13    
    CPAN::Meta          2.150005
    Cwd                 3.62    
    ExtUtils::CBuilder  0.280224
    ExtUtils::Command   7.17_03 
    ExtUtils::Install   2.04    
    ExtUtils::MakeMaker 7.17_03 
    ExtUtils::Manifest  1.70    
    ExtUtils::ParseXS   3.30    
    File::Spec          3.62    
    JSON                2.90    
    JSON::PP            2.27400 
    Module::Build       0.4218  
    Module::Signature   0.79    
    Parse::CPAN::Meta   1.4419  
    Test::Harness       3.36    
    Test::More          1.302017
    YAML                1.15    
    YAML::Syck          1.29    
    version             0.9916  


--

Summary of my perl5 (revision 5 version 14 subversion 2) configuration:
  Derived from: dc281e6088d189558b79a5121119b7196c8b3db0
  Platform:
    osname=linux, osvers=4.3.0-1-amd64, archname=x86_64-linux-thread-multi-ld
    uname='linux k83 4.3.0-1-amd64 #1 smp debian 4.3.3-7 (2016-01-19) x86_64 gnulinux '
    config_args='-Dprefix=/home/sand/src/perl/repoperls/installed-perls/perl/v5.14.2/109d -Dmyhostname=k83 -Dinstallusrbinperl=n -Uversiononly -Dusedevel -des -Ui_db -Dlibswanted=cl pthread socket inet nsl gdbm dbm malloc dl ld sun m crypt sec util c cposix posix ucb BSD gdbm_compat -Duseithreads -Duselongdouble -DDEBUGGING=-g'
    hint=recommended, useposix=true, d_sigaction=define
    useithreads=define, usemultiplicity=define
    useperlio=define, d_sfio=undef, uselargefiles=define, usesocks=undef
    use64bitint=define, use64bitall=define, uselongdouble=define
    usemymalloc=n, bincompat5005=undef
  Compiler:
    cc='cc', ccflags ='-D_REENTRANT -D_GNU_SOURCE -fno-strict-aliasing -pipe -fstack-protector -I/usr/local/include -D_LARGEFILE_SOURCE -D_FILE_OFFSET_BITS=64',
    optimize='-O2 -g',
    cppflags='-D_REENTRANT -D_GNU_SOURCE -fno-strict-aliasing -pipe -fstack-protector -I/usr/local/include'
    ccversion='', gccversion='5.3.1 20160121', gccosandvers=''
    intsize=4, longsize=8, ptrsize=8, doublesize=8, byteorder=12345678
    d_longlong=define, longlongsize=8, d_longdbl=define, longdblsize=16
    ivtype='long', ivsize=8, nvtype='long double', nvsize=16, Off_t='off_t', lseeksize=8
    alignbytes=16, prototype=define
  Linker and Libraries:
    ld='cc', ldflags =' -fstack-protector -L/usr/local/lib'
    libpth=/usr/local/lib /lib/x86_64-linux-gnu /lib/../lib /usr/lib/x86_64-linux-gnu /usr/lib/../lib /lib /usr/lib
    libs=-lpthread -lnsl -lgdbm -ldl -lm -lcrypt -lutil -lc -lgdbm_compat
    perllibs=-lpthread -lnsl -ldl -lm -lcrypt -lutil -lc
    libc=libc-2.21.so, so=so, useshrplib=false, libperl=libperl.a
    gnulibc_version='2.21'
  Dynamic Linking:
    dlsrc=dl_dlopen.xs, dlext=so, d_dlsymun=undef, ccdlflags='-Wl,-E'
    cccdlflags='-fPIC', lddlflags='-shared -O2 -g -L/usr/local/lib -fstack-protector'


Characteristics of this binary (from libperl): 
  Compile-time options: MULTIPLICITY PERL_DONT_CREATE_GVSV
                        PERL_IMPLICIT_CONTEXT PERL_MALLOC_WRAP
                        PERL_PRESERVE_IVUV PERL_USE_DEVEL USE_64_BIT_ALL
                        USE_64_BIT_INT USE_ITHREADS USE_LARGE_FILES
                        USE_LONG_DOUBLE USE_PERLIO USE_PERL_ATOF
                        USE_REENTRANT_API
  Locally applied patches:
	uncommitted-changes
	Devel::PatchPerl 1.40
  Built under linux
  Compiled at Feb 23 2016 13:41:17
  %ENV:
    PERL5LIB=""
    PERL5OPT=""
    PERL5_CPANPLUS_IS_RUNNING="22027"
    PERL5_CPAN_IS_RUNNING="22027"
    PERL_CANARY_STABILITY_NOPROMPT="1"
    PERL_MM_USE_DEFAULT="1"
  @INC:
    /home/sand/src/perl/repoperls/installed-perls/perl/v5.14.2/109d/lib/site_perl/5.14.2/x86_64-linux-thread-multi-ld
    /home/sand/src/perl/repoperls/installed-perls/perl/v5.14.2/109d/lib/site_perl/5.14.2
    /home/sand/src/perl/repoperls/installed-perls/perl/v5.14.2/109d/lib/5.14.2/x86_64-linux-thread-multi-ld
    /home/sand/src/perl/repoperls/installed-perls/perl/v5.14.2/109d/lib/5.14.2
    .