Report for Crypt-Passwd-XS-0.601

Back
From: metabase:user:323dcade-2aae-11df-837a-5e0a49663a4f
Subject: PASS Crypt-Passwd-XS-0.601 v5.20.1 Mac OS X
Date: 2014-11-25T15:32:37Z

This distribution has been tested as part of the CPAN Testers
project, supporting the Perl programming language.  See
http://wiki.cpantesters.org/ for more information or email
questions to cpan-testers-discuss@perl.org


--
Dear cPanel Inc.,

This is a computer-generated report for Crypt-Passwd-XS-0.601
on perl 5.20.1, created by CPAN-Reporter-1.2011.

Thank you for uploading your work to CPAN.  Congratulations!
All tests were successful.

Sections of this report:

    * Tester comments
    * Program output
    * Prerequisites
    * Environment and other context

------------------------------
TESTER COMMENTS
------------------------------

Additional comments from tester:

this report is from an automated smoke testing program
and was not reviewed by a human for accuracy

------------------------------
PROGRAM OUTPUT
------------------------------

Output from '/usr/bin/make test':

Running Mkbootstrap for Crypt::Passwd::XS ()
chmod 644 "XS.bs"
PERL_DL_NONLAZY=1 "/usr/local/bin/perl5.20.1-nt" "-MExtUtils::Command::MM" "-MTest::Harness" "-e" "undef *Test::Harness::Switches; test_harness(0, 'blib/lib', 'blib/arch')" t/*.t
t/00_module_load.t .. ok
t/01_md5.t .......... ok
t/02_des.t .......... ok
t/03_sha256.t ....... ok
t/04_sha512.t ....... ok
t/05_combined.t ..... ok
t/06_apr.t .......... ok
All tests successful.
Files=7, Tests=76,  1 wallclock secs ( 0.04 usr  0.02 sys +  1.23 cusr  0.03 csys =  1.32 CPU)
Result: PASS

------------------------------
PREREQUISITES
------------------------------

Prerequisite modules loaded:

requires:

    Module              Need Have    
    ------------------- ---- --------
    Test::More          0    1.001009

build_requires:

    Module              Need Have    
    ------------------- ---- --------
    ExtUtils::MakeMaker 0    7.02    

configure_requires:

    Module              Need Have    
    ------------------- ---- --------
    ExtUtils::MakeMaker 0    7.02    


------------------------------
ENVIRONMENT AND OTHER CONTEXT
------------------------------

Environment variables:

    AUTOMATED_TESTING = 1
    LANG = en_US.UTF-8
    LC_CTYPE = en_US.UTF-8
    PATH = /opt/local/libexec/gnubin:/opt/local/bin:/opt/local/sbin:/usr/bin:/bin:/usr/sbin:/sbin:/usr/local/bin:/opt/X11/bin:/Users/rurban/bin:/opt/local/libexec/perl5.12/sitebin
    PERL5LIB = 
    PERL5OPT = 
    PERL5_CPANPLUS_IS_RUNNING = 99030
    PERL5_CPAN_IS_RUNNING = 99030
    PERL_MM_USE_DEFAULT = 1
    SHELL = /opt/local/bin/bash
    TERM = xterm-256color
    TMPDIR = /var/folders/xq/fct1ky9d3n95wp7z1zhh0m9w0000gn/T/

Perl special variables (and OS-specific diagnostics, for MSWin32):

    $^X = /usr/local/bin/perl5.20.1-nt
    $UID/$EUID = 501 / 501
    $GID = 20 20 402 401 12 33 61 79 80 81 98 100 204
    $EGID = 20 20 402 401 12 33 61 79 80 81 98 100 204

Perl module toolchain versions installed:

    Module              Have    
    ------------------- --------
    CPAN                2.05    
    CPAN::Meta          2.143240
    Cwd                 3.48    
    ExtUtils::CBuilder  0.280220
    ExtUtils::Command   1.18    
    ExtUtils::Install   2.04    
    ExtUtils::MakeMaker 7.02    
    ExtUtils::Manifest  1.69    
    ExtUtils::ParseXS   3.24    
    File::Spec          3.48    
    JSON                2.90    
    JSON::PP            2.27203 
    Module::Build       0.4210  
    Module::Signature   0.73    
    Parse::CPAN::Meta   1.4414  
    Test::Harness       3.34    
    Test::More          1.001009
    YAML                1.13    
    YAML::Syck          1.27    
    version             0.9909  


--

Summary of my perl5 (revision 5 version 20 subversion 1) configuration:
   
  Platform:
    osname=darwin, osvers=12.5.0, archname=darwin-2level
    uname='darwin air2 12.5.0 darwin kernel version 12.5.0: sun sep 29 13:33:47 pdt 2013; root:xnu-2050.48.12~1release_x86_64 x86_64 i386 macbookair5,2 darwin '
    config_args='-de -Dusedevel -Uversiononly -Dinstallman1dir=none -Dinstallman3dir=none -Dinstallsiteman1dir=none -Dinstallsiteman3dir=none -Uuseithreads -Dcc=''gcc-mp-4.9'' -Dld=''gcc-mp-4.9'' -Accflags=''-m64'' -Accflags=''-mssse3'' -Duseshrplib'
    hint=recommended, useposix=true, d_sigaction=define
    useithreads=undef, usemultiplicity=undef
    use64bitint=define, use64bitall=define, uselongdouble=undef
    usemymalloc=n, bincompat5005=undef
  Compiler:
    cc='gcc-mp-4.9', ccflags ='-fno-common -DPERL_DARWIN -m64 -mssse3 -fwrapv -fno-strict-aliasing -pipe -fstack-protector -I/usr/local/include -I/opt/local/include',
    optimize='-O3',
    cppflags='-fno-common -DPERL_DARWIN -m64 -mssse3 -fwrapv -fno-strict-aliasing -pipe -fstack-protector -I/usr/local/include -I/opt/local/include'
    ccversion='', gccversion='4.5.4', gccosandvers=''
    intsize=4, longsize=8, ptrsize=8, doublesize=8, byteorder=12345678
    d_longlong=define, longlongsize=8, d_longdbl=define, longdblsize=16
    ivtype='long', ivsize=8, nvtype='double', nvsize=8, Off_t='off_t', lseeksize=8
    alignbytes=8, prototype=define
  Linker and Libraries:
    ld='gcc-mp-4.9', ldflags =' -fstack-protector -L/opt/local/lib -L/usr/local/lib'
    libpth=/opt/local/lib /opt/local/lib/gcc45/gcc/x86_64-apple-darwin12/4.5.4/include-fixed /usr/lib /usr/local/lib
    libs=-lgdbm -ldbm -ldl -lm -lutil -lc
    perllibs=-ldl -lm -lutil -lc
    libc=, so=dylib, useshrplib=true, libperl=libperl.dylib
    gnulibc_version=''
  Dynamic Linking:
    dlsrc=dl_dlopen.xs, dlext=bundle, d_dlsymun=undef, ccdlflags=' '
    cccdlflags=' ', lddlflags=' -bundle -undefined dynamic_lookup -L/opt/local/lib -L/usr/local/lib -fstack-protector'


Characteristics of this binary (from libperl): 
  Compile-time options: HAS_TIMES PERLIO_LAYERS PERL_DONT_CREATE_GVSV
                        PERL_HASH_FUNC_ONE_AT_A_TIME_HARD PERL_MALLOC_WRAP
                        PERL_NEW_COPY_ON_WRITE PERL_PRESERVE_IVUV
                        PERL_USE_DEVEL USE_64_BIT_ALL USE_64_BIT_INT
                        USE_LARGE_FILES USE_LOCALE USE_LOCALE_COLLATE
                        USE_LOCALE_CTYPE USE_LOCALE_NUMERIC USE_PERLIO
                        USE_PERL_ATOF
  Built under darwin
  Compiled at Nov  6 2014 12:23:54
  %ENV:
    PERL5LIB=""
    PERL5OPT=""
    PERL5_CPANPLUS_IS_RUNNING="99030"
    PERL5_CPAN_IS_RUNNING="99030"
    PERL_MM_USE_DEFAULT="1"
  @INC:
    /usr/local/lib/perl5/site_perl/5.20.1/darwin-2level
    /usr/local/lib/perl5/site_perl/5.20.1
    /usr/local/lib/perl5/5.20.1/darwin-2level
    /usr/local/lib/perl5/5.20.1
    /usr/local/lib/perl5/site_perl/5.17.11
    /usr/local/lib/perl5/site_perl/5.17.10
    /usr/local/lib/perl5/site_perl/5.17.8
    /usr/local/lib/perl5/site_perl/5.17.7
    /usr/local/lib/perl5/site_perl/5.17.6
    /usr/local/lib/perl5/site_perl/5.17.5
    /usr/local/lib/perl5/site_perl/5.16.3
    /usr/local/lib/perl5/site_perl/5.16.2
    /usr/local/lib/perl5/site_perl/5.16.1
    /usr/local/lib/perl5/site_perl/5.15.8
    /usr/local/lib/perl5/site_perl/5.15.7
    /usr/local/lib/perl5/site_perl/5.15.6
    /usr/local/lib/perl5/site_perl/5.15.5
    /usr/local/lib/perl5/site_perl/5.15.4
    /usr/local/lib/perl5/site_perl/5.15.3
    /usr/local/lib/perl5/site_perl/5.15.2
    /usr/local/lib/perl5/site_perl/5.15.1
    /usr/local/lib/perl5/site_perl/5.15.0
    /usr/local/lib/perl5/site_perl/5.14.3
    /usr/local/lib/perl5/site_perl/5.14.2
    /usr/local/lib/perl5/site_perl/5.14.1
    /usr/local/lib/perl5/site_perl/5.14.0
    /usr/local/lib/perl5/site_perl/5.12.4
    /usr/local/lib/perl5/site_perl/5.10.1
    /usr/local/lib/perl5/site_perl/5.8.9
    /usr/local/lib/perl5/site_perl/5.8.8
    /usr/local/lib/perl5/site_perl/5.8.5
    /usr/local/lib/perl5/site_perl/5.8.4
    /usr/local/lib/perl5/site_perl/5.6.2
    /usr/local/lib/perl5/site_perl
    .