Mojo-UserAgent-Mockable v1.59 Perl 5 v5.22.0 amd64-freebsd

Status
Pass
From
Slaven Rezić
Dist
Mojo-UserAgent-Mockable v1.59
Platform
Perl 5 v5.22.0 amd64-freebsd
Date
2022-04-23 00:14:04
ID
48d2c9fc-c29a-11ec-a10a-3a6a1f24ea8f
This distribution has been tested as part of the CPAN Testers
project, supporting the Perl programming language.  See
http://wiki.cpantesters.org/ for more information or email
questions to cpan-testers-discuss@perl.org


--
Dear Kit Peters,

This is a computer-generated report for Mojo-UserAgent-Mockable-1.59
on perl 5.22.0, created by CPAN-Reporter-1.2018.

Thank you for uploading your work to CPAN.  Congratulations!
All tests were successful.

Sections of this report:

    * Tester comments
    * Program output
    * Prerequisites
    * Environment and other context

------------------------------
TESTER COMMENTS
------------------------------

Additional comments from tester:

none provided

------------------------------
PROGRAM OUTPUT
------------------------------

Output from '/usr/bin/make test':

PERL_DL_NONLAZY=1 "/usr/perl5.22.0p/bin/perl" "-MExtUtils::Command::MM" "-MTest::Harness" "-e" "undef *Test::Harness::Switches; test_harness(0, 'blib/lib', 'blib/arch')" t/*.t t/request_compare/*.t t/serializer/*.t
t/00-use.t ................................ ok
t/author-critic.t ......................... skipped: these tests are for testing by the author
t/author-pod-coverage.t ................... skipped: these tests are for testing by the author
t/author-pod-syntax.t ..................... skipped: these tests are for testing by the author
t/authorization_basic.t ................... ok
t/basic.t ................................. ok
Devel::Hide hides JSON/XS.pm
t/canonicalize_portably_Cpanel-JSON-XS.t .. ok
Devel::Hide hides Cpanel/JSON/XS.pm, JSON/XS.pm
t/canonicalize_portably_JSON-PP.t ......... ok
Devel::Hide hides Cpanel/JSON/XS.pm
t/canonicalize_portably_JSON-XS.t ......... ok
t/mojo_url.t .............................. ok
t/mojolicious_lite.t ...................... ok
t/normalized_req.t ........................ ok
[2022-04-23 02:11:34.44585] [42514] [trace] [WJbKlB1x2DEj] GET "/thingy"
[2022-04-23 02:11:34.44627] [42514] [trace] [WJbKlB1x2DEj] Routing to a callback
[2022-04-23 02:11:34.44666] [42514] [trace] [WJbKlB1x2DEj] 200 OK (0.000803s, 1245.330/s)
[2022-04-23 02:11:34.45078] [42514] [trace] [tRVqy8p7u2oP] GET "/thingy"
[2022-04-23 02:11:34.45115] [42514] [trace] [tRVqy8p7u2oP] Routing to a callback
[2022-04-23 02:11:34.45146] [42514] [trace] [tRVqy8p7u2oP] 200 OK (0.000705s, 1418.440/s)
t/passthrough.t ........................... ok
t/passthrough_nonblocking.t ............... skipped: Museum API not responding properly
t/record.t ................................ skipped: Museum API not responding properly
t/record_nonblocking.t .................... skipped: Museum API not responing properly
t/record_playback.t ....................... ok
[2022-04-23 02:12:22.72951] [42519] [trace] [izrnN1Q9tBTy] GET "/integers/"
[2022-04-23 02:12:22.72987] [42519] [trace] [izrnN1Q9tBTy] Routing to a callback
[2022-04-23 02:12:22.73022] [42519] [trace] [izrnN1Q9tBTy] 200 OK (0.000714s, 1400.560/s)
[2022-04-23 02:12:22.73430] [42519] [trace] [pgDss6lds-Xl] GET "/integers/"
[2022-04-23 02:12:22.73455] [42519] [trace] [pgDss6lds-Xl] Routing to a callback
[2022-04-23 02:12:22.73482] [42519] [trace] [pgDss6lds-Xl] 200 OK (0.000535s, 1869.159/s)
[2022-04-23 02:12:22.73832] [42519] [trace] [4ouDPJ1cz1NH] GET "/integers/"
[2022-04-23 02:12:22.73851] [42519] [trace] [4ouDPJ1cz1NH] Routing to a callback
[2022-04-23 02:12:22.73873] [42519] [trace] [4ouDPJ1cz1NH] 200 OK (0.000397s, 2518.892/s)
[2022-04-23 02:12:22.74179] [42519] [trace] [QAlCxMnRSA-4] GET "/integers/"
[2022-04-23 02:12:22.74198] [42519] [trace] [QAlCxMnRSA-4] Routing to a callback
[2022-04-23 02:12:22.74221] [42519] [trace] [QAlCxMnRSA-4] 200 OK (0.000418s, 2392.344/s)
[2022-04-23 02:12:22.74577] [42519] [trace] [Mk_PisEY-9K2] GET "/integers/"
[2022-04-23 02:12:22.74597] [42519] [trace] [Mk_PisEY-9K2] Routing to a callback
[2022-04-23 02:12:22.74623] [42519] [trace] [Mk_PisEY-9K2] 200 OK (0.000444s, 2252.252/s)
[2022-04-23 02:12:22.74980] [42519] [trace] [D2orhEatR0M5] GET "/integers/"
[2022-04-23 02:12:22.74999] [42519] [trace] [D2orhEatR0M5] Routing to a callback
[2022-04-23 02:12:22.75027] [42519] [trace] [D2orhEatR0M5] 200 OK (0.000458s, 2183.406/s)
[2022-04-23 02:12:22.75280] [42519] [trace] [x3YWY1wAgzAC] GET "/integers/"
[2022-04-23 02:12:22.75299] [42519] [trace] [x3YWY1wAgzAC] Routing to a callback
[2022-04-23 02:12:22.75323] [42519] [trace] [x3YWY1wAgzAC] 200 OK (0.000405s, 2469.136/s)
[2022-04-23 02:12:22.75677] [42519] [trace] [raDqHlbaiESN] GET "/integers/"
[2022-04-23 02:12:22.75696] [42519] [trace] [raDqHlbaiESN] Routing to a callback
[2022-04-23 02:12:22.75721] [42519] [trace] [raDqHlbaiESN] 200 OK (0.000425s, 2352.941/s)
[2022-04-23 02:12:22.76121] [42519] [trace] [cy7dInNEI_Q5] GET "/integers/"
[2022-04-23 02:12:22.76127] [42519] [trace] [cy7dInNEI_Q5] Routing to a callback
[2022-04-23 02:12:22.76159] [42519] [trace] [cy7dInNEI_Q5] 200 OK (0.000361s, 2770.083/s)
[2022-04-23 02:12:22.77408] [42519] [trace] [hymd5S-TIcXe] GET "/integers/"
[2022-04-23 02:12:22.77427] [42519] [trace] [hymd5S-TIcXe] Routing to a callback
[2022-04-23 02:12:22.77536] [42519] [trace] [hymd5S-TIcXe] 200 OK (0.001269s, 788.022/s)
[2022-04-23 02:12:22.77818] [42519] [trace] [6gK1RwTavZPq] GET "/integers/"
[2022-04-23 02:12:22.77827] [42519] [trace] [6gK1RwTavZPq] Routing to a callback
[2022-04-23 02:12:22.77865] [42519] [trace] [6gK1RwTavZPq] 200 OK (0.000451s, 2217.295/s)
[2022-04-23 02:12:22.78130] [42519] [trace] [noQgqbuwJnUD] GET "/integers/"
[2022-04-23 02:12:22.78149] [42519] [trace] [noQgqbuwJnUD] Routing to a callback
[2022-04-23 02:12:22.78186] [42519] [trace] [noQgqbuwJnUD] 200 OK (0.000567s, 1763.668/s)
[2022-04-23 02:12:22.78420] [42519] [trace] [TkRk6mCfp3cl] GET "/integers/"
[2022-04-23 02:12:22.78441] [42519] [trace] [TkRk6mCfp3cl] Routing to a callback
[2022-04-23 02:12:22.78492] [42519] [trace] [TkRk6mCfp3cl] 200 OK (0.00071s, 1408.451/s)
[2022-04-23 02:12:22.78681] [42519] [trace] [u2qoRm0-bpnr] GET "/integers/"
[2022-04-23 02:12:22.78701] [42519] [trace] [u2qoRm0-bpnr] Routing to a callback
[2022-04-23 02:12:22.78731] [42519] [trace] [u2qoRm0-bpnr] 200 OK (0.000471s, 2123.142/s)
[2022-04-23 02:12:22.78946] [42519] [trace] [i0eMIjjPanGT] GET "/integers/"
[2022-04-23 02:12:22.78967] [42519] [trace] [i0eMIjjPanGT] Routing to a callback
[2022-04-23 02:12:22.79000] [42519] [trace] [i0eMIjjPanGT] 200 OK (0.00053s, 1886.792/s)
[2022-04-23 02:12:22.79223] [42519] [trace] [Om0o0vlyphHH] GET "/integers/"
[2022-04-23 02:12:22.79244] [42519] [trace] [Om0o0vlyphHH] Routing to a callback
[2022-04-23 02:12:22.79276] [42519] [trace] [Om0o0vlyphHH] 200 OK (0.00052s, 1923.077/s)
[2022-04-23 02:12:22.79591] [42519] [trace] [4QOx5BS8G7jq] GET "/integers/"
[2022-04-23 02:12:22.79615] [42519] [trace] [4QOx5BS8G7jq] Routing to a callback
[2022-04-23 02:12:22.79659] [42519] [trace] [4QOx5BS8G7jq] 200 OK (0.000642s, 1557.632/s)
[2022-04-23 02:12:22.79944] [42519] [trace] [hae4nw-v3FLG] GET "/integers/"
[2022-04-23 02:12:22.79965] [42519] [trace] [hae4nw-v3FLG] Routing to a callback
[2022-04-23 02:12:22.80002] [42519] [trace] [hae4nw-v3FLG] 200 OK (0.000569s, 1757.469/s)
t/record_playback_nonblocking.t ........... ok
t/record_playback_normalized.t ............ ok
t/record_playback_proxy.t ................. ok
t/release-cpan-changes.t .................. skipped: these tests are for release candidate testing
t/request_compare/basic.t ................. ok
t/request_compare/ignore_body.t ........... ok
t/request_compare/ignore_headers.t ........ ok
t/request_compare/url.t ................... ok
t/request_compare/usage.t ................. ok
t/scope.t ................................. ok
t/serializer/basic.t ...................... ok
[2022-04-23 02:12:31.83885] [42538] [trace] [3N5g_khKMmiN] GET "/download"
[2022-04-23 02:12:31.83927] [42538] [trace] [3N5g_khKMmiN] Routing to a callback
[2022-04-23 02:12:31.84082] [42538] [trace] [3N5g_khKMmiN] 200 OK (0.001986s, 503.525/s)
t/serializer/binary.t ..................... ok
[2022-04-23 02:12:32.22231] [42539] [trace] [5_Lcu1KvLdO_] GET "/foo"
[2022-04-23 02:12:32.22264] [42539] [trace] [5_Lcu1KvLdO_] Routing to a callback
[2022-04-23 02:12:32.22283] [42539] [trace] [5_Lcu1KvLdO_] 200 OK (0.000538s, 1858.736/s)
t/serializer/events.t ..................... ok
[2022-04-23 02:12:32.59700] [42540] [trace] [9duioLSuxOK3] POST "/target"
[2022-04-23 02:12:32.59726] [42540] [trace] [9duioLSuxOK3] Routing to a callback
[2022-04-23 02:12:32.59765] [42540] [trace] [9duioLSuxOK3] 200 OK (0.000723s, 1383.126/s)
t/serializer/multipart.t .................. ok
[2022-04-23 02:12:33.06027] [42541] [trace] [rA30vstYj58w] GET "/records"
[2022-04-23 02:12:33.06079] [42541] [trace] [rA30vstYj58w] Routing to a callback
[2022-04-23 02:12:33.06115] [42541] [trace] [rA30vstYj58w] 200 OK (0.001861s, 537.346/s)
[2022-04-23 02:12:33.06296] [42541] [trace] [mmhkRfUSPJqn] GET "/record/8675309"
[2022-04-23 02:12:33.06327] [42541] [trace] [mmhkRfUSPJqn] Routing to a callback
[2022-04-23 02:12:33.06358] [42541] [trace] [mmhkRfUSPJqn] 200 OK (0.000607s, 1647.446/s)
t/serializer/simple.t ..................... ok
[2022-04-23 02:12:33.55659] [42542] [trace] [zXvIwGcIBzg1] GET "/records"
[2022-04-23 02:12:33.55716] [42542] [trace] [zXvIwGcIBzg1] Routing to a callback
[2022-04-23 02:12:33.55759] [42542] [trace] [zXvIwGcIBzg1] 200 OK (0.002318s, 431.406/s)
[2022-04-23 02:12:33.55930] [42542] [trace] [1S5AVOeaioXO] GET "/record/8675309"
[2022-04-23 02:12:33.55970] [42542] [trace] [1S5AVOeaioXO] Routing to a callback
[2022-04-23 02:12:33.55999] [42542] [trace] [1S5AVOeaioXO] 200 OK (0.000706s, 1416.431/s)
t/serializer/store_retrieve.t ............. ok
[2022-04-23 02:12:35.86171] [42543] [trace] [f5-0ELI9sPz6] GET "/random"
[2022-04-23 02:12:35.86227] [42543] [trace] [f5-0ELI9sPz6] Routing to a callback
[2022-04-23 02:12:35.86276] [42543] [trace] [f5-0ELI9sPz6] 200 OK (0.001053s, 949.668/s)
[2022-04-23 02:12:35.86526] [42543] [trace] [EbuAHBCQmjbl] GET "/random"
[2022-04-23 02:12:35.86564] [42543] [trace] [EbuAHBCQmjbl] Routing to a callback
[2022-04-23 02:12:35.86603] [42543] [trace] [EbuAHBCQmjbl] 200 OK (0.000742s, 1347.709/s)
[2022-04-23 02:12:35.86887] [42543] [trace] [ljst8Wut3eki] GET "/random"
[2022-04-23 02:12:35.86919] [42543] [trace] [ljst8Wut3eki] Routing to a callback
[2022-04-23 02:12:35.86957] [42543] [trace] [ljst8Wut3eki] 200 OK (0.000689s, 1451.379/s)
[2022-04-23 02:12:35.87185] [42543] [trace] [rXtsaV7EFqIs] GET "/random"
[2022-04-23 02:12:35.87216] [42543] [trace] [rXtsaV7EFqIs] Routing to a callback
[2022-04-23 02:12:35.87254] [42543] [trace] [rXtsaV7EFqIs] 200 OK (0.0007s, 1428.571/s)
[2022-04-23 02:12:35.87539] [42543] [trace] [WUdrWXYux9Tp] GET "/random"
[2022-04-23 02:12:35.87571] [42543] [trace] [WUdrWXYux9Tp] Routing to a callback
[2022-04-23 02:12:35.87609] [42543] [trace] [WUdrWXYux9Tp] 200 OK (0.000697s, 1434.720/s)
[2022-04-23 02:12:35.87830] [42543] [trace] [zLSrDmNE0DyG] GET "/random"
[2022-04-23 02:12:35.87865] [42543] [trace] [zLSrDmNE0DyG] Routing to a callback
[2022-04-23 02:12:35.87907] [42543] [trace] [zLSrDmNE0DyG] 200 OK (0.000777s, 1287.001/s)
[2022-04-23 02:12:35.88230] [42543] [trace] [RlR9fK6ZTU5q] GET "/random"
[2022-04-23 02:12:35.88265] [42543] [trace] [RlR9fK6ZTU5q] Routing to a callback
[2022-04-23 02:12:35.88307] [42543] [trace] [RlR9fK6ZTU5q] 200 OK (0.000747s, 1338.688/s)
[2022-04-23 02:12:35.88626] [42543] [trace] [7w9zzyWBD9u2] GET "/random"
[2022-04-23 02:12:35.88662] [42543] [trace] [7w9zzyWBD9u2] Routing to a callback
[2022-04-23 02:12:35.88704] [42543] [trace] [7w9zzyWBD9u2] 200 OK (0.000725s, 1379.310/s)
[2022-04-23 02:12:35.89022] [42543] [trace] [8tW1fu7gRfMp] GET "/random"
[2022-04-23 02:12:35.89059] [42543] [trace] [8tW1fu7gRfMp] Routing to a callback
[2022-04-23 02:12:35.89101] [42543] [trace] [8tW1fu7gRfMp] 200 OK (0.000731s, 1367.989/s)
[2022-04-23 02:12:35.89366] [42543] [trace] [ShbwOa3xuNmQ] GET "/random"
[2022-04-23 02:12:35.89432] [42543] [trace] [ShbwOa3xuNmQ] Routing to a callback
[2022-04-23 02:12:35.89476] [42543] [trace] [ShbwOa3xuNmQ] 200 OK (0.001424s, 702.247/s)
[2022-04-23 02:12:35.89731] [42543] [trace] [Oi1FVnWTVoXb] GET "/history"
[2022-04-23 02:12:35.89770] [42543] [trace] [Oi1FVnWTVoXb] Routing to a callback
[2022-04-23 02:12:35.89866] [42543] [trace] [Oi1FVnWTVoXb] 200 OK (0.001023s, 977.517/s)
t/session.t ............................... ok
All tests successful.
Files=34, Tests=312, 88 wallclock secs ( 0.05 usr  0.16 sys +  2.45 cusr  8.42 csys = 11.09 CPU)
Result: PASS

------------------------------
PREREQUISITES
------------------------------

Prerequisite modules loaded:

requires:

    Module                             Need  Have    
    ---------------------------------- ----- --------
    Carp                               0     1.50    
    Class::Load                        0     0.25    
    English                            0     1.09    
    JSON::MaybeXS                      0     1.004003
    Mojo::Base                         0     0       
    Mojo::JSON                         0     0       
    Mojo::URL                          0     0       
    Mojo::Util                         0     0       
    Mojolicious                        7.22  9.22    
    Path::Tiny                         0     0.122   
    perl                               5.014 5.022000
    Safe::Isa                          0     1.000010
    Scalar::Util                       0     1.61    
    Try::Tiny                          0     0.31    
    warnings                           0     1.32    
    warnings::register                 0     1.04    

build_requires:

    Module                             Need  Have    
    ---------------------------------- ----- --------
    Array::Compare                     0     3.0.3   
    base                               0     2.22    
    Devel::Hide                        0     0.0015  
    Exporter                           0     5.74    
    ExtUtils::MakeMaker                0     7.64    
    File::Compare                      0     1.1006  
    File::Spec                         0     3.75    
    File::stat                         0     1.07    
    File::Temp                         0     0.2311  
    FindBin                            0     1.52    
    IO::Socket::SSL                    2.009 2.072   
    lib                                0     0.63    
    Module::Util                       0     1.09    
    Mojo::IOLoop                       0     0       
    Mojo::Message::Request             0     0       
    Mojo::Message::Response            0     0       
    Mojo::Parameters                   0     0       
    Mojo::Server::Daemon               0     0       
    Mojo::Transaction::HTTP            0     0       
    Mojo::UserAgent                    0     0       
    Mojolicious::Lite                  0     0       
    Mojolicious::Plugin::BasicAuthPlus 0     0.11.3  
    Pod::Coverage::TrustPod            0     0.100003
    Test::Exception                    0     0.43    
    Test::JSON                         0     0.11    
    Test::Mojo                         0     0       
    Test::Moose                        0     2.2201  
    Test::More                         0     1.302190
    Test::Most                         0     0.37    
    Test::Pod                          0     1.52    
    Test::Pod::Coverage                0     1.10    
    Time::HiRes                        0     1.9764  

configure_requires:

    Module                             Need  Have    
    ---------------------------------- ----- --------
    ExtUtils::MakeMaker                0     7.64    


------------------------------
ENVIRONMENT AND OTHER CONTEXT
------------------------------

Environment variables:

    LC_ALL = de_DE.ISO8859-1
    PATH = /usr/local/bin:/usr/bin:/bin:/usr/local/sbin:/usr/sbin:/sbin:/home/cpansand/bin/freebsd10.3:/home/cpansand/bin/sh:/home/cpansand/bin:/usr/games:/home/cpansand/devel:/home/eserte/src/srezic-misc/scripts
    PERL5LIB = 
    PERL5OPT = 
    PERL5_CPANPLUS_IS_RUNNING = 42184
    PERL5_CPAN_IS_RUNNING = 42184
    PERL5_CPAN_IS_RUNNING_IN_RECURSION = 23757,42184
    PERLDOC = -MPod::Perldoc::ToTextOverstrike
    PERL_BATCH = yes
    PERL_CANARY_STABILITY_NOPROMPT = 1
    PERL_CPAN_REPORTER_CONFIG = /var/tmp/cpansmoker-1023/2022042300/cpanreporter_000_config.ini
    PERL_EXTUTILS_AUTOINSTALL = --defaultdeps
    PERL_USE_UNSAFE_INC = 1
    SHELL = /usr/local/bin/zsh
    TERM = screen
    TMPDIR = /var/tmp/cpansmoker-1023/2022042300

Perl special variables (and OS-specific diagnostics, for MSWin32):

    $^X = /usr/perl5.22.0p/bin/perl
    $UID/$EUID = 1023 / 1023
    $GID = 1023 1023
    $EGID = 1023 1023

Perl module toolchain versions installed:

    Module              Have    
    ------------------- --------
    CPAN                2.34    
    CPAN::Meta          2.150010
    Cwd                 3.75    
    ExtUtils::CBuilder  0.280235
    ExtUtils::Command   7.64    
    ExtUtils::Install   2.20    
    ExtUtils::MakeMaker 7.64    
    ExtUtils::Manifest  1.70    
    ExtUtils::ParseXS   3.35    
    File::Spec          3.75    
    JSON                4.05    
    JSON::PP            4.08    
    Module::Build       0.4229  
    Module::Signature   0.87    
    Parse::CPAN::Meta   2.150010
    Test::Harness       3.44    
    Test::More          1.302190
    YAML                1.30    
    YAML::Syck          1.34    
    version             0.9928  


--

Summary of my perl5 (revision 5 version 22 subversion 0) configuration:
   
  Platform:
    osname=freebsd, osvers=10.1-release, archname=amd64-freebsd
    uname='freebsd cvrsnica-freebsd-101.herceg.de 10.1-release freebsd 10.1-release #0 r274401: tue nov 11 21:02:49 utc 2014 root@releng1.nyi.freebsd.org:usrobjusrsrcsysgeneric amd64 '
    config_args='-ds -e -Dprefix=/usr/perl5.22.0p -Dcf_email=srezic@cpan.org'
    hint=recommended, useposix=true, d_sigaction=define
    useithreads=undef, usemultiplicity=undef
    use64bitint=define, use64bitall=define, uselongdouble=undef
    usemymalloc=n, bincompat5005=undef
  Compiler:
    cc='cc', ccflags ='-DHAS_FPSETMASK -DHAS_FLOATINGPOINT_H -fno-strict-aliasing -pipe -fstack-protector -I/usr/local/include -D_FORTIFY_SOURCE=2',
    optimize='-O',
    cppflags='-DHAS_FPSETMASK -DHAS_FLOATINGPOINT_H -fno-strict-aliasing -pipe -fstack-protector -I/usr/local/include'
    ccversion='', gccversion='4.2.1 Compatible FreeBSD Clang 3.4.1 (tags/RELEASE_34/dot1-final 208032)', gccosandvers=''
    intsize=4, longsize=8, ptrsize=8, doublesize=8, byteorder=12345678, doublekind=3
    d_longlong=define, longlongsize=8, d_longdbl=define, longdblsize=16, longdblkind=3
    ivtype='long', ivsize=8, nvtype='double', nvsize=8, Off_t='off_t', lseeksize=8
    alignbytes=8, prototype=define
  Linker and Libraries:
    ld='cc', ldflags ='-pthread -Wl,-E  -fstack-protector -L/usr/local/lib'
    libpth=/usr/lib /usr/local/lib /usr/include/clang/3.4.1 /usr/lib
    libs=-lpthread -lgdbm -lm -lcrypt -lutil -lc
    perllibs=-lpthread -lm -lcrypt -lutil -lc
    libc=, so=so, useshrplib=false, libperl=libperl.a
    gnulibc_version=''
  Dynamic Linking:
    dlsrc=dl_dlopen.xs, dlext=so, d_dlsymun=undef, ccdlflags=' '
    cccdlflags='-DPIC -fPIC', lddlflags='-shared  -L/usr/local/lib -fstack-protector'


Characteristics of this binary (from libperl): 
  Compile-time options: HAS_TIMES PERLIO_LAYERS PERL_DONT_CREATE_GVSV
                        PERL_HASH_FUNC_ONE_AT_A_TIME_HARD PERL_MALLOC_WRAP
                        PERL_NEW_COPY_ON_WRITE PERL_PRESERVE_IVUV
                        USE_64_BIT_ALL USE_64_BIT_INT USE_LARGE_FILES
                        USE_LOCALE USE_LOCALE_COLLATE USE_LOCALE_CTYPE
                        USE_LOCALE_NUMERIC USE_LOCALE_TIME USE_PERLIO
                        USE_PERL_ATOF
  Built under freebsd
  Compiled at Jun  1 2015 20:19:01
  %ENV:
    PERL5LIB=""
    PERL5OPT=""
    PERL5_CPANPLUS_IS_RUNNING="42184"
    PERL5_CPAN_IS_RUNNING="42184"
    PERL5_CPAN_IS_RUNNING_IN_RECURSION="23757,42184"
    PERLDOC="-MPod::Perldoc::ToTextOverstrike"
    PERL_BATCH="yes"
    PERL_CANARY_STABILITY_NOPROMPT="1"
    PERL_CPAN_REPORTER_CONFIG="/var/tmp/cpansmoker-1023/2022042300/cpanreporter_000_config.ini"
    PERL_EXTUTILS_AUTOINSTALL="--defaultdeps"
    PERL_USE_UNSAFE_INC="1"
  @INC:
    /usr/perl5.22.0p/lib/site_perl/5.22.0/amd64-freebsd
    /usr/perl5.22.0p/lib/site_perl/5.22.0
    /usr/perl5.22.0p/lib/5.22.0/amd64-freebsd
    /usr/perl5.22.0p/lib/5.22.0
    .