Term-Choose_HAE v0.058 Perl 5 v5.26.2 i686-linux
- Status
- Pass
- From
- Nigel Horne
- Dist
-
Term-Choose_HAE v0.058
- Platform
- Perl 5 v5.26.2 i686-linux
- Date
- 2018-11-17 08:39:23
- ID
- 48e2654c-ea44-11e8-afbf-aec3b07506ca
This distribution has been tested as part of the CPAN Testers
project, supporting the Perl programming language. See
http://wiki.cpantesters.org/ for more information or email
questions to cpan-testers-discuss@perl.org
--
Dear Matthaeus Kiem,
This is a computer-generated report for Term-Choose_HAE-0.058
on perl 5.26.2, created by CPAN-Reporter-1.2018.
Thank you for uploading your work to CPAN. Congratulations!
All tests were successful.
Sections of this report:
* Tester comments
* Program output
* Prerequisites
* Environment and other context
------------------------------
TESTER COMMENTS
------------------------------
Additional comments from tester:
this report is from an automated smoke testing program
and was not reviewed by a human for accuracy
------------------------------
PROGRAM OUTPUT
------------------------------
Output from '/usr/bin/make test':
PERL_DL_NONLAZY=1 "/home/njh/perl5/perlbrew/perls/perl-5.26.2/bin/perl" "-MExtUtils::Command::MM" "-MTest::Harness" "-e" "undef *Test::Harness::Switches; test_harness(0, 'blib/lib', 'blib/arch')" t/*/*.t
# Testing Term::Choose_HAE 0.058, Perl 5.026002, /home/njh/perl5/perlbrew/perls/perl-5.26.2/bin/perl
t/00_load/00-load.t .............. ok
stty: 'standard input': Inappropriate ioctl for device
(in cleanup) 256 at /home/njh/.cpan/build/Term-Choose-1.630-0/blib/lib/Term/Choose/Linux.pm line 259.
stty: 'standard input': Inappropriate ioctl for device
(in cleanup) 256 at /home/njh/.cpan/build/Term-Choose-1.630-0/blib/lib/Term/Choose/Linux.pm line 259.
stty: 'standard input': Inappropriate ioctl for device
(in cleanup) 256 at /home/njh/.cpan/build/Term-Choose-1.630-0/blib/lib/Term/Choose/Linux.pm line 259.
stty: 'standard input': Inappropriate ioctl for device
(in cleanup) 256 at /home/njh/.cpan/build/Term-Choose-1.630-0/blib/lib/Term/Choose/Linux.pm line 259.
stty: 'standard input': Inappropriate ioctl for device
(in cleanup) 256 at /home/njh/.cpan/build/Term-Choose-1.630-0/blib/lib/Term/Choose/Linux.pm line 259.
stty: 'standard input': Inappropriate ioctl for device
(in cleanup) 256 at /home/njh/.cpan/build/Term-Choose-1.630-0/blib/lib/Term/Choose/Linux.pm line 259.
stty: 'standard input': Inappropriate ioctl for device
(in cleanup) 256 at /home/njh/.cpan/build/Term-Choose-1.630-0/blib/lib/Term/Choose/Linux.pm line 259.
stty: 'standard input': Inappropriate ioctl for device
(in cleanup) 256 at /home/njh/.cpan/build/Term-Choose-1.630-0/blib/lib/Term/Choose/Linux.pm line 259.
stty: 'standard input': Inappropriate ioctl for device
(in cleanup) 256 at /home/njh/.cpan/build/Term-Choose-1.630-0/blib/lib/Term/Choose/Linux.pm line 259.
stty: 'standard input': Inappropriate ioctl for device
(in cleanup) 256 at /home/njh/.cpan/build/Term-Choose-1.630-0/blib/lib/Term/Choose/Linux.pm line 259.
stty: 'standard input': Inappropriate ioctl for device
(in cleanup) 256 at /home/njh/.cpan/build/Term-Choose-1.630-0/blib/lib/Term/Choose/Linux.pm line 259.
stty: 'standard input': Inappropriate ioctl for device
(in cleanup) 256 at /home/njh/.cpan/build/Term-Choose-1.630-0/blib/lib/Term/Choose/Linux.pm line 259.
stty: 'standard input': Inappropriate ioctl for device
(in cleanup) 256 at /home/njh/.cpan/build/Term-Choose-1.630-0/blib/lib/Term/Choose/Linux.pm line 259.
stty: 'standard input': Inappropriate ioctl for device
(in cleanup) 256 at /home/njh/.cpan/build/Term-Choose-1.630-0/blib/lib/Term/Choose/Linux.pm line 259.
stty: 'standard input': Inappropriate ioctl for device
(in cleanup) 256 at /home/njh/.cpan/build/Term-Choose-1.630-0/blib/lib/Term/Choose/Linux.pm line 259.
stty: 'standard input': Inappropriate ioctl for device
(in cleanup) 256 at /home/njh/.cpan/build/Term-Choose-1.630-0/blib/lib/Term/Choose/Linux.pm line 259.
stty: 'standard input': Inappropriate ioctl for device
(in cleanup) 256 at /home/njh/.cpan/build/Term-Choose-1.630-0/blib/lib/Term/Choose/Linux.pm line 259.
stty: 'standard input': Inappropriate ioctl for device
(in cleanup) 256 at /home/njh/.cpan/build/Term-Choose-1.630-0/blib/lib/Term/Choose/Linux.pm line 259.
stty: 'standard input': Inappropriate ioctl for device
(in cleanup) 256 at /home/njh/.cpan/build/Term-Choose-1.630-0/blib/lib/Term/Choose/Linux.pm line 259.
stty: 'standard input': Inappropriate ioctl for device
(in cleanup) 256 at /home/njh/.cpan/build/Term-Choose-1.630-0/blib/lib/Term/Choose/Linux.pm line 259.
stty: 'standard input': Inappropriate ioctl for device
(in cleanup) 256 at /home/njh/.cpan/build/Term-Choose-1.630-0/blib/lib/Term/Choose/Linux.pm line 259.
stty: 'standard input': Inappropriate ioctl for device
(in cleanup) 256 at /home/njh/.cpan/build/Term-Choose-1.630-0/blib/lib/Term/Choose/Linux.pm line 259.
stty: 'standard input': Inappropriate ioctl for device
(in cleanup) 256 at /home/njh/.cpan/build/Term-Choose-1.630-0/blib/lib/Term/Choose/Linux.pm line 259.
stty: 'standard input': Inappropriate ioctl for device
(in cleanup) 256 at /home/njh/.cpan/build/Term-Choose-1.630-0/blib/lib/Term/Choose/Linux.pm line 259.
stty: 'standard input': Inappropriate ioctl for device
(in cleanup) 256 at /home/njh/.cpan/build/Term-Choose-1.630-0/blib/lib/Term/Choose/Linux.pm line 259.
stty: 'standard input': Inappropriate ioctl for device
(in cleanup) 256 at /home/njh/.cpan/build/Term-Choose-1.630-0/blib/lib/Term/Choose/Linux.pm line 259.
stty: 'standard input': Inappropriate ioctl for device
(in cleanup) 256 at /home/njh/.cpan/build/Term-Choose-1.630-0/blib/lib/Term/Choose/Linux.pm line 259.
stty: 'standard input': Inappropriate ioctl for device
(in cleanup) 256 at /home/njh/.cpan/build/Term-Choose-1.630-0/blib/lib/Term/Choose/Linux.pm line 259.
stty: 'standard input': Inappropriate ioctl for device
(in cleanup) 256 at /home/njh/.cpan/build/Term-Choose-1.630-0/blib/lib/Term/Choose/Linux.pm line 259.
stty: 'standard input': Inappropriate ioctl for device
(in cleanup) 256 at /home/njh/.cpan/build/Term-Choose-1.630-0/blib/lib/Term/Choose/Linux.pm line 259.
stty: 'standard input': Inappropriate ioctl for device
(in cleanup) 256 at /home/njh/.cpan/build/Term-Choose-1.630-0/blib/lib/Term/Choose/Linux.pm line 259.
stty: 'standard input': Inappropriate ioctl for device
(in cleanup) 256 at /home/njh/.cpan/build/Term-Choose-1.630-0/blib/lib/Term/Choose/Linux.pm line 259.
stty: 'standard input': Inappropriate ioctl for device
(in cleanup) 256 at /home/njh/.cpan/build/Term-Choose-1.630-0/blib/lib/Term/Choose/Linux.pm line 259.
stty: 'standard input': Inappropriate ioctl for device
(in cleanup) 256 at /home/njh/.cpan/build/Term-Choose-1.630-0/blib/lib/Term/Choose/Linux.pm line 259.
stty: 'standard input': Inappropriate ioctl for device
(in cleanup) 256 at /home/njh/.cpan/build/Term-Choose-1.630-0/blib/lib/Term/Choose/Linux.pm line 259.
stty: 'standard input': Inappropriate ioctl for device
(in cleanup) 256 at /home/njh/.cpan/build/Term-Choose-1.630-0/blib/lib/Term/Choose/Linux.pm line 259.
stty: 'standard input': Inappropriate ioctl for device
(in cleanup) 256 at /home/njh/.cpan/build/Term-Choose-1.630-0/blib/lib/Term/Choose/Linux.pm line 259.
stty: 'standard input': Inappropriate ioctl for device
(in cleanup) 256 at /home/njh/.cpan/build/Term-Choose-1.630-0/blib/lib/Term/Choose/Linux.pm line 259.
stty: 'standard input': Inappropriate ioctl for device
(in cleanup) 256 at /home/njh/.cpan/build/Term-Choose-1.630-0/blib/lib/Term/Choose/Linux.pm line 259.
stty: 'standard input': Inappropriate ioctl for device
(in cleanup) 256 at /home/njh/.cpan/build/Term-Choose-1.630-0/blib/lib/Term/Choose/Linux.pm line 259.
stty: 'standard input': Inappropriate ioctl for device
(in cleanup) 256 at /home/njh/.cpan/build/Term-Choose-1.630-0/blib/lib/Term/Choose/Linux.pm line 259.
stty: 'standard input': Inappropriate ioctl for device
(in cleanup) 256 at /home/njh/.cpan/build/Term-Choose-1.630-0/blib/lib/Term/Choose/Linux.pm line 259.
stty: 'standard input': Inappropriate ioctl for device
(in cleanup) 256 at /home/njh/.cpan/build/Term-Choose-1.630-0/blib/lib/Term/Choose/Linux.pm line 259.
stty: 'standard input': Inappropriate ioctl for device
(in cleanup) 256 at /home/njh/.cpan/build/Term-Choose-1.630-0/blib/lib/Term/Choose/Linux.pm line 259.
stty: 'standard input': Inappropriate ioctl for device
(in cleanup) 256 at /home/njh/.cpan/build/Term-Choose-1.630-0/blib/lib/Term/Choose/Linux.pm line 259.
stty: 'standard input': Inappropriate ioctl for device
(in cleanup) 256 at /home/njh/.cpan/build/Term-Choose-1.630-0/blib/lib/Term/Choose/Linux.pm line 259.
stty: 'standard input': Inappropriate ioctl for device
(in cleanup) 256 at /home/njh/.cpan/build/Term-Choose-1.630-0/blib/lib/Term/Choose/Linux.pm line 259.
stty: 'standard input': Inappropriate ioctl for device
(in cleanup) 256 at /home/njh/.cpan/build/Term-Choose-1.630-0/blib/lib/Term/Choose/Linux.pm line 259.
stty: 'standard input': Inappropriate ioctl for device
(in cleanup) 256 at /home/njh/.cpan/build/Term-Choose-1.630-0/blib/lib/Term/Choose/Linux.pm line 259.
stty: 'standard input': Inappropriate ioctl for device
(in cleanup) 256 at /home/njh/.cpan/build/Term-Choose-1.630-0/blib/lib/Term/Choose/Linux.pm line 259.
stty: 'standard input': Inappropriate ioctl for device
(in cleanup) 256 at /home/njh/.cpan/build/Term-Choose-1.630-0/blib/lib/Term/Choose/Linux.pm line 259.
stty: 'standard input': Inappropriate ioctl for device
(in cleanup) 256 at /home/njh/.cpan/build/Term-Choose-1.630-0/blib/lib/Term/Choose/Linux.pm line 259.
stty: 'standard input': Inappropriate ioctl for device
(in cleanup) 256 at /home/njh/.cpan/build/Term-Choose-1.630-0/blib/lib/Term/Choose/Linux.pm line 259.
stty: 'standard input': Inappropriate ioctl for device
(in cleanup) 256 at /home/njh/.cpan/build/Term-Choose-1.630-0/blib/lib/Term/Choose/Linux.pm line 259.
stty: 'standard input': Inappropriate ioctl for device
(in cleanup) 256 at /home/njh/.cpan/build/Term-Choose-1.630-0/blib/lib/Term/Choose/Linux.pm line 259.
stty: 'standard input': Inappropriate ioctl for device
(in cleanup) 256 at /home/njh/.cpan/build/Term-Choose-1.630-0/blib/lib/Term/Choose/Linux.pm line 259.
stty: 'standard input': Inappropriate ioctl for device
(in cleanup) 256 at /home/njh/.cpan/build/Term-Choose-1.630-0/blib/lib/Term/Choose/Linux.pm line 259.
stty: 'standard input': Inappropriate ioctl for device
(in cleanup) 256 at /home/njh/.cpan/build/Term-Choose-1.630-0/blib/lib/Term/Choose/Linux.pm line 259.
stty: 'standard input': Inappropriate ioctl for device
(in cleanup) 256 at /home/njh/.cpan/build/Term-Choose-1.630-0/blib/lib/Term/Choose/Linux.pm line 259.
stty: 'standard input': Inappropriate ioctl for device
(in cleanup) 256 at /home/njh/.cpan/build/Term-Choose-1.630-0/blib/lib/Term/Choose/Linux.pm line 259.
stty: 'standard input': Inappropriate ioctl for device
(in cleanup) 256 at /home/njh/.cpan/build/Term-Choose-1.630-0/blib/lib/Term/Choose/Linux.pm line 259.
stty: 'standard input': Inappropriate ioctl for device
(in cleanup) 256 at /home/njh/.cpan/build/Term-Choose-1.630-0/blib/lib/Term/Choose/Linux.pm line 259.
stty: 'standard input': Inappropriate ioctl for device
(in cleanup) 256 at /home/njh/.cpan/build/Term-Choose-1.630-0/blib/lib/Term/Choose/Linux.pm line 259.
stty: 'standard input': Inappropriate ioctl for device
(in cleanup) 256 at /home/njh/.cpan/build/Term-Choose-1.630-0/blib/lib/Term/Choose/Linux.pm line 259.
stty: 'standard input': Inappropriate ioctl for device
(in cleanup) 256 at /home/njh/.cpan/build/Term-Choose-1.630-0/blib/lib/Term/Choose/Linux.pm line 259.
stty: 'standard input': Inappropriate ioctl for device
(in cleanup) 256 at /home/njh/.cpan/build/Term-Choose-1.630-0/blib/lib/Term/Choose/Linux.pm line 259.
stty: 'standard input': Inappropriate ioctl for device
(in cleanup) 256 at /home/njh/.cpan/build/Term-Choose-1.630-0/blib/lib/Term/Choose/Linux.pm line 259.
stty: 'standard input': Inappropriate ioctl for device
(in cleanup) 256 at /home/njh/.cpan/build/Term-Choose-1.630-0/blib/lib/Term/Choose/Linux.pm line 259.
stty: 'standard input': Inappropriate ioctl for device
(in cleanup) 256 at /home/njh/.cpan/build/Term-Choose-1.630-0/blib/lib/Term/Choose/Linux.pm line 259.
stty: 'standard input': Inappropriate ioctl for device
(in cleanup) 256 at /home/njh/.cpan/build/Term-Choose-1.630-0/blib/lib/Term/Choose/Linux.pm line 259.
stty: 'standard input': Inappropriate ioctl for device
(in cleanup) 256 at /home/njh/.cpan/build/Term-Choose-1.630-0/blib/lib/Term/Choose/Linux.pm line 259.
stty: 'standard input': Inappropriate ioctl for device
(in cleanup) 256 at /home/njh/.cpan/build/Term-Choose-1.630-0/blib/lib/Term/Choose/Linux.pm line 259.
stty: 'standard input': Inappropriate ioctl for device
(in cleanup) 256 at /home/njh/.cpan/build/Term-Choose-1.630-0/blib/lib/Term/Choose/Linux.pm line 259.
stty: 'standard input': Inappropriate ioctl for device
(in cleanup) 256 at /home/njh/.cpan/build/Term-Choose-1.630-0/blib/lib/Term/Choose/Linux.pm line 259.
stty: 'standard input': Inappropriate ioctl for device
(in cleanup) 256 at /home/njh/.cpan/build/Term-Choose-1.630-0/blib/lib/Term/Choose/Linux.pm line 259.
stty: 'standard input': Inappropriate ioctl for device
(in cleanup) 256 at /home/njh/.cpan/build/Term-Choose-1.630-0/blib/lib/Term/Choose/Linux.pm line 259.
stty: 'standard input': Inappropriate ioctl for device
(in cleanup) 256 at /home/njh/.cpan/build/Term-Choose-1.630-0/blib/lib/Term/Choose/Linux.pm line 259.
stty: 'standard input': Inappropriate ioctl for device
(in cleanup) 256 at /home/njh/.cpan/build/Term-Choose-1.630-0/blib/lib/Term/Choose/Linux.pm line 259.
stty: 'standard input': Inappropriate ioctl for device
(in cleanup) 256 at /home/njh/.cpan/build/Term-Choose-1.630-0/blib/lib/Term/Choose/Linux.pm line 259.
stty: 'standard input': Inappropriate ioctl for device
(in cleanup) 256 at /home/njh/.cpan/build/Term-Choose-1.630-0/blib/lib/Term/Choose/Linux.pm line 259.
stty: 'standard input': Inappropriate ioctl for device
(in cleanup) 256 at /home/njh/.cpan/build/Term-Choose-1.630-0/blib/lib/Term/Choose/Linux.pm line 259.
stty: 'standard input': Inappropriate ioctl for device
(in cleanup) 256 at /home/njh/.cpan/build/Term-Choose-1.630-0/blib/lib/Term/Choose/Linux.pm line 259.
stty: 'standard input': Inappropriate ioctl for device
(in cleanup) 256 at /home/njh/.cpan/build/Term-Choose-1.630-0/blib/lib/Term/Choose/Linux.pm line 259.
stty: 'standard input': Inappropriate ioctl for device
(in cleanup) 256 at /home/njh/.cpan/build/Term-Choose-1.630-0/blib/lib/Term/Choose/Linux.pm line 259.
stty: 'standard input': Inappropriate ioctl for device
(in cleanup) 256 at /home/njh/.cpan/build/Term-Choose-1.630-0/blib/lib/Term/Choose/Linux.pm line 259.
stty: 'standard input': Inappropriate ioctl for device
(in cleanup) 256 at /home/njh/.cpan/build/Term-Choose-1.630-0/blib/lib/Term/Choose/Linux.pm line 259.
stty: 'standard input': Inappropriate ioctl for device
(in cleanup) 256 at /home/njh/.cpan/build/Term-Choose-1.630-0/blib/lib/Term/Choose/Linux.pm line 259.
stty: 'standard input': Inappropriate ioctl for device
(in cleanup) 256 at /home/njh/.cpan/build/Term-Choose-1.630-0/blib/lib/Term/Choose/Linux.pm line 259.
stty: 'standard input': Inappropriate ioctl for device
(in cleanup) 256 at /home/njh/.cpan/build/Term-Choose-1.630-0/blib/lib/Term/Choose/Linux.pm line 259.
stty: 'standard input': Inappropriate ioctl for device
(in cleanup) 256 at /home/njh/.cpan/build/Term-Choose-1.630-0/blib/lib/Term/Choose/Linux.pm line 259.
stty: 'standard input': Inappropriate ioctl for device
(in cleanup) 256 at /home/njh/.cpan/build/Term-Choose-1.630-0/blib/lib/Term/Choose/Linux.pm line 259.
stty: 'standard input': Inappropriate ioctl for device
(in cleanup) 256 at /home/njh/.cpan/build/Term-Choose-1.630-0/blib/lib/Term/Choose/Linux.pm line 259.
stty: 'standard input': Inappropriate ioctl for device
(in cleanup) 256 at /home/njh/.cpan/build/Term-Choose-1.630-0/blib/lib/Term/Choose/Linux.pm line 259.
stty: 'standard input': Inappropriate ioctl for device
(in cleanup) 256 at /home/njh/.cpan/build/Term-Choose-1.630-0/blib/lib/Term/Choose/Linux.pm line 259.
stty: 'standard input': Inappropriate ioctl for device
(in cleanup) 256 at /home/njh/.cpan/build/Term-Choose-1.630-0/blib/lib/Term/Choose/Linux.pm line 259.
stty: 'standard input': Inappropriate ioctl for device
(in cleanup) 256 at /home/njh/.cpan/build/Term-Choose-1.630-0/blib/lib/Term/Choose/Linux.pm line 259.
stty: 'standard input': Inappropriate ioctl for device
(in cleanup) 256 at /home/njh/.cpan/build/Term-Choose-1.630-0/blib/lib/Term/Choose/Linux.pm line 259.
stty: 'standard input': Inappropriate ioctl for device
(in cleanup) 256 at /home/njh/.cpan/build/Term-Choose-1.630-0/blib/lib/Term/Choose/Linux.pm line 259.
stty: 'standard input': Inappropriate ioctl for device
(in cleanup) 256 at /home/njh/.cpan/build/Term-Choose-1.630-0/blib/lib/Term/Choose/Linux.pm line 259.
stty: 'standard input': Inappropriate ioctl for device
(in cleanup) 256 at /home/njh/.cpan/build/Term-Choose-1.630-0/blib/lib/Term/Choose/Linux.pm line 259.
stty: 'standard input': Inappropriate ioctl for device
(in cleanup) 256 at /home/njh/.cpan/build/Term-Choose-1.630-0/blib/lib/Term/Choose/Linux.pm line 259.
stty: 'standard input': Inappropriate ioctl for device
(in cleanup) 256 at /home/njh/.cpan/build/Term-Choose-1.630-0/blib/lib/Term/Choose/Linux.pm line 259.
stty: 'standard input': Inappropriate ioctl for device
(in cleanup) 256 at /home/njh/.cpan/build/Term-Choose-1.630-0/blib/lib/Term/Choose/Linux.pm line 259.
stty: 'standard input': Inappropriate ioctl for device
(in cleanup) 256 at /home/njh/.cpan/build/Term-Choose-1.630-0/blib/lib/Term/Choose/Linux.pm line 259.
stty: 'standard input': Inappropriate ioctl for device
(in cleanup) 256 at /home/njh/.cpan/build/Term-Choose-1.630-0/blib/lib/Term/Choose/Linux.pm line 259.
stty: 'standard input': Inappropriate ioctl for device
(in cleanup) 256 at /home/njh/.cpan/build/Term-Choose-1.630-0/blib/lib/Term/Choose/Linux.pm line 259.
stty: 'standard input': Inappropriate ioctl for device
(in cleanup) 256 at /home/njh/.cpan/build/Term-Choose-1.630-0/blib/lib/Term/Choose/Linux.pm line 259.
stty: 'standard input': Inappropriate ioctl for device
(in cleanup) 256 at /home/njh/.cpan/build/Term-Choose-1.630-0/blib/lib/Term/Choose/Linux.pm line 259.
stty: 'standard input': Inappropriate ioctl for device
(in cleanup) 256 at /home/njh/.cpan/build/Term-Choose-1.630-0/blib/lib/Term/Choose/Linux.pm line 259.
stty: 'standard input': Inappropriate ioctl for device
(in cleanup) 256 at /home/njh/.cpan/build/Term-Choose-1.630-0/blib/lib/Term/Choose/Linux.pm line 259.
stty: 'standard input': Inappropriate ioctl for device
(in cleanup) 256 at /home/njh/.cpan/build/Term-Choose-1.630-0/blib/lib/Term/Choose/Linux.pm line 259.
stty: 'standard input': Inappropriate ioctl for device
(in cleanup) 256 at /home/njh/.cpan/build/Term-Choose-1.630-0/blib/lib/Term/Choose/Linux.pm line 259.
t/01_arguments/01_new.t .......... ok
t/01_arguments/01_new_invalid.t .. ok
All tests successful.
Files=3, Tests=358, 1 wallclock secs ( 0.08 usr 0.00 sys + 0.40 cusr 0.06 csys = 0.54 CPU)
Result: PASS
------------------------------
PREREQUISITES
------------------------------
Prerequisite modules loaded:
requires:
Module Need Have
----------------------- -------- --------
Carp 0 1.42
Exporter 0 5.72
if 0 0.0606
parent 0 0.236
perl 5.010001 5.026002
strict 0 1.11
Term::Choose 1.630 1.630
Term::Choose::Constants 1.630 1.630
Term::Choose::LineFold 1.630 1.630
Term::Choose::Linux 1.630 1.630
warnings 0 1.37
build_requires:
Module Need Have
----------------------- -------- --------
File::Spec::Functions 0 3.74
FindBin 0 1.51
lib 0 0.64
Test::Fatal 0 0.014
Test::More 0 1.302073
configure_requires:
Module Need Have
----------------------- -------- --------
ExtUtils::MakeMaker 0 7.34
------------------------------
ENVIRONMENT AND OTHER CONTEXT
------------------------------
Environment variables:
AUTOMATED_TESTING = 1
HARNESS_OPTIONS = j2
LANG = en_US.UTF-8
PATH = /home/njh/perl5/perlbrew/bin:/home/njh/perl5/perlbrew/perls/perl-5.26.2/bin:/usr/bin:/bin:/home/njh/src/njh/smoker/bin
PERL5LIB = /home/njh/.cpan/build/Term-Choose-1.630-0/blib/arch:/home/njh/.cpan/build/Term-Choose-1.630-0/blib/lib
PERL5OPT =
PERL5_CPANPLUS_IS_RUNNING = 29827
PERL5_CPAN_IS_RUNNING = 29827
PERLBREW_HOME = /home/njh/.perlbrew
PERLBREW_MANPATH = /home/njh/perl5/perlbrew/perls/perl-5.26.2/man
PERLBREW_PATH = /home/njh/perl5/perlbrew/bin:/home/njh/perl5/perlbrew/perls/perl-5.26.2/bin
PERLBREW_PERL = perl-5.26.2
PERLBREW_ROOT = /home/njh/perl5/perlbrew
PERLBREW_SHELLRC_VERSION = 0.84
PERLBREW_VERSION = 0.84
PERL_USE_UNSAFE_INC = 1
SHELL = /bin/sh
TEMP = /tmp/user/1000
TMPDIR = /tmp/user/1000/testwrapper.29813
Perl special variables (and OS-specific diagnostics, for MSWin32):
$^X = /home/njh/perl5/perlbrew/perls/perl-5.26.2/bin/perl
$UID/$EUID = 1000 / 1000
$GID = 1000 4 24 25 29 30 44 46 108 1000
$EGID = 1000 4 24 25 29 30 44 46 108 1000
Perl module toolchain versions installed:
Module Have
------------------- ----------
CPAN 2.18
CPAN::Meta 2.150010
Cwd 3.74
ExtUtils::CBuilder 0.280225
ExtUtils::Command 7.34
ExtUtils::Install 2.06
ExtUtils::MakeMaker 7.34
ExtUtils::Manifest 1.70
ExtUtils::ParseXS 3.34
File::Spec 3.74
JSON 2.97001
JSON::PP 2.27400_02
Module::Build 0.4224
Module::Signature n/a
Parse::CPAN::Meta 2.150010
Test::Harness 3.38
Test::More 1.302073
YAML 1.26
YAML::Syck 1.30
version 0.9917
--
Summary of my perl5 (revision 5 version 26 subversion 2) configuration:
Platform:
osname=linux
osvers=4.3.0-1-686-pae
archname=i686-linux
uname='linux zack 4.3.0-1-686-pae #1 smp debian 4.3.5-1 (2016-02-06) i686 gnulinux '
config_args='-de -Dprefix=/home/njh/perl5/perlbrew/perls/perl-5.26.2 -Aeval:scriptdir=/home/njh/perl5/perlbrew/perls/perl-5.26.2/bin'
hint=recommended
useposix=true
d_sigaction=define
useithreads=undef
usemultiplicity=undef
use64bitint=undef
use64bitall=undef
uselongdouble=undef
usemymalloc=n
default_inc_excludes_dot=define
bincompat5005=undef
Compiler:
cc='cc'
ccflags ='-fwrapv -fno-strict-aliasing -pipe -fstack-protector-strong -I/usr/local/include -D_LARGEFILE_SOURCE -D_FILE_OFFSET_BITS=64 -D_FORTIFY_SOURCE=2'
optimize='-O2'
cppflags='-fwrapv -fno-strict-aliasing -pipe -fstack-protector-strong -I/usr/local/include'
ccversion=''
gccversion='7.3.0'
gccosandvers=''
intsize=4
longsize=4
ptrsize=4
doublesize=8
byteorder=1234
doublekind=3
d_longlong=define
longlongsize=8
d_longdbl=define
longdblsize=12
longdblkind=3
ivtype='long'
ivsize=4
nvtype='double'
nvsize=8
Off_t='off_t'
lseeksize=8
alignbytes=4
prototype=define
Linker and Libraries:
ld='cc'
ldflags =' -fstack-protector-strong -L/usr/local/lib'
libpth=/usr/local/lib /usr/lib/gcc/i686-linux-gnu/7/include-fixed /usr/include/i386-linux-gnu /usr/lib /lib/i386-linux-gnu /lib/../lib /usr/lib/i386-linux-gnu /usr/lib/../lib /lib /lib64 /usr/lib64
libs=-lpthread -lnsl -lgdbm -ldb -ldl -lm -lcrypt -lutil -lc
perllibs=-lpthread -lnsl -ldl -lm -lcrypt -lutil -lc
libc=libc-2.27.so
so=so
useshrplib=false
libperl=libperl.a
gnulibc_version='2.27'
Dynamic Linking:
dlsrc=dl_dlopen.xs
dlext=so
d_dlsymun=undef
ccdlflags='-Wl,-E'
cccdlflags='-fPIC'
lddlflags='-shared -O2 -L/usr/local/lib -fstack-protector-strong'
Characteristics of this binary (from libperl):
Compile-time options:
HAS_TIMES
PERLIO_LAYERS
PERL_COPY_ON_WRITE
PERL_DONT_CREATE_GVSV
PERL_HASH_FUNC_ONE_AT_A_TIME_HARD
PERL_MALLOC_WRAP
PERL_OP_PARENT
PERL_PRESERVE_IVUV
USE_LARGE_FILES
USE_LOCALE
USE_LOCALE_COLLATE
USE_LOCALE_CTYPE
USE_LOCALE_NUMERIC
USE_LOCALE_TIME
USE_PERLIO
USE_PERL_ATOF
Locally applied patches:
Devel::PatchPerl 1.38
Built under linux
Compiled at Apr 24 2018 00:38:40
%ENV:
PERL5LIB="/home/njh/.cpan/build/Term-Choose-1.630-0/blib/arch:/home/njh/.cpan/build/Term-Choose-1.630-0/blib/lib"
PERL5OPT=""
PERL5_CPANPLUS_IS_RUNNING="29827"
PERL5_CPAN_IS_RUNNING="29827"
PERLBREW_HOME="/home/njh/.perlbrew"
PERLBREW_MANPATH="/home/njh/perl5/perlbrew/perls/perl-5.26.2/man"
PERLBREW_PATH="/home/njh/perl5/perlbrew/bin:/home/njh/perl5/perlbrew/perls/perl-5.26.2/bin"
PERLBREW_PERL="perl-5.26.2"
PERLBREW_ROOT="/home/njh/perl5/perlbrew"
PERLBREW_SHELLRC_VERSION="0.84"
PERLBREW_VERSION="0.84"
PERL_USE_UNSAFE_INC="1"
@INC:
/home/njh/.cpan/build/Term-Choose-1.630-0/blib/arch
/home/njh/.cpan/build/Term-Choose-1.630-0/blib/lib
/home/njh/perl5/perlbrew/perls/perl-5.26.2/lib/site_perl/5.26.2/i686-linux
/home/njh/perl5/perlbrew/perls/perl-5.26.2/lib/site_perl/5.26.2
/home/njh/perl5/perlbrew/perls/perl-5.26.2/lib/5.26.2/i686-linux
/home/njh/perl5/perlbrew/perls/perl-5.26.2/lib/5.26.2
.